Net-RabbitMQ v0.1.5 Perl 5 v5.13.0 darwin-thread-multi-64int-2level

Status
Pass
From
Chris Williams (BINGOS)
Dist
Net-RabbitMQ v0.1.5
Platform
Perl 5 v5.13.0 darwin-thread-multi-64int-2level
Date
2010-07-18T07:36:11
ID
232bd236-923f-11df-a1aa-55996e8696e0
This distribution has been tested as part of the CPAN Testers
project, supporting the Perl programming language.  See
http://wiki.cpantesters.org/ for more information or email
questions to cpan-testers-discuss@perl.org


--

Dear Theo Schlossnagle,
    
This is a computer-generated error report created automatically by
CPANPLUS, version 0.9006. Testers personal comments may appear 
at the end of this report.

MAKE TEST passed: PERL_DL_NONLAZY=1 /Volumes/Media/smoke/rel/perl-5.13.0/bin/perl5.13.0 "-MExtUtils::Command::MM" "-e" "test_harness(0, 'blib/lib', 'blib/arch')" t/*.t
t/001_declare_exchange.t .. ok
t/002_publish.t ........... ok
t/003_consume.t ........... ok
t/004_selfconsume.t ....... ok
t/005_noack.t ............. ok
t/006_txn.t ............... ok
t/007_get.t ............... ok
t/008_queue_declare.t ..... ok
All tests successful.
Files=8, Tests=77, 22 wallclock secs ( 0.40 usr  0.19 sys +  2.02 cusr  0.50 csys =  3.11 CPU)
Result: PASS

[MSG] [Sun Jul 18 08:39:11 2010] Sending test report for 'Net-RabbitMQ-0.1.5'

This report was machine-generated by CPANPLUS::Dist::YACSmoke 0.58.
Powered by minismokebox version 0.26

------------------------------
ENVIRONMENT AND OTHER CONTEXT
------------------------------

Environment variables:

    AUTOMATED_TESTING = 1
    PATH = /bin:/sbin:/usr/bin:/usr/sbin:/usr/local/bin:/usr/local/sbin
    PERL5LIB = :/Volumes/Media/smoke/rel/conf/perl-5.13.0/.cpanplus/5.13.0/build/Net-RabbitMQ-0.1.5/blib/lib:/Volumes/Media/smoke/rel/conf/perl-5.13.0/.cpanplus/5.13.0/build/Net-RabbitMQ-0.1.5/blib/arch
    PERL5_CPANPLUS_IS_RUNNING = 23467
    PERL5_CPANPLUS_IS_VERSION = 0.9006
    PERL5_MINISMOKEBOX = 0.26
    PERL5_YACSMOKE_BASE = /Volumes/Media/smoke/rel/conf/perl-5.13.0
    PERL_EXTUTILS_AUTOINSTALL = --defaultdeps
    PERL_MM_USE_DEFAULT = 1
    SHELL = /bin/bash
    TERM = screen

Perl special variables (and OS-specific diagnostics, for MSWin32):

    Perl: $^X = /Volumes/Media/smoke/rel/perl-5.13.0/bin/perl5.13.0
    UID:  $<  = 502
    EUID: $>  = 502
    GID:  $(  = 502 502
    EGID: $)  = 502 502


-------------------------------


--

Summary of my perl5 (revision 5 version 13 subversion 0) configuration:
   
  Platform:
    osname=darwin, osvers=8.11.0, archname=darwin-thread-multi-64int-2level
    uname='darwin afalglas.bingosnet.co.uk 8.11.0 darwin kernel version 8.11.0: wed oct 10 18:26:00 pdt 2007; root:xnu-792.24.17~1release_ppc power macintosh powerpc '
    config_args='-des -Dusedevel -Dprefix=/Volumes/Media/smoke/rel/perl-5.13.0 -Dusethreads -Duse64bitint'
    hint=recommended, useposix=true, d_sigaction=define
    useithreads=define, usemultiplicity=define
    useperlio=define, d_sfio=undef, uselargefiles=define, usesocks=undef
    use64bitint=define, use64bitall=undef, uselongdouble=undef
    usemymalloc=n, bincompat5005=undef
  Compiler:
    cc='cc', ccflags ='-fno-common -DPERL_DARWIN -no-cpp-precomp -fno-strict-aliasing -pipe -I/usr/local/include',
    optimize='-O3',
    cppflags='-no-cpp-precomp -fno-common -DPERL_DARWIN -no-cpp-precomp -fno-strict-aliasing -pipe -I/usr/local/include'
    ccversion='', gccversion='4.0.1 (Apple Computer, Inc. build 5367)', gccosandvers=''
    intsize=4, longsize=4, ptrsize=4, doublesize=8, byteorder=87654321
    d_longlong=define, longlongsize=8, d_longdbl=define, longdblsize=16
    ivtype='long long', ivsize=8, nvtype='double', nvsize=8, Off_t='off_t', lseeksize=8
    alignbytes=8, prototype=define
  Linker and Libraries:
    ld='env MACOSX_DEPLOYMENT_TARGET=10.3 cc', ldflags =' -L/usr/local/lib'
    libpth=/usr/local/lib /usr/lib
    libs=-ldbm -ldl -lm -lc
    perllibs=-ldl -lm -lc
    libc=/usr/lib/libc.dylib, so=dylib, useshrplib=false, libperl=libperl.a
    gnulibc_version=''
  Dynamic Linking:
    dlsrc=dl_dlopen.xs, dlext=bundle, d_dlsymun=undef, ccdlflags=' '
    cccdlflags=' ', lddlflags=' -bundle -undefined dynamic_lookup -L/usr/local/lib'


Characteristics of this binary (from libperl): 
  Compile-time options: MULTIPLICITY PERL_DONT_CREATE_GVSV
                        PERL_IMPLICIT_CONTEXT PERL_MALLOC_WRAP PERL_USE_DEVEL
                        USE_64_BIT_INT USE_ITHREADS USE_LARGE_FILES
                        USE_PERLIO USE_PERL_ATOF USE_REENTRANT_API
  Built under darwin
  Compiled at May  4 2010 08:57:43
  %ENV:
    PERL5LIB=":/Volumes/Media/smoke/rel/conf/perl-5.13.0/.cpanplus/5.13.0/build/Net-RabbitMQ-0.1.5/blib/lib:/Volumes/Media/smoke/rel/conf/perl-5.13.0/.cpanplus/5.13.0/build/Net-RabbitMQ-0.1.5/blib/arch"
    PERL5_CPANPLUS_IS_RUNNING="23467"
    PERL5_CPANPLUS_IS_VERSION="0.9006"
    PERL5_MINISMOKEBOX="0.26"
    PERL5_YACSMOKE_BASE="/Volumes/Media/smoke/rel/conf/perl-5.13.0"
    PERL_EXTUTILS_AUTOINSTALL="--defaultdeps"
    PERL_MM_USE_DEFAULT="1"
  @INC:
    /Volumes/Media/smoke/rel/conf/perl-5.13.0/.cpanplus/5.13.0/build/Net-RabbitMQ-0.1.5/blib/lib
    /Volumes/Media/smoke/rel/conf/perl-5.13.0/.cpanplus/5.13.0/build/Net-RabbitMQ-0.1.5/blib/arch
    /Volumes/Media/smoke/rel/perl-5.13.0/lib/site_perl/5.13.0/darwin-thread-multi-64int-2level
    /Volumes/Media/smoke/rel/perl-5.13.0/lib/site_perl/5.13.0
    /Volumes/Media/smoke/rel/perl-5.13.0/lib/5.13.0/darwin-thread-multi-64int-2level
    /Volumes/Media/smoke/rel/perl-5.13.0/lib/5.13.0
    .