Report for Sys-SigAction-0.23

Back
From: metabase:user:86197bc8-b3bc-11e6-993c-e300c7189ff7
Subject: PASS Sys-SigAction-0.23 v5.24.0 GNU/Linux
Date: 2016-12-01T06:33:58Z

This distribution has been tested as part of the CPAN Testers
project, supporting the Perl programming language.  See
http://wiki.cpantesters.org/ for more information or email
questions to cpan-testers-discuss@perl.org


--
Dear Lincoln A Baxter,

This is a computer-generated report for Sys-SigAction-0.23
on perl 5.24.0, created by CPAN-Reporter-1.2018.

Thank you for uploading your work to CPAN.  Congratulations!
All tests were successful.

Sections of this report:

    * Tester comments
    * Program output
    * Prerequisites
    * Environment and other context

------------------------------
TESTER COMMENTS
------------------------------

Additional comments from tester:

this report is from an automated smoke testing program
and was not reviewed by a human for accuracy

------------------------------
PROGRAM OUTPUT
------------------------------

Output from '/usr/bin/make test':

PERL_DL_NONLAZY=1 "/home/cpan-tester/perl5/perlbrew/perls/perl-5.24.0-thread-multi-O3/bin/perl" "-MExtUtils::Command::MM" "-MTest::Harness" "-e" "undef *Test::Harness::Switches; test_harness(0, 'blib/lib', 'blib/arch')" t/*.t
t/alternatives.t ...... ok
t/inline_nested.t ..... ok
t/mask.t .............. ok
t/name.t .............. ok
t/number.t ............ ok
t/recursive_nested.t .. ok

         
     NOTE: Setting safe=>1... with masked signals does not seem to work.
     The problem is that the masked signals are not masked when safe=>1.
     When safe=>0 they are.  

     If you have an application for safe=>1 and can come up with a patch
     for this module that gets this test working, or a patch to the test
     that shows how to fix it, please send it to me. 

     See the block below this one... which if executed would test safe mode
     with masked signals... it is a clone of part of mask.t that proves this
     is broken.

     This test can be executed from the command line as follows:

         SAFE_T=1 perl -Ilib t/safe.t

     Lincoln

     

t/safe.t .............. ok
# delta time was 0.100299, timer was for 0.1 secconds
t/timeout.t ........... ok
All tests successful.
Files=8, Tests=87,  9 wallclock secs ( 0.04 usr  0.01 sys +  0.41 cusr  0.04 csys =  0.50 CPU)
Result: PASS

------------------------------
PREREQUISITES
------------------------------

Prerequisite modules loaded:

requires:

    Module              Need     Have    
    ------------------- -------- --------
    perl                5.006000 5.024000
    POSIX               0        1.65    
    Test::More          0        1.302067

build_requires:

    Module              Need     Have    
    ------------------- -------- --------
    ExtUtils::MakeMaker 0        7.10_01 

configure_requires:

    Module              Need     Have    
    ------------------- -------- --------
    ExtUtils::MakeMaker 0        7.10_01 


------------------------------
ENVIRONMENT AND OTHER CONTEXT
------------------------------

Environment variables:

    AUTOMATED_TESTING = 1
    LANG = en_US.UTF-8
    PATH = /home/cpan-tester/perl5/perlbrew/bin:/home/cpan-tester/perl5/perlbrew/perls/perl-5.24.0-thread-multi-O3/bin:/home/cpan-tester/bin:/home/cpan-tester/doc:/home/cpan-tester/symlinks:/home/cpan-tester/perl5/bin:/usr/local/bin:/usr/bin:/bin:/usr/local/games:/usr/games
    PERL5LIB = /home/cpan-tester/perl5/lib/perl5
    PERL5OPT = 
    PERL5_CPANPLUS_IS_RUNNING = 20755
    PERL5_CPAN_IS_RUNNING = 20755
    PERL5_CPAN_IS_RUNNING_IN_RECURSION = 9349,20755
    PERLBREW_LIB = 
    PERLBREW_MANPATH = /home/cpan-tester/perl5/perlbrew/perls/perl-5.24.0-thread-multi-O3/man
    PERLBREW_PATH = /home/cpan-tester/perl5/perlbrew/bin:/home/cpan-tester/perl5/perlbrew/perls/perl-5.24.0-thread-multi-O3/bin
    PERLBREW_PERL = perl-5.24.0-thread-multi-O3
    PERLBREW_ROOT = /home/cpan-tester/perl5/perlbrew
    PERLBREW_VERSION = 0.78
    PERL_CR_SMOKER_CURRENT = DiaColloDB-0.11.002
    PERL_EXTUTILS_AUTOINSTALL = --defaultdeps
    PERL_LOCAL_LIB_ROOT = /home/cpan-tester/perl5
    PERL_MB_OPT = --install_base "/home/cpan-tester/perl5"
    PERL_MM_OPT = INSTALL_BASE=/home/cpan-tester/perl5
    PERL_MM_USE_DEFAULT = 1
    SHELL = /bin/bash
    TERM = screen

Perl special variables (and OS-specific diagnostics, for MSWin32):

    $^X = /home/cpan-tester/perl5/perlbrew/perls/perl-5.24.0-thread-multi-O3/bin/perl
    $UID/$EUID = 1001 / 1001
    $GID = 1001 1001
    $EGID = 1001 1001

Perl module toolchain versions installed:

    Module              Have    
    ------------------- --------
    CPAN                2.14    
    CPAN::Meta          2.150005
    Cwd                 3.63    
    ExtUtils::CBuilder  0.280225
    ExtUtils::Command   7.10    
    ExtUtils::Install   2.04    
    ExtUtils::MakeMaker 7.10_01 
    ExtUtils::Manifest  1.70    
    ExtUtils::ParseXS   3.31    
    File::Spec          3.63    
    JSON                2.90    
    JSON::PP            2.27300 
    Module::Build       0.4220  
    Module::Signature   n/a     
    Parse::CPAN::Meta   1.4417  
    Test::Harness       3.36    
    Test::More          1.302067
    YAML                1.19_001
    YAML::Syck          n/a     
    version             0.9916  


--

Summary of my perl5 (revision 5 version 24 subversion 0) configuration:
   
  Platform:
    osname=linux, osvers=3.16.0-4-amd64, archname=x86_64-linux-thread-multi
    uname='linux vps345806.ovh.net 3.16.0-4-amd64 #1 smp debian 3.16.36-1+deb8u2 (2016-10-19) x86_64 gnulinux '
    config_args='-de -Dprefix=/home/cpan-tester/perl5/perlbrew/perls/perl-5.24.0-thread-multi-O3 -Doptimize=-O3 -Dusemultiplicity -Dusethreads -Aeval:scriptdir=/home/cpan-tester/perl5/perlbrew/perls/perl-5.24.0-thread-multi-O3/bin'
    hint=recommended, useposix=true, d_sigaction=define
    useithreads=define, usemultiplicity=define
    use64bitint=define, use64bitall=define, uselongdouble=undef
    usemymalloc=n, bincompat5005=undef
  Compiler:
    cc='cc', ccflags ='-D_REENTRANT -D_GNU_SOURCE -fwrapv -fno-strict-aliasing -pipe -fstack-protector-strong -I/usr/local/include -D_LARGEFILE_SOURCE -D_FILE_OFFSET_BITS=64 -D_FORTIFY_SOURCE=2',
    optimize='-O3',
    cppflags='-D_REENTRANT -D_GNU_SOURCE -fwrapv -fno-strict-aliasing -pipe -fstack-protector-strong -I/usr/local/include'
    ccversion='', gccversion='4.9.2', gccosandvers=''
    intsize=4, longsize=8, ptrsize=8, doublesize=8, byteorder=12345678, doublekind=3
    d_longlong=define, longlongsize=8, d_longdbl=define, longdblsize=16, longdblkind=3
    ivtype='long', ivsize=8, nvtype='double', nvsize=8, Off_t='off_t', lseeksize=8
    alignbytes=8, prototype=define
  Linker and Libraries:
    ld='cc', ldflags =' -fstack-protector-strong -L/usr/local/lib'
    libpth=/usr/local/lib /usr/lib/gcc/x86_64-linux-gnu/4.9/include-fixed /usr/include/x86_64-linux-gnu /usr/lib /lib/x86_64-linux-gnu /lib/../lib /usr/lib/x86_64-linux-gnu /usr/lib/../lib /lib
    libs=-lpthread -lnsl -ldl -lm -lcrypt -lutil -lc
    perllibs=-lpthread -lnsl -ldl -lm -lcrypt -lutil -lc
    libc=libc-2.19.so, so=so, useshrplib=false, libperl=libperl.a
    gnulibc_version='2.19'
  Dynamic Linking:
    dlsrc=dl_dlopen.xs, dlext=so, d_dlsymun=undef, ccdlflags='-Wl,-E'
    cccdlflags='-fPIC', lddlflags='-shared -O3 -L/usr/local/lib -fstack-protector-strong'


Characteristics of this binary (from libperl): 
  Compile-time options: HAS_TIMES MULTIPLICITY PERLIO_LAYERS
                        PERL_COPY_ON_WRITE PERL_DONT_CREATE_GVSV
                        PERL_HASH_FUNC_ONE_AT_A_TIME_HARD
                        PERL_IMPLICIT_CONTEXT PERL_MALLOC_WRAP
                        PERL_PRESERVE_IVUV USE_64_BIT_ALL USE_64_BIT_INT
                        USE_ITHREADS USE_LARGE_FILES USE_LOCALE
                        USE_LOCALE_COLLATE USE_LOCALE_CTYPE
                        USE_LOCALE_NUMERIC USE_LOCALE_TIME USE_PERLIO
                        USE_PERL_ATOF USE_REENTRANT_API
  Locally applied patches:
	Devel::PatchPerl 1.38
  Built under linux
  Compiled at Nov 26 2016 10:25:27
  %ENV:
    PERL5LIB="/home/cpan-tester/perl5/lib/perl5"
    PERL5OPT=""
    PERL5_CPANPLUS_IS_RUNNING="20755"
    PERL5_CPAN_IS_RUNNING="20755"
    PERL5_CPAN_IS_RUNNING_IN_RECURSION="9349,20755"
    PERLBREW_LIB=""
    PERLBREW_MANPATH="/home/cpan-tester/perl5/perlbrew/perls/perl-5.24.0-thread-multi-O3/man"
    PERLBREW_PATH="/home/cpan-tester/perl5/perlbrew/bin:/home/cpan-tester/perl5/perlbrew/perls/perl-5.24.0-thread-multi-O3/bin"
    PERLBREW_PERL="perl-5.24.0-thread-multi-O3"
    PERLBREW_ROOT="/home/cpan-tester/perl5/perlbrew"
    PERLBREW_VERSION="0.78"
    PERL_CR_SMOKER_CURRENT="DiaColloDB-0.11.002"
    PERL_EXTUTILS_AUTOINSTALL="--defaultdeps"
    PERL_LOCAL_LIB_ROOT="/home/cpan-tester/perl5"
    PERL_MB_OPT="--install_base "/home/cpan-tester/perl5""
    PERL_MM_OPT="INSTALL_BASE=/home/cpan-tester/perl5"
    PERL_MM_USE_DEFAULT="1"
  @INC:
    /home/cpan-tester/perl5/lib/perl5/5.24.0/x86_64-linux-thread-multi
    /home/cpan-tester/perl5/lib/perl5/5.24.0
    /home/cpan-tester/perl5/lib/perl5/x86_64-linux-thread-multi
    /home/cpan-tester/perl5/lib/perl5
    /home/cpan-tester/perl5/perlbrew/perls/perl-5.24.0-thread-multi-O3/lib/site_perl/5.24.0/x86_64-linux-thread-multi
    /home/cpan-tester/perl5/perlbrew/perls/perl-5.24.0-thread-multi-O3/lib/site_perl/5.24.0
    /home/cpan-tester/perl5/perlbrew/perls/perl-5.24.0-thread-multi-O3/lib/5.24.0/x86_64-linux-thread-multi
    /home/cpan-tester/perl5/perlbrew/perls/perl-5.24.0-thread-multi-O3/lib/5.24.0
    .