Report for Sys-SigAction-0.15

Back
From: metabase:user:f0f71058-488c-11e2-a32c-c3ba833b5bbe
Subject: PASS Sys-SigAction-0.15 v5.17.6 Mac OS X
Date: 2012-12-17T23:40:36Z

This distribution has been tested as part of the CPAN Testers
project, supporting the Perl programming language.  See
http://wiki.cpantesters.org/ for more information or email
questions to cpan-testers-discuss@perl.org


--
Sys-SigAction-0.15 ... PASS

Perl           : v5.17.6
System         : darwin
Local Versions :
    Data::Dumper                     : 2.137
    Parse::CPAN::Meta                : 1.4404
    HTTP::Server::Simple             : 0.44
    Encode                           : 2.47
    Time::Local                      : 1.2300
    Lingua::EN::Tagger               : 0.23
    Data::Dump                       : 1.21
    AnyEvent                         : 7.04
    IO::Socket::INET                 : 1.33
    File::Copy                       : 2.25
    Test::NoWarnings                 : 1.04
    Getopt::Long::Descriptive        : 0.093
    MooseX::Getopt                   : 0.47
    Lingua::EN::Inflect::Phrase      : 0.16
    YAML                             : 0.84
    Getopt::Long                     : 2.38
    constant                         : 1.24
    HTTP::Request                    : 6.00
    Plack::Test                      : 
    URI::file                        : 4.21
    LWP                              : 6.04
    Data::Dumper::Concise            : 2.020
    Test::Deep                       : 0.110
    CGI                              : 3.63
    B::Concise                       : 0.94
    File::Path                       : 2.08_01
    Moose                            : 2.0604
    File::HomeDir                    : 1.00
    Module::Build                    : 0.4003
    feature                          : 1.31
    Task::Weaken                     : 1.04
    Scalar::Util                     : 1.25
    File::Find                       : 1.23
    CPAN::Meta::Requirements         : 2.122
    Test::SharedFork                 : 0.21
    Package::Stash                   : 0.33
    Plack::Loader                    : 
    Class::Load                      : 0.20
    Storable                         : 2.39
    UNIVERSAL                        : 1.11
    namespace::clean                 : 0.24
    Test::Moose                      : 2.0604
    Plack::Middleware                : 
    Moose::Role                      : 2.0604
    App::cpantimes                   : 1.501804
    warnings::register               : 1.02
    Carp::Clan                       : 6.04
    File::Spec                       : 3.39_02
    URI                              : 1.60
    App::Nopaste                     : 0.90
    Class::Inspector                 : 1.28
    Class::Data::Inheritable         : 0.08
    Plack                            : 1.0014
    lib                              : 0.63
    overload                         : 1.20
    Class::C3::Componentised         : 1.001000
    Safe                             : 2.33_01
    Exception::Class                 : 1.36
    HTML::Tagset                     : 3.20
    Sub::Name                        : 0.05
    File::Basename                   : 2.84
    Object::Event                    : 1.23
    XSLoader                         : 0.16
    B::Hooks::EndOfScope             : 0.12
    Test::Requires                   : 0.06
    String::RewritePrefix            : 0.006
    IO::File                         : 1.16
    Compress::Raw::Zlib              : 2.058
    YAML::Any                        : 0.84
    MRO::Compat                      : 0.12
    IPC::Open3                       : 1.13
    Test::TCP                        : 1.18
    Params::Util                     : 1.07
    HTTP::Headers                    : 6.05
    XML::Writer                      : 0.615
    Test::Builder                    : 0.98
    Sub::Exporter::Util              : 0.984
    HTTP::Body                       : 1.17
    namespace::autoclean             : 0.13
    Memoize                          : 1.03
    Hash::Merge                      : 0.12
    Moo::Role                        : 
    App::Prove                       : 3.25_01
    base                             : 2.18
    Crypt::SSLeay                    : 0.64
    Test::Differences                : 0.61
    XML::Parser::Expat               : 2.41
    Scope::Guard                     : 0.20
    Class::XSAccessor                : 1.16
    Time::HiRes                      : 1.9725
    English                          : 1.05
    Class::Accessor::Grouped         : 0.10009
    Test::Harness                    : 3.25_01
    POSIX                            : 1.31
    Class::Method::Modifiers         : 1.12
    strictures                       : 1.004004
    String::CamelCase                : 0.02
    Module::Pluggable                : 4.5
    ExtUtils::MakeMaker              : 6.64
    Term::ANSIColor                  : 3.02
    aliased                          : 0.30
    Module::Metadata                 : 1.000011
    Text::ParseWords                 : 3.27
    Lingua::EN::Inflect              : 1.895
    LWP::UserAgent                   : 6.04
    Test::Simple                     : 0.98
    autodie                          : 2.13
    MIME::Base64                     : 3.13
    CGI::Cookie                      : 1.30
    CPAN::Meta                       : 2.120921
    Params::Validate                 : 1.07
    version                          : 0.9901
    AnyEvent::Handle                 : 0
    File::Which                      : 1.09
    File::Find::Rule                 : 0.33
    Cwd                              : 3.39_02
    Text::Balanced                   : 2.02
    Net::SSLeay                      : 1.51
    IO::Handle                       : 1.33
    File::Temp                       : 0.22
    Carp                             : 1.28
    Data::OptList                    : 0.107
    AnyEvent::Socket                 : 0
    Class::Accessor                  : 0.34
    HTML::Entities                   : 3.69
    Socket                           : 2.006
    FindBin                          : 1.51
    strict                           : 1.07
    HTTP::Message                    : 6.06
    Moo                              : 1.000007
    NEXT                             : 0.65
    HTML::TokeParser                 : 3.69
    URI::QueryParam                  : 
    HTML::HeadParser                 : 3.69
    Devel::GlobalDestruction         : 0.09
    Capture::Tiny                    : 0.21
    Devel::StackTrace                : 1.30
    HTTP::Status                     : 6.03
    Config::Any                      : 0.23
    Plack::Request                   : 1.0014
    Exporter                         : 5.67
    HTML::Parser                     : 3.69
    List::Util                       : 1.25
    DirHandle                        : 1.04
    warnings                         : 1.15
    HTTP::Response                   : 6.04
    Authen::SASL                     : 2.16
    Test::Warn                       : 0.24
    vars                             : 1.03
    IO::Seekable                     : 1.10
    Filter::Util::Call               : 1.45
    ExtUtils::CBuilder               : 0.280209
    parent                           : 0.225
    URI::Escape                      : 3.31
    Digest::MD5                      : 2.52
    Test::Exception                  : 0.31
    Path::Class                      : 0.28
    Pod::Man                         : 2.26
    URI::URL                         : 5.04
    File::Spec::Functions            : 3.39_02
    List::MoreUtils                  : 0.33
    Class::MOP                       : 2.0604
    Sub::Exporter::Progressive       : 0.001006
    Test::More                       : 0.98
    Pod::Usage                       : 1.51
    HTTP::Request::Common            : 6.04
    Sub::Exporter                    : 0.984
    File::pushd                      : 1.003
    Test::Tester                     : 0.108
    JSON                             : 2.53
    Fcntl                            : 1.11
    Module::Runtime                  : 0.013
    Term::ReadLine                   : 1.10
    integer                          : 1.00
    MooseX::Types::Moose             : 0.35
    JSON::XS                         : 2.33
    HTTP::Daemon                     : 6.01
    bytes                            : 1.04
    Devel::Peek                      : 1.10
    Try::Tiny                        : 0.11
    Test::Fatal                      : 0.010

Test Output    :

PERL_DL_NONLAZY=1 /Users/tczepiel/perl5/perlbrew/perls/perl-5.17.6/bin/perl5.17.6 "-MExtUtils::Command::MM" "-e" "test_harness(0, 'blib/lib', 'blib/arch')" t/*.t
t/mask.t ..... ok
t/name.t ..... ok
t/nested.t ... ok
t/number.t ... ok

         
         NOTE: Setting safe=>1... with masked signals does not seem to work.
         The problem is that the masked signals are not masked, but when
         safe=>0 they are.  

         If you have an application for safe=>1 and can come up with 
         a test that works in the context of this module's installation
         please send me a patch to safe.t that tests it.
         
         See the block below this one... which if executed would test safe mode
         with masked signals... it is a clone of part of mask.t that proves this
         is broken.

         Lincoln
         
t/safe.t ..... ok
# testing fractional second timeout
t/timeout.t .. ok
All tests successful.
Files=6, Tests=35,  6 wallclock secs ( 0.03 usr  0.02 sys +  1.38 cusr  0.03 csys =  1.46 CPU)
Result: PASS


--

Summary of my perl5 (revision 5 version 17 subversion 6) configuration:
   
  Platform:
    osname=darwin, osvers=11.4.0, archname=darwin-2level
    uname='darwin tomaszs-macbook-pro.local 11.4.0 darwin kernel version 11.4.0: mon apr 9 19:32:15 pdt 2012; root:xnu-1699.26.8~1release_x86_64 x86_64 '
    config_args='-de -Dprefix=/Users/tczepiel/perl5/perlbrew/perls/perl-5.17.6 -Dusedevel -Aeval:scriptdir=/Users/tczepiel/perl5/perlbrew/perls/perl-5.17.6/bin'
    hint=recommended, useposix=true, d_sigaction=define
    useithreads=undef, usemultiplicity=undef
    useperlio=define, d_sfio=undef, uselargefiles=define, usesocks=undef
    use64bitint=define, use64bitall=define, uselongdouble=undef
    usemymalloc=n, bincompat5005=undef
  Compiler:
    cc='cc', ccflags ='-fno-common -DPERL_DARWIN -fno-strict-aliasing -pipe -fstack-protector -I/opt/local/include',
    optimize='-O3',
    cppflags='-fno-common -DPERL_DARWIN -fno-strict-aliasing -pipe -fstack-protector -I/opt/local/include'
    ccversion='', gccversion='4.2.1 Compatible Apple Clang 3.1 (tags/Apple/clang-318.0.61)', gccosandvers=''
    intsize=4, longsize=8, ptrsize=8, doublesize=8, byteorder=12345678
    d_longlong=define, longlongsize=8, d_longdbl=define, longdblsize=16
    ivtype='long', ivsize=8, nvtype='double', nvsize=8, Off_t='off_t', lseeksize=8
    alignbytes=8, prototype=define
  Linker and Libraries:
    ld='env MACOSX_DEPLOYMENT_TARGET=10.3 cc', ldflags =' -fstack-protector -L/opt/local/lib'
    libpth=/opt/local/lib /usr/lib
    libs=-lgdbm -ldbm -ldl -lm -lutil -lc
    perllibs=-ldl -lm -lutil -lc
    libc=, so=dylib, useshrplib=false, libperl=libperl.a
    gnulibc_version=''
  Dynamic Linking:
    dlsrc=dl_dlopen.xs, dlext=bundle, d_dlsymun=undef, ccdlflags=' '
    cccdlflags=' ', lddlflags=' -bundle -undefined dynamic_lookup -L/opt/local/lib -fstack-protector'


Characteristics of this binary (from libperl): 
  Compile-time options: HAS_TIMES PERLIO_LAYERS PERL_DONT_CREATE_GVSV
                        PERL_MALLOC_WRAP PERL_PRESERVE_IVUV PERL_USE_DEVEL
                        USE_64_BIT_ALL USE_64_BIT_INT USE_LARGE_FILES
                        USE_LOCALE USE_LOCALE_COLLATE USE_LOCALE_CTYPE
                        USE_LOCALE_NUMERIC USE_PERLIO USE_PERL_ATOF
  Built under darwin
  Compiled at Dec 16 2012 23:17:31
  %ENV:
    PERLBREW_MANPATH="/Users/tczepiel/perl5/perlbrew/perls/perl-5.17.6/man"
    PERLBREW_PATH="/Users/tczepiel/perl5/perlbrew/bin:/Users/tczepiel/perl5/perlbrew/perls/perl-5.17.6/bin"
    PERLBREW_PERL="perl-5.17.6"
    PERLBREW_ROOT="/Users/tczepiel/perl5/perlbrew"
    PERLBREW_SKIP_INIT="1"
    PERLBREW_VERSION="0.58"
    PERL_MM_USE_DEFAULT="1"
  @INC:
    /Users/tczepiel/perl5/perlbrew/perls/perl-5.17.6/lib/site_perl/5.17.6/darwin-2level
    /Users/tczepiel/perl5/perlbrew/perls/perl-5.17.6/lib/site_perl/5.17.6
    /Users/tczepiel/perl5/perlbrew/perls/perl-5.17.6/lib/5.17.6/darwin-2level
    /Users/tczepiel/perl5/perlbrew/perls/perl-5.17.6/lib/5.17.6
    .