Image-Base-X11-Protocol v15 Perl 5 v5.37.9 x86_64-linux-ld

Status
Pass
From
Andreas J. K├Ânig (ANDK)
Dist
Image-Base-X11-Protocol v15
Platform
Perl 5 v5.37.9 x86_64-linux-ld
Date
2023-03-15T11:11:39
ID
288d670e-c322-11ed-89b3-f16f81b3ee33
This distribution has been tested as part of the CPAN Testers
project, supporting the Perl programming language.  See
http://wiki.cpantesters.org/ for more information or email
questions to cpan-testers-discuss@perl.org


--
Dear Kevin Ryde,

This is a computer-generated report for Image-Base-X11-Protocol-15
on perl 5.37.9, created by CPAN-Reporter-1.2018.

Thank you for uploading your work to CPAN.  Congratulations!
All tests were successful.

Sections of this report:

    * Tester comments
    * Program output
    * Prerequisites
    * Environment and other context

------------------------------
TESTER COMMENTS
------------------------------

Additional comments from tester:

this report is from an automated smoke testing program
and was not reviewed by a human for accuracy

------------------------------
PROGRAM OUTPUT
------------------------------

Output from '/usr/bin/make test':

PERL_DL_NONLAZY=1 "/tmp/basesmoker-reloperl-jEIc/bin/perl" "-MExtUtils::Command::MM" "-MTest::Harness" "-e" "undef *Test::Harness::Switches; test_harness(0, 'blib/lib', 'blib/arch')" t/*.t
t/clip.t ............ ok
t/Drawable-use.t .... ok
# DISPLAY :121
# Image::Base version 1.17
# 
# X server info
# vendor: The X.Org Foundation
# release_number: 12013000
# protocol_major_version: 11
# protocol_minor_version: 0
# byte_order: l
# num screens: 1
# width_in_pixels:  1280
# height_in_pixels: 1024
# width_in_millimeters:  325
# height_in_millimeters: 260
# root_visual: 33
#   depth: 24
#   class: 4 TrueColor
#   colormap_entries: 256
#   bits_per_rgb_value: 8
#   red_mask:   0XFF0000
#   green_mask: 0XFF00
#   blue_mask:  0XFF
# image_byte_order: 0 LeastSignificant
# black_pixel: 0
# white_pixel: 0XFFFFFF
# chosen screen: 0
# 
# use screen number 0 for checking
# MyTestImageBase on bitmap
# check_image()
# add_colours()
# MyTestImageBase on pixmap depth=24
# check_diamond()
# check_image()
# add_colours() check for error received
# add_colours() 5000
# add_colours() 5000 with seq wraparound
# run_seq_to_FFA0() 53017 steps to seq 65431
t/Drawable.t ........ ok
# Image::Base version 1.17
t/Pixmap.t .......... ok
t/Window-use.t ...... ok
# event VisibilityNotify
#   visibility now Unobscured
#   skip now [undef]
# check_image()
# check_diamond()
# check_image()
# check_diamond()
t/Window-visible.t .. ok
# Image::Base version 1.17
t/Window.t .......... ok
All tests successful.
Files=7, Tests=12657,  6 wallclock secs ( 0.73 usr  0.08 sys +  3.00 cusr  0.63 csys =  4.44 CPU)
Result: PASS

------------------------------
PREREQUISITES
------------------------------

Prerequisite modules loaded:

requires:

    Module               Need  Have    
    -------------------- ----- --------
    Image::Base          0     1.17    
    perl                 5.004 5.037009
    X11::Protocol        0.56  0.56    
    X11::Protocol::Other 3     31      

build_requires:

    Module               Need  Have    
    -------------------- ----- --------
    ExtUtils::MakeMaker  0     7.66    
    Test                 0     1.31    

configure_requires:

    Module               Need  Have    
    -------------------- ----- --------
    ExtUtils::MakeMaker  0     7.66    


------------------------------
ENVIRONMENT AND OTHER CONTEXT
------------------------------

Environment variables:

    AUTOMATED_TESTING = 1
    LANG = en_US.UTF-8
    PATH = /home/sand/bin:/usr/local/bin:/usr/local/sbin:/usr/sbin:/usr/bin:/sbin:/bin:/usr/games:/usr/local/games:/snap/bin:/usr/local/perl/bin:/usr/X11/bin
    PERL5LIB = /tmp/loop_over_bdir-62886-Vu0mzo/dta-tokwrap-0.98-0/blib/arch:/tmp/loop_over_bdir-62886-Vu0mzo/dta-tokwrap-0.98-0/blib/lib
    PERL5OPT = 
    PERL5_CPANPLUS_IS_RUNNING = 62894
    PERL5_CPAN_IS_RUNNING = 62894
    PERL_CANARY_STABILITY_NOPROMPT = 1
    PERL_MM_USE_DEFAULT = 1
    PERL_USE_UNSAFE_INC = 1
    SHELL = /usr/bin/zsh
    TERM = screen

Perl special variables (and OS-specific diagnostics, for MSWin32):

    $^X = /tmp/basesmoker-reloperl-jEIc/bin/perl
    $UID/$EUID = 1005 / 1005
    $GID = 1005 1005
    $EGID = 1005 1005

Perl module toolchain versions installed:

    Module              Have    
    ------------------- --------
    CPAN                2.34    
    CPAN::Meta          2.150010
    Cwd                 3.88    
    ExtUtils::CBuilder  0.280238
    ExtUtils::Command   7.66    
    ExtUtils::Install   2.22    
    ExtUtils::MakeMaker 7.66    
    ExtUtils::Manifest  1.73    
    ExtUtils::ParseXS   3.49    
    File::Spec          3.88    
    JSON                4.10    
    JSON::PP            4.16    
    Module::Build       0.4232  
    Module::Signature   0.88    
    Parse::CPAN::Meta   2.150010
    Test::Harness       3.44    
    Test::More          1.302193
    YAML                1.30    
    YAML::Syck          1.34    
    version             0.9929  


--

Summary of my perl5 (revision 5 version 37 subversion 9) configuration:
  Commit id: 692cfdb0a41902b1e4fd4d934426ef95c2b4b694
  Platform:
    osname=linux
    osvers=5.4.0-139-generic
    archname=x86_64-linux-ld
    uname='linux k93focal 5.4.0-139-generic #156-ubuntu smp fri jan 20 17:27:18 utc 2023 x86_64 x86_64 x86_64 gnulinux '
    config_args='-Dprefix=/home/sand/src/perl/repoperls/installed-perls/host/k93focal/v5.37.9/d3e4 -Dmyhostname=k93focal -Dinstallusrbinperl=n -Uversiononly -Dusedevel -des -Ui_db -Dlibswanted=cl pthread socket inet nsl gdbm dbm malloc dl ld sun m crypt sec util c cposix posix ucb BSD gdbm_compat -Uuseithreads -Duselongdouble -DEBUGGING=both'
    hint=recommended
    useposix=true
    d_sigaction=define
    useithreads=undef
    usemultiplicity=undef
    use64bitint=define
    use64bitall=define
    uselongdouble=define
    usemymalloc=n
    default_inc_excludes_dot=define
  Compiler:
    cc='cc'
    ccflags ='-fwrapv -DDEBUGGING -fno-strict-aliasing -pipe -fstack-protector-strong -I/usr/local/include -D_LARGEFILE_SOURCE -D_FILE_OFFSET_BITS=64'
    optimize='-O2 -g'
    cppflags='-fwrapv -DDEBUGGING -fno-strict-aliasing -pipe -fstack-protector-strong -I/usr/local/include'
    ccversion=''
    gccversion='9.4.0'
    gccosandvers=''
    intsize=4
    longsize=8
    ptrsize=8
    doublesize=8
    byteorder=12345678
    doublekind=3
    d_longlong=define
    longlongsize=8
    d_longdbl=define
    longdblsize=16
    longdblkind=3
    ivtype='long'
    ivsize=8
    nvtype='long double'
    nvsize=16
    Off_t='off_t'
    lseeksize=8
    alignbytes=16
    prototype=define
  Linker and Libraries:
    ld='cc'
    ldflags =' -fstack-protector-strong -L/usr/local/lib'
    libpth=/usr/local/lib /usr/lib/x86_64-linux-gnu /usr/lib /usr/lib64
    libs=-lpthread -lnsl -ldl -lm -lcrypt -lutil -lc
    perllibs=-lpthread -lnsl -ldl -lm -lcrypt -lutil -lc
    libc=libc-2.31.so
    so=so
    useshrplib=false
    libperl=libperl.a
    gnulibc_version='2.31'
  Dynamic Linking:
    dlsrc=dl_dlopen.xs
    dlext=so
    d_dlsymun=undef
    ccdlflags='-Wl,-E'
    cccdlflags='-fPIC'
    lddlflags='-shared -O2 -g -L/usr/local/lib -fstack-protector-strong'


Characteristics of this binary (from libperl): 
  Compile-time options:
    DEBUGGING
    HAS_TIMES
    PERLIO_LAYERS
    PERL_COPY_ON_WRITE
    PERL_DONT_CREATE_GVSV
    PERL_HASH_FUNC_SIPHASH13
    PERL_HASH_USE_SBOX32
    PERL_MALLOC_WRAP
    PERL_OP_PARENT
    PERL_PRESERVE_IVUV
    PERL_USE_DEVEL
    PERL_USE_SAFE_PUTENV
    USE_64_BIT_ALL
    USE_64_BIT_INT
    USE_LARGE_FILES
    USE_LOCALE
    USE_LOCALE_COLLATE
    USE_LOCALE_CTYPE
    USE_LOCALE_NUMERIC
    USE_LOCALE_TIME
    USE_LONG_DOUBLE
    USE_PERLIO
    USE_PERL_ATOF
  Built under linux
  Compiled at Mar  7 2023 20:23:23
  %ENV:
    PERL5LIB="/tmp/loop_over_bdir-62886-Vu0mzo/dta-tokwrap-0.98-0/blib/arch:/tmp/loop_over_bdir-62886-Vu0mzo/dta-tokwrap-0.98-0/blib/lib"
    PERL5OPT=""
    PERL5_CPANPLUS_IS_RUNNING="62894"
    PERL5_CPAN_IS_RUNNING="62894"
    PERL_CANARY_STABILITY_NOPROMPT="1"
    PERL_MM_USE_DEFAULT="1"
    PERL_USE_UNSAFE_INC="1"
  @INC:
    /tmp/loop_over_bdir-62886-Vu0mzo/dta-tokwrap-0.98-0/blib/arch
    /tmp/loop_over_bdir-62886-Vu0mzo/dta-tokwrap-0.98-0/blib/lib
    /home/sand/src/perl/repoperls/installed-perls/host/k93focal/v5.37.9/d3e4/lib/site_perl/5.37.9/x86_64-linux-ld
    /home/sand/src/perl/repoperls/installed-perls/host/k93focal/v5.37.9/d3e4/lib/site_perl/5.37.9
    /home/sand/src/perl/repoperls/installed-perls/host/k93focal/v5.37.9/d3e4/lib/5.37.9/x86_64-linux-ld
    /home/sand/src/perl/repoperls/installed-perls/host/k93focal/v5.37.9/d3e4/lib/5.37.9
    .