Test-WWW-Mechanize-Catalyst v0.62 Perl 5 v5.16.3 MSWin32-x86-multi-thread

Status
Pass
From
Alexandr Ciornii (CHORNY)
Dist
Test-WWW-Mechanize-Catalyst v0.62
Platform
Perl 5 v5.16.3 MSWin32-x86-multi-thread
Date
2019-02-18 17:40:32
ID
29d21bc7-6c09-1014-944b-2bc08d03413f
This distribution has been tested as part of the CPAN Testers
project, supporting the Perl programming language.  See
http://wiki.cpantesters.org/ for more information or email
questions to cpan-testers-discuss@perl.org


--
Dear Matt S Trout,

This is a computer-generated report for Test-WWW-Mechanize-Catalyst-0.62
on perl 5.16.3, created by CPAN-Reporter-1.2018.

Thank you for uploading your work to CPAN.  Congratulations!
All tests were successful.

Sections of this report:

    * Tester comments
    * Program output
    * Prerequisites
    * Environment and other context

------------------------------
TESTER COMMENTS
------------------------------

Additional comments from tester:

this report is from an automated smoke testing program
and was not reviewed by a human for accuracy

------------------------------
PROGRAM OUTPUT
------------------------------

Output from 'C:\strawberry163\c\bin\dmake.exe test':

C:\strawberry163\perl\bin\perl.exe "-MExtUtils::Command::MM" "-e" "test_harness(0, 'inc', 'blib\lib', 'blib\arch')" t/*.t
t/auth-test.t ........... ok
t/cookies.t ............. ok
t/decoded_content.t ..... ok
# 
# ###################################################################
# Starting an external Catalyst HTTP server on port 7357
# To change the port, please set the TWMC_TEST_PORT env variable.
# (The server will be automatically shut-down right after the tests).
# ###################################################################
Class::MOP::load_class is deprecated at C:/strawberry163/perl/site/lib/Class/MOP.pm line 73.
	Class::MOP::load_class('MooseX::Role::Parameterized::Meta::Role::Parameterized') called at C:/strawberry163/perl/vendor/lib/MooseX/Role/Parameterized/Meta/Role/Parameterizable.pm line 60
	MooseX::Role::Parameterized::Meta::Role::Parameterizable::generate_role('MooseX::Role::Parameterized::Meta::Role::Parameterizable=HASH...', 'consumer', 'Moose::Meta::Role=HASH(0x2cb9754)', 'parameters', 'HASH(0x2ec97e4)') called at C:/strawberry163/perl/vendor/lib/MooseX/Role/Parameterized/Meta/Role/Parameterizable.pm line 104
	MooseX::Role::Parameterized::Meta::Role::Parameterizable::apply('MooseX::Role::Parameterized::Meta::Role::Parameterizable=HASH...', 'Moose::Meta::Role=HASH(0x2cb9754)') called at C:/strawberry163/perl/site/lib/Moose/Util.pm line 166
	Moose::Util::_apply_all_roles('Moose::Meta::Role=HASH(0x2cb9754)', undef, 'MooseX::Getopt::GLD') called at C:/strawberry163/perl/site/lib/Moose/Util.pm line 108
	Moose::Util::apply_all_roles('Moose::Meta::Role=HASH(0x2cb9754)', 'MooseX::Getopt::GLD') called at C:/strawberry163/perl/site/lib/Moose/Role.pm line 27
	Moose::Role::with('Moose::Meta::Role=HASH(0x2cb9754)', 'MooseX::Getopt::GLD') called at C:/strawberry163/perl/site/lib/Moose/Exporter.pm line 405
	Moose::Role::with('MooseX::Getopt::GLD') called at C:/strawberry163/perl/site/lib/MooseX/Getopt.pm line 12
	require MooseX/Getopt.pm called at C:/strawberry163/perl/site/lib/Catalyst/ScriptRole.pm line 4
	Catalyst::ScriptRole::BEGIN() called at C:/strawberry163/perl/site/lib/MooseX/Getopt.pm line 0
	eval {...} called at C:/strawberry163/perl/site/lib/MooseX/Getopt.pm line 0
	require Catalyst/ScriptRole.pm called at C:/strawberry163/perl/site/lib/Module/Runtime.pm line 317
	Module::Runtime::require_module('Catalyst::ScriptRole') called at C:/strawberry163/perl/site/lib/Module/Runtime.pm line 348
	Module::Runtime::use_module('Catalyst::ScriptRole') called at C:/strawberry163/perl/site/lib/Moose/Util.pm line 141
	Moose::Util::_apply_all_roles('Moose::Meta::Class=HASH(0x2814ff4)', undef, 'Catalyst::ScriptRole') called at C:/strawberry163/perl/site/lib/Moose/Util.pm line 108
	Moose::Util::apply_all_roles('Moose::Meta::Class=HASH(0x2814ff4)', 'Catalyst::ScriptRole') called at C:/strawberry163/perl/site/lib/Moose.pm line 60
	Moose::with('Moose::Meta::Class=HASH(0x2814ff4)', 'Catalyst::ScriptRole') called at C:/strawberry163/perl/site/lib/Moose/Exporter.pm line 405
	Moose::with('Catalyst::ScriptRole') called at C:/strawberry163/perl/site/lib/Catalyst/Script/Server.pm line 7
	require Catalyst/Script/Server.pm called at C:/strawberry163/perl/site/lib/Module/Runtime.pm line 317
	Module::Runtime::require_module('Catalyst::Script::Server') called at C:/strawberry163/perl/vendor/lib/Class/Load.pm line 177
	Class::Load::try {...} () called at C:/strawberry163/perl/site/lib/Try/Tiny.pm line 76
	eval {...} called at C:/strawberry163/perl/site/lib/Try/Tiny.pm line 72
	Try::Tiny::try('CODE(0x39bdecc)', 'Try::Tiny::Catch=REF(0x2814aa4)') called at C:/strawberry163/perl/vendor/lib/Class/Load.pm line 183
	Class::Load::try_load_class('Catalyst::Script::Server', undef) called at C:/strawberry163/perl/vendor/lib/Class/Load.pm line 59
	Class::Load::load_first_existing_class('ExternalCatty::Script::Server', 'Catalyst::Script::Server') called at C:/strawberry163/perl/site/lib/Catalyst/ScriptRunner.pm line 13
	Catalyst::ScriptRunner::find_script_class('Catalyst::ScriptRunner', 'ExternalCatty', 'Server') called at C:/strawberry163/perl/site/lib/Catalyst/ScriptRunner.pm line 42
	Catalyst::ScriptRunner::run('Catalyst::ScriptRunner', 'ExternalCatty', 'Server') called at t/lib/ExternalCatty.pm line 28
	ExternalCatty::background() called at t/multi_content_type.t line 30
Duplicate specification "host|h=s" for option "h"
HTTP::Server::PSGI: Accepting connections at http://0:7357/
t/multi_content_type.t .. ok
t/pod.t ................. ok
t/redirect.t ............ ok
t/simple.t .............. ok
t/two_app.t ............. ok
t/useragent.t ........... ok
t/utf8.t ................ ok
t/white_label.t ......... ok
All tests successful.
Files=11, Tests=109, 36 wallclock secs ( 0.05 usr +  0.04 sys =  0.09 CPU)
Result: PASS

------------------------------
PREREQUISITES
------------------------------

Prerequisite modules loaded:

requires:

    Module                                   Need     Have    
    ---------------------------------------- -------- --------
    Catalyst                                 5.90     5.90061 
    Class::Load                              0.19     0.20    
    LWP                                      5.816    6.05    
    Moose                                    0.67     2.1204  
    namespace::clean                         0.09     0.24    
    perl                                     5.008004 5.016003
    Test::WWW::Mechanize                     1.14     1.44    
    WWW::Mechanize                           1.54     1.73    

build_requires:

    Module                                   Need     Have    
    ---------------------------------------- -------- --------
    Catalyst::Plugin::Session::State::Cookie 0        0.17    
    Catalyst::Plugin::Session::Store::Dummy  0        0       
    ExtUtils::MakeMaker                      6.59     6.64    
    Test::Exception                          0        0.32    
    Test::More                               0.88     1.001002
    Test::utf8                               0        1.01    

configure_requires:

    Module                                   Need     Have    
    ---------------------------------------- -------- --------
    ExtUtils::MakeMaker                      6.59     6.64    


------------------------------
ENVIRONMENT AND OTHER CONTEXT
------------------------------

Environment variables:

    AUTOMATED_TESTING = 1
    COMSPEC = C:\WINDOWS\system32\cmd.exe
    NUMBER_OF_PROCESSORS = 1
    PATH = C:\WINDOWS\system32;C:\WINDOWS;C:\WINDOWS\System32\Wbem;C:\strawberry163\c\bin;C:\strawberry163\perl\site\bin;C:\strawberry163\perl\bin
    PERL5LIB = 
    PERL5OPT = 
    PERL5_CPANPLUS_IS_RUNNING = 1148
    PERL5_CPAN_IS_RUNNING = 1148
    PERL5_CPAN_IS_RUNNING_IN_RECURSION = 1480,1148
    PERL_CR_SMOKER_CURRENT = Test-WWW-Mechanize-Catalyst-0.62
    PERL_CR_SMOKER_RUNONCE = 1
    PERL_EXTUTILS_AUTOINSTALL = --defaultdeps
    PERL_MM_USE_DEFAULT = 1
    PROCESSOR_IDENTIFIER = x86 Family 18 Model 1 Stepping 0, AuthenticAMD
    TEMP = C:\DOCUME~1\c\LOCALS~1\Temp
    TERM = dumb

Perl special variables (and OS-specific diagnostics, for MSWin32):

    $^X = C:\strawberry163\perl\bin\perl.exe
    $UID/$EUID = 0 / 0
    $GID = 0
    $EGID = 0
    Win32::GetOSName = WinXP/.Net
    Win32::GetOSVersion = Service Pack 3, 5, 1, 2600, 2, 3, 0, 256, 1
    Win32::FsType = NTFS
    Win32::IsAdminUser = 1

Perl module toolchain versions installed:

    Module              Have    
    ------------------- --------
    CPAN                2.16    
    CPAN::Meta          2.140640
    Cwd                 3.40    
    ExtUtils::CBuilder  0.280206
    ExtUtils::Command   1.17    
    ExtUtils::Install   1.58    
    ExtUtils::MakeMaker 6.64    
    ExtUtils::Manifest  1.61    
    ExtUtils::ParseXS   3.24    
    File::Spec          3.40    
    JSON                2.90    
    JSON::PP            2.27203 
    Module::Build       0.4205  
    Module::Signature   0.70    
    Parse::CPAN::Meta   1.4414  
    Test::Harness       3.30    
    Test::More          1.001002
    YAML                0.90    
    YAML::Syck          1.24    
    version             0.9902  


--

Summary of my perl5 (revision 5 version 16 subversion 3) configuration:
   
  Platform:
    osname=MSWin32, osvers=4.0, archname=MSWin32-x86-multi-thread
    uname='Win32 strawberry-perl 5.16.3.1 #1 Tue Mar 12 13:55:20 2013 i386'
    config_args='undef'
    hint=recommended, useposix=true, d_sigaction=undef
    useithreads=define, usemultiplicity=define
    useperlio=define, d_sfio=undef, uselargefiles=define, usesocks=undef
    use64bitint=undef, use64bitall=undef, uselongdouble=undef
    usemymalloc=n, bincompat5005=undef
  Compiler:
    cc='gcc', ccflags =' -s -O2 -DWIN32  -DPERL_TEXTMODE_SCRIPTS -DPERL_IMPLICIT_CONTEXT -DPERL_IMPLICIT_SYS -fno-strict-aliasing -mms-bitfields',
    optimize='-s -O2',
    cppflags='-DWIN32'
    ccversion='', gccversion='4.6.3', gccosandvers=''
    intsize=4, longsize=4, ptrsize=4, doublesize=8, byteorder=1234
    d_longlong=undef, longlongsize=8, d_longdbl=define, longdblsize=12
    ivtype='long', ivsize=4, nvtype='double', nvsize=8, Off_t='long long', lseeksize=8
    alignbytes=8, prototype=define
  Linker and Libraries:
    ld='g++', ldflags ='-s -L"C:\strawberry163\perl\lib\CORE" -L"C:\strawberry163\c\lib"'
    libpth=C:\strawberry163\c\lib C:\strawberry163\c\i686-w64-mingw32\lib
    libs=-lmoldname -lkernel32 -luser32 -lgdi32 -lwinspool -lcomdlg32 -ladvapi32 -lshell32 -lole32 -loleaut32 -lnetapi32 -luuid -lws2_32 -lmpr -lwinmm -lversion -lodbc32 -lodbccp32 -lcomctl32
    perllibs=-lmoldname -lkernel32 -luser32 -lgdi32 -lwinspool -lcomdlg32 -ladvapi32 -lshell32 -lole32 -loleaut32 -lnetapi32 -luuid -lws2_32 -lmpr -lwinmm -lversion -lodbc32 -lodbccp32 -lcomctl32
    libc=, so=dll, useshrplib=true, libperl=libperl516.a
    gnulibc_version=''
  Dynamic Linking:
    dlsrc=dl_win32.xs, dlext=dll, d_dlsymun=undef, ccdlflags=' '
    cccdlflags=' ', lddlflags='-mdll -s -L"C:\strawberry163\perl\lib\CORE" -L"C:\strawberry163\c\lib"'


Characteristics of this binary (from libperl): 
  Compile-time options: HAS_TIMES HAVE_INTERP_INTERN MULTIPLICITY
                        PERLIO_LAYERS PERL_DONT_CREATE_GVSV
                        PERL_IMPLICIT_CONTEXT PERL_IMPLICIT_SYS
                        PERL_MALLOC_WRAP PERL_PRESERVE_IVUV PL_OP_SLAB_ALLOC
                        USE_ITHREADS USE_LARGE_FILES USE_LOCALE
                        USE_LOCALE_COLLATE USE_LOCALE_CTYPE
                        USE_LOCALE_NUMERIC USE_PERLIO USE_PERL_ATOF
  Built under MSWin32
  Compiled at Mar 12 2013 14:01:07
  %ENV:
    PERL5_CPANPLUS_IS_RUNNING="1148"
    PERL5_CPAN_IS_RUNNING="1148"
    PERL5_CPAN_IS_RUNNING_IN_RECURSION="1480,1148"
    PERL_CR_SMOKER_CURRENT="Test-WWW-Mechanize-Catalyst-0.62"
    PERL_CR_SMOKER_RUNONCE="1"
    PERL_EXTUTILS_AUTOINSTALL="--defaultdeps"
    PERL_MM_USE_DEFAULT="1"
  @INC:
    C:/strawberry163/perl/site/lib
    C:/strawberry163/perl/vendor/lib
    C:/strawberry163/perl/lib
    .