Back
From: metabase:user:30ae4450-2aae-11df-837a-5e0a49663a4f
Subject: PASS MooseX-App-Cmd-0.27 v5.16.1
Date: 2014-02-03T11:26:29Z
This distribution has been tested as part of the CPAN Testers
project, supporting the Perl programming language. See
http://wiki.cpantesters.org/ for more information or email
questions to cpan-testers-discuss@perl.org
--
Dear Mark Gardner,
This is a computer-generated report for MooseX-App-Cmd-0.27
on perl 5.16.1, created by CPAN-Reporter-1.2010_01.
Thank you for uploading your work to CPAN. Congratulations!
All tests were successful.
Sections of this report:
* Tester comments
* Program output
* Prerequisites
* Environment and other context
------------------------------
TESTER COMMENTS
------------------------------
Additional comments from tester:
this report is from an automated smoke testing program
and was not reviewed by a human for accuracy
------------------------------
PROGRAM OUTPUT
------------------------------
Output from 'C:\strawberry5161\c\bin\dmake.exe test':
C:\strawberry5161\perl\bin\perl.exe "-MExtUtils::Command::MM" "-e" "test_harness(0, 'blib\lib', 'blib\arch')" t/*.t
t/00-compile.t .......................... ok
# Testing with Perl 5.016001, C:\strawberry5161\perl\bin\perl.exe
# Any::Moose version is 0.18
# App::Cmd version is 0.323
# App::Cmd::Command version is 0.323
# Carp version is 1.26
# Data::Dumper version is 2.135_06
# English version is 1.05
# ExtUtils::MakeMaker version is 6.6302
# File::Basename version is 2.84
# File::Spec version is 3.40
# Getopt::Long::Descriptive version is 0.096
# IO::Handle version is 1.33
# IPC::Open3 version is 1.12
# MouseX::Getopt version is 0.34
# Scalar::Util version is 1.32
# Test::More version is 0.98
# Test::Output version is 1.02
# Test::use::ok version is 0.11
# YAML version is 0.84
# base version is 2.18
# lib version is 0.63
# namespace::clean version is 0.24
# strict version is 1.07
# warnings version is 1.13
t/000-report-versions.t ................. ok
t/author-critic.t ....................... skipped: these tests are for testing by the author
t/author-test-eol.t ..................... skipped: these tests are for testing by the author
t/basic.t ............................... ok
t/build_emulates_new.t .................. ok
t/configfile.t .......................... skipped: These tests require Mo(o|u)seX::ConfigFromFile and YAML
t/moose.t ............................... ok
t/mouse.t ............................... ok
t/release-changes_has_content.t ......... skipped: these tests are for release candidate testing
t/release-cpan-changes.t ................ skipped: these tests are for release candidate testing
t/release-dist-manifest.t ............... skipped: these tests are for release candidate testing
t/release-distmeta.t .................... skipped: these tests are for release candidate testing
t/release-kwalitee.t .................... skipped: these tests are for release candidate testing
t/release-localbrew-perl-latest-TEST.t .. skipped: these tests are for release candidate testing
t/release-meta-json.t ................... skipped: these tests are for release candidate testing
t/release-minimum-version.t ............. skipped: these tests are for release candidate testing
t/release-mojibake.t .................... skipped: these tests are for release candidate testing
t/release-no-tabs.t ..................... skipped: these tests are for release candidate testing
t/release-pod-coverage.t ................ skipped: these tests are for release candidate testing
t/release-pod-linkcheck.t ............... skipped: these tests are for release candidate testing
t/release-pod-syntax.t .................. skipped: these tests are for release candidate testing
t/release-portability.t ................. skipped: these tests are for release candidate testing
t/release-synopsis.t .................... skipped: these tests are for release candidate testing
t/release-test-version.t ................ skipped: these tests are for release candidate testing
t/release-unused-vars.t ................. skipped: these tests are for release candidate testing
All tests successful.
Files=26, Tests=44, 6 wallclock secs ( 0.03 usr + 0.24 sys = 0.27 CPU)
Result: PASS
------------------------------
PREREQUISITES
------------------------------
Prerequisite modules loaded:
requires:
Module Need Have
------------------------- ----- --------
Any::Moose 0 0.18
App::Cmd 0.321 0.323
App::Cmd::Command 0 0.323
base 0 2.18
Carp 0 1.26
Data::Dumper 0 2.135_06
English 0 1.05
ExtUtils::MakeMaker 0 6.63_02
File::Basename 0 2.84
File::Spec 0 3.40
Getopt::Long::Descriptive 0.091 0.096
IO::Handle 0 1.33
IPC::Open3 0 1.12
lib 0 0.63
MouseX::Getopt 0 0.34
namespace::clean 0 0.24
Scalar::Util 0 1.32
strict 0 1.07
Test::More 0.94 0.98
Test::Output 0 1.02
Test::use::ok 0 0.11
warnings 0 1.13
YAML 0 0.84
build_requires:
Module Need Have
------------------------- ----- --------
ExtUtils::MakeMaker 0 6.63_02
configure_requires:
Module Need Have
------------------------- ----- --------
ExtUtils::MakeMaker 6.30 6.63_02
------------------------------
ENVIRONMENT AND OTHER CONTEXT
------------------------------
Environment variables:
AUTOMATED_TESTING = 1
COMSPEC = C:\WINDOWS\system32\cmd.exe
NUMBER_OF_PROCESSORS = 1
PATH = C:\Program Files\Far Manager\;C:\WINDOWS\system32;C:\WINDOWS;C:\WINDOWS\System32\Wbem;C:\strawberry5161\c\bin;C:\strawberry5161\perl\site\bin;C:\strawberry5161\perl\bin
PERL5LIB = C:\strawberry5161\cpan\build\App-Cmd-0.323-tc6qsn/blib/arch;C:\strawberry5161\cpan\build\App-Cmd-0.323-tc6qsn/blib/lib;C:\strawberry5161\cpan\build\Getopt-Long-2.42-idTIlA/blib/arch;C:\strawberry5161\cpan\build\Getopt-Long-2.42-idTIlA/blib/lib;C:\strawberry5161\cpan\build\MouseX-Getopt-0.34-jhiDYy/blib/arch;C:\strawberry5161\cpan\build\MouseX-Getopt-0.34-jhiDYy/blib/lib
PERL5OPT =
PERL5_CPANPLUS_IS_RUNNING = 26972
PERL5_CPAN_IS_RUNNING = 26972
PERL5_CPAN_IS_RUNNING_IN_RECURSION = 492,26972
PERL_CR_SMOKER_CURRENT = MooseX-App-Cmd-0.27
PERL_EXTUTILS_AUTOINSTALL = --defaultdeps
PERL_MM_USE_DEFAULT = 1
PROCESSOR_IDENTIFIER = x86 Family 16 Model 5 Stepping 3, AuthenticAMD
TEMP = C:\DOCUME~1\c\LOCALS~1\Temp
TERM = dumb
Perl special variables (and OS-specific diagnostics, for MSWin32):
$^X = C:\strawberry5161\perl\bin\perl.exe
$UID/$EUID = 0 / 0
$GID = 0
$EGID = 0
Win32::GetOSName = WinXP/.Net
Win32::GetOSVersion = Service Pack 3, 5, 1, 2600, 2, 3, 0, 256, 1
Win32::FsType = NTFS
Win32::IsAdminUser = 1
Perl module toolchain versions installed:
Module Have
------------------- --------
CPAN 2.00
CPAN::Meta 2.132661
Cwd 3.40
ExtUtils::CBuilder 0.280206
ExtUtils::Command 1.17
ExtUtils::Install 1.58
ExtUtils::MakeMaker 6.63_02
ExtUtils::Manifest 1.61
ExtUtils::ParseXS 3.16
File::Spec 3.40
JSON 2.59
JSON::PP 2.27200
Module::Build 0.4007
Module::Signature 0.68
Parse::CPAN::Meta 1.4404
Test::Harness 3.29
Test::More 0.98
YAML 0.84
YAML::Syck 1.27
version 0.9904
--
Summary of my perl5 (revision 5 version 16 subversion 1) configuration:
Platform:
osname=MSWin32, osvers=4.0, archname=MSWin32-x86-multi-thread
uname='Win32 strawberry-perl 5.16.1.1 #1 Thu Aug 9 09:54:46 2012 i386'
config_args='undef'
hint=recommended, useposix=true, d_sigaction=undef
useithreads=define, usemultiplicity=define
useperlio=define, d_sfio=undef, uselargefiles=define, usesocks=undef
use64bitint=undef, use64bitall=undef, uselongdouble=undef
usemymalloc=n, bincompat5005=undef
Compiler:
cc='gcc', ccflags =' -s -O2 -DWIN32 -DPERL_TEXTMODE_SCRIPTS -DPERL_IMPLICIT_CONTEXT -DPERL_IMPLICIT_SYS -fno-strict-aliasing -mms-bitfields',
optimize='-s -O2',
cppflags='-DWIN32'
ccversion='', gccversion='4.6.3', gccosandvers=''
intsize=4, longsize=4, ptrsize=4, doublesize=8, byteorder=1234
d_longlong=undef, longlongsize=8, d_longdbl=define, longdblsize=12
ivtype='long', ivsize=4, nvtype='double', nvsize=8, Off_t='long long', lseeksize=8
alignbytes=8, prototype=define
Linker and Libraries:
ld='g++', ldflags ='-s -L"C:\strawberry5161\perl\lib\CORE" -L"C:\strawberry5161\c\lib"'
libpth=C:\strawberry5161\c\lib C:\strawberry5161\c\i686-w64-mingw32\lib
libs=-lmoldname -lkernel32 -luser32 -lgdi32 -lwinspool -lcomdlg32 -ladvapi32 -lshell32 -lole32 -loleaut32 -lnetapi32 -luuid -lws2_32 -lmpr -lwinmm -lversion -lodbc32 -lodbccp32 -lcomctl32
perllibs=-lmoldname -lkernel32 -luser32 -lgdi32 -lwinspool -lcomdlg32 -ladvapi32 -lshell32 -lole32 -loleaut32 -lnetapi32 -luuid -lws2_32 -lmpr -lwinmm -lversion -lodbc32 -lodbccp32 -lcomctl32
libc=, so=dll, useshrplib=true, libperl=libperl516.a
gnulibc_version=''
Dynamic Linking:
dlsrc=dl_win32.xs, dlext=dll, d_dlsymun=undef, ccdlflags=' '
cccdlflags=' ', lddlflags='-mdll -s -L"C:\strawberry5161\perl\lib\CORE" -L"C:\strawberry5161\c\lib"'
Characteristics of this binary (from libperl):
Compile-time options: HAS_TIMES HAVE_INTERP_INTERN MULTIPLICITY
PERLIO_LAYERS PERL_DONT_CREATE_GVSV
PERL_IMPLICIT_CONTEXT PERL_IMPLICIT_SYS
PERL_MALLOC_WRAP PERL_PRESERVE_IVUV PL_OP_SLAB_ALLOC
USE_ITHREADS USE_LARGE_FILES USE_LOCALE
USE_LOCALE_COLLATE USE_LOCALE_CTYPE
USE_LOCALE_NUMERIC USE_PERLIO USE_PERL_ATOF
Built under MSWin32
Compiled at Aug 9 2012 10:03:09
%ENV:
PERL5LIB="C:\strawberry5161\cpan\build\App-Cmd-0.323-tc6qsn/blib/arch;C:\strawberry5161\cpan\build\App-Cmd-0.323-tc6qsn/blib/lib;C:\strawberry5161\cpan\build\Getopt-Long-2.42-idTIlA/blib/arch;C:\strawberry5161\cpan\build\Getopt-Long-2.42-idTIlA/blib/lib;C:\strawberry5161\cpan\build\MouseX-Getopt-0.34-jhiDYy/blib/arch;C:\strawberry5161\cpan\build\MouseX-Getopt-0.34-jhiDYy/blib/lib"
PERL5_CPANPLUS_IS_RUNNING="26972"
PERL5_CPAN_IS_RUNNING="26972"
PERL5_CPAN_IS_RUNNING_IN_RECURSION="492,26972"
PERL_CR_SMOKER_CURRENT="MooseX-App-Cmd-0.27"
PERL_EXTUTILS_AUTOINSTALL="--defaultdeps"
PERL_MM_USE_DEFAULT="1"
@INC:
C:\strawberry5161\cpan\build\App-Cmd-0.323-tc6qsn/blib/arch
C:\strawberry5161\cpan\build\App-Cmd-0.323-tc6qsn/blib/lib
C:\strawberry5161\cpan\build\Getopt-Long-2.42-idTIlA/blib/arch
C:\strawberry5161\cpan\build\Getopt-Long-2.42-idTIlA/blib/lib
C:\strawberry5161\cpan\build\MouseX-Getopt-0.34-jhiDYy/blib/arch
C:\strawberry5161\cpan\build\MouseX-Getopt-0.34-jhiDYy/blib/lib
C:/strawberry5161/perl/site/lib
C:/strawberry5161/perl/vendor/lib
C:/strawberry5161/perl/lib
.