Sys-SigAction v0.23 Perl 5 v5.26.1 x86_64-linux

Status
Pass
From
Ioan Rogers
Dist
Sys-SigAction v0.23
Platform
Perl 5 v5.26.1 x86_64-linux
Date
2017-11-01 19:09:22
ID
2b22e88e-bf38-11e7-88dc-20784fc59e76
This distribution has been tested as part of the CPAN Testers
project, supporting the Perl programming language.  See
http://wiki.cpantesters.org/ for more information or email
questions to cpan-testers-discuss@perl.org


--
Dear LBAXTER,

This is a computer-generated report for Sys-SigAction-0.23
on perl 5.26.1, created by App::cpanminus::reporter 0.17 (1.7043).

Thank you for uploading your work to CPAN.  Congratulations!
All tests were successful.

Sections of this report:

    * Tester comments
    * Program output
    * Prerequisites
    * Environment and other context

------------------------------
TESTER COMMENTS
------------------------------

Additional comments from tester:

none provided

------------------------------
PROGRAM OUTPUT
------------------------------

Output from '':

Building and testing Sys-SigAction-0.23
cp lib/Sys/SigAction/Alarm.pm blib/lib/Sys/SigAction/Alarm.pm
cp lib/Sys/SigAction.pm blib/lib/Sys/SigAction.pm
PERL_DL_NONLAZY=1 "/home/ioanrogers/.plenv/versions/5.26.1/bin/perl5.26.1" "-MExtUtils::Command::MM" "-MTest::Harness" "-e" "undef *Test::Harness::Switches; test_harness(0, 'blib/lib', 'blib/arch')" t/*.t
[12:07:39] t/alternatives.t ...... ok        3 ms ( 0.00 usr  0.00 sys +  0.07 cusr  0.01 csys =  0.08 CPU)
[12:07:39] t/inline_nested.t ..... ok        2 ms ( 0.00 usr  0.00 sys +  0.07 cusr  0.01 csys =  0.08 CPU)
[12:07:39] t/number.t ............ ok        9 ms ( 0.01 usr  0.00 sys +  0.21 cusr  0.03 csys =  0.25 CPU)
[12:07:39] t/name.t .............. ok       16 ms ( 0.01 usr  0.00 sys +  0.29 cusr  0.04 csys =  0.34 CPU)

         
     NOTE: Setting safe=>1... with masked signals does not seem to work.
     The problem is that the masked signals are not masked when safe=>1.
     When safe=>0 they are.  

     If you have an application for safe=>1 and can come up with a patch
     for this module that gets this test working, or a patch to the test
     that shows how to fix it, please send it to me. 

     See the block below this one... which if executed would test safe mode
     with masked signals... it is a clone of part of mask.t that proves this
     is broken.

     This test can be executed from the command line as follows:

         SAFE_T=1 perl -Ilib t/safe.t

     Lincoln

     

[12:07:39] t/safe.t .............. ok        1 ms ( 0.00 usr  0.00 sys +  0.08 cusr  0.01 csys =  0.09 CPU)
[12:07:39] t/recursive_nested.t .. ok        7 ms ( 0.01 usr  0.00 sys +  0.16 cusr  0.02 csys =  0.19 CPU)
# delta time was 0.100253, timer was for 0.1 secconds
[12:07:43] t/mask.t .............. ok     4118 ms ( 0.01 usr  0.01 sys +  0.46 cusr  0.05 csys =  0.53 CPU)
[12:07:43] t/timeout.t ........... ok     4106 ms ( 0.01 usr  0.01 sys +  0.24 cusr  0.03 csys =  0.29 CPU)
[12:07:43]
All tests successful.
Files=8, Tests=87,  4 wallclock secs ( 0.04 usr  0.01 sys +  0.61 cusr  0.08 csys =  0.74 CPU)
Result: PASS

------------------------------
PREREQUISITES
------------------------------

Prerequisite modules loaded:

    No requirements found

------------------------------
ENVIRONMENT AND OTHER CONTEXT
------------------------------

Environment variables:

    HARNESS_OPTIONS = j8
    HARNESS_TIMER = 1
    LANG = en_GB.UTF-8
    PATH = /home/ioanrogers/.plenv/versions/5.26.1/bin:/home/ioanrogers/.plenv/libexec:/home/ioanrogers/.plenv/plugins/perl-build/bin:/home/ioanrogers/.local/share/go/bin:/home/ioanrogers/.plenv/shims:~/.plenv/bin::/home/ioanrogers/.local/bin:/usr/local/bin:/usr/bin:/bin:/usr/local/sbin:/sbin:/usr/sbin:/usr/games
    PERL_CPANM_OPT = --prompt --no-man-pages --verify --mirror https://cpan.metacpan.org
    SHELL = /bin/bash
    TERM = xterm-256color

Perl special variables (and OS-specific diagnostics, for MSWin32):

    EGID = 1854000021 135 190 1854000000 1854000021 1854000040 1854100503 1854100505
    EUID = 1854000021
    EXECUTABLE_NAME = /home/ioanrogers/.plenv/versions/5.26.1/bin/perl5.26.1
    GID = 1854000021 135 190 1854000000 1854000021 1854000040 1854100503 1854100505
    UID = 1854000021

Perl module toolchain versions installed:

    Module              Have    
    ------------------- --------
    CPAN                2.18    
    CPAN::Meta          2.150010
    Cwd                 3.67    
    ExtUtils::CBuilder  0.280225
    ExtUtils::Command   7.24    
    ExtUtils::Install   2.04    
    ExtUtils::MakeMaker 7.24    
    ExtUtils::Manifest  1.70    
    ExtUtils::ParseXS   3.34    
    File::Spec          3.67    
    JSON                2.94    
    JSON::PP            2.94    
    Module::Build       0.4224  
    Module::Signature   0.81    
    Parse::CPAN::Meta   2.150010
    Test::Harness       3.38    
    Test::More          1.302106
    YAML                1.23    
    YAML::Syck          n/a     
    version             0.9917  


--

Summary of my perl5 (revision 5 version 26 subversion 1) configuration:
   
  Platform:
    osname=linux
    osvers=4.13.9-300.fc27.x86_64
    archname=x86_64-linux
    uname='linux ioan-desktop.eng.sophos 4.13.9-300.fc27.x86_64 #1 smp mon oct 23 13:41:58 utc 2017 x86_64 x86_64 x86_64 gnulinux '
    config_args='-Dprefix=/home/ioanrogers/.plenv/versions/5.26.1 -de -Dusedevel -Dcc=clang -Doptimize=-O3 -Dccflags-march=native -flto -fstack-protector-strong -Wformat -Werror=format-security -Wl,-z,relro -pie -fPIE -Dcppflags=-Wdate-time -D_FORTIFY_SOURCE=2 -Dldflags=-Wl,-z,relro -Dman1dir=none -Dman3dir=none -A'eval:scriptdir=/home/ioanrogers/.plenv/versions/5.26.1/bin''
    hint=recommended
    useposix=true
    d_sigaction=define
    useithreads=undef
    usemultiplicity=undef
    use64bitint=define
    use64bitall=define
    uselongdouble=undef
    usemymalloc=n
    default_inc_excludes_dot=define
    bincompat5005=undef
  Compiler:
    cc='clang'
    ccflags ='-fno-strict-aliasing -pipe -fstack-protector-strong -I/usr/local/include -D_LARGEFILE_SOURCE -D_FILE_OFFSET_BITS=64 -D_FORTIFY_SOURCE=2'
    optimize='-O3'
    cppflags='-Wdate-time -D_FORTIFY_SOURCE=2 -fno-strict-aliasing -pipe -fstack-protector-strong -I/usr/local/include'
    ccversion=''
    gccversion='4.2.1 Compatible Clang 4.0.1 (tags/RELEASE_401/final)'
    gccosandvers=''
    intsize=4
    longsize=8
    ptrsize=8
    doublesize=8
    byteorder=12345678
    doublekind=3
    d_longlong=define
    longlongsize=8
    d_longdbl=define
    longdblsize=16
    longdblkind=3
    ivtype='long'
    ivsize=8
    nvtype='double'
    nvsize=8
    Off_t='off_t'
    lseeksize=8
    alignbytes=8
    prototype=define
  Linker and Libraries:
    ld='clang'
    ldflags ='-Wl,-z,relro -fstack-protector-strong -L/usr/local/lib'
    libpth=/usr/local/lib /usr/bin/../lib64/clang/4.0.1/lib /usr/lib /lib/../lib64 /usr/lib/../lib64 /lib /lib64 /usr/lib64 /usr/local/lib64
    libs=-lpthread -lnsl -ldl -lm -lcrypt -lutil -lc
    perllibs=-lpthread -lnsl -ldl -lm -lcrypt -lutil -lc
    libc=libc-2.26.so
    so=so
    useshrplib=false
    libperl=libperl.a
    gnulibc_version='2.26'
  Dynamic Linking:
    dlsrc=dl_dlopen.xs
    dlext=so
    d_dlsymun=undef
    ccdlflags='-Wl,-E'
    cccdlflags='-fPIC'
    lddlflags='-shared -O3 -L/usr/local/lib -fstack-protector-strong'


Characteristics of this binary (from libperl): 
  Compile-time options:
    HAS_TIMES
    PERLIO_LAYERS
    PERL_COPY_ON_WRITE
    PERL_DONT_CREATE_GVSV
    PERL_MALLOC_WRAP
    PERL_OP_PARENT
    PERL_PRESERVE_IVUV
    PERL_USE_DEVEL
    USE_64_BIT_ALL
    USE_64_BIT_INT
    USE_LARGE_FILES
    USE_LOCALE
    USE_LOCALE_COLLATE
    USE_LOCALE_CTYPE
    USE_LOCALE_NUMERIC
    USE_LOCALE_TIME
    USE_PERLIO
    USE_PERL_ATOF
  Locally applied patches:
    Devel::PatchPerl 1.48
  Built under linux
  Compiled at Oct 27 2017 09:21:15
  %ENV:
    PERL_CPANM_OPT="--prompt --no-man-pages --verify --mirror https://cpan.metacpan.org"
  @INC:
    /home/ioanrogers/.plenv/versions/5.26.1/lib/perl5/site_perl/5.26.1/x86_64-linux
    /home/ioanrogers/.plenv/versions/5.26.1/lib/perl5/site_perl/5.26.1
    /home/ioanrogers/.plenv/versions/5.26.1/lib/perl5/5.26.1/x86_64-linux
    /home/ioanrogers/.plenv/versions/5.26.1/lib/perl5/5.26.1