Report for Test-WWW-Mechanize-Catalyst-0.54

Back
From: metabase:user:31f4bada-c665-11df-8519-64d47c3d4345
Subject: PASS Test-WWW-Mechanize-Catalyst-0.54 v5.10.0 Mac OS X
Date: 2011-09-02T16:25:27Z

This distribution has been tested as part of the CPAN Testers
project, supporting the Perl programming language.  See
http://wiki.cpantesters.org/ for more information or email
questions to cpan-testers-discuss@perl.org


--
Dear Tomas Doran,

This is a computer-generated report for Test-WWW-Mechanize-Catalyst-0.54
on perl 5.10.0, created by CPAN-Reporter-1.2002.

Thank you for uploading your work to CPAN.  Congratulations!
All tests were successful.

Sections of this report:

    * Tester comments
    * Program output
    * Prerequisites
    * Environment and other context

------------------------------
TESTER COMMENTS
------------------------------

Additional comments from tester:

none provided

------------------------------
PROGRAM OUTPUT
------------------------------

Output from '/usr/bin/make test':

PERL_DL_NONLAZY=1 /usr/bin/perl "-MExtUtils::Command::MM" "-e" "test_harness(0, 'inc', 'blib/lib', 'blib/arch')" t/*.t
t/auth-test.t ........... ok
t/cookies.t ............. ok
# 
# ###################################################################
# Starting an external Catalyst HTTP server on port 7357
# To change the port, please set the TWMC_TEST_PORT env variable.
# (The server will be automatically shut-down right after the tests).
# ###################################################################
t/multi_content_type.t .. ok
t/pod.t ................. ok
t/redirect.t ............ ok
t/simple.t .............. ok
t/two_app.t ............. ok
t/useragent.t ........... ok
t/white_label.t ......... ok
All tests successful.
Files=9, Tests=92,  8 wallclock secs ( 0.05 usr  0.02 sys +  7.03 cusr  0.75 csys =  7.85 CPU)
Result: PASS

------------------------------
PREREQUISITES
------------------------------

Prerequisite modules loaded:

requires:

    Module                                   Need     Have    
    ---------------------------------------- -------- --------
    Catalyst                                 5.00     5.90002 
    LWP                                      5.816    6.02    
    Moose                                    0.67     2.0204  
    namespace::clean                         0.09     0.20    
    perl                                     5.008004 5.010000
    Test::WWW::Mechanize                     1.14     1.34    
    WWW::Mechanize                           1.54     1.68    

build_requires:

    Module                                   Need     Have    
    ---------------------------------------- -------- --------
    Catalyst::Plugin::Session::State::Cookie 0        0.17    
    Catalyst::Plugin::Session::Store::Dummy  0        0       
    ExtUtils::MakeMaker                      6.42     6.59    
    Test::Exception                          0        0.31    
    Test::More                               0        0.98    

configure_requires:

    Module                                   Need     Have    
    ---------------------------------------- -------- --------
    ExtUtils::MakeMaker                      6.42     6.59    


------------------------------
ENVIRONMENT AND OTHER CONTEXT
------------------------------

Environment variables:

    LANG = en_US.utf-8
    LANGUAGE = en_US.utf-8
    LC_ALL = en_US.utf-8
    PATH = /Users/sscaffid/perl5/bin:/usr/X11/bin:/bin:/sbin:/usr/bin:/usr/local/bin:/usr/sbin:/Users/sscaffid/bin:/opt/local/bin:/opt/local/sbin
    PERL5LIB = /Users/sscaffid/perl5/lib/perl5/darwin-thread-multi-2level:/Users/sscaffid/perl5/lib/perl5
    PERL5OPT = 
    PERL5_CPANPLUS_IS_RUNNING = 44432
    PERL5_CPAN_IS_RUNNING = 44432
    PERL_MM_OPT = INSTALL_BASE=/Users/sscaffid/perl5
    SHELL = /bin/bash
    TERM = xterm-color
    TMPDIR = /var/folders/cb/cbhaKUz3FUWbgv21Ypfnv+++ShQ/-Tmp-/
    VERSIONER_PERL_PREFER_32_BIT = yes
    VERSIONER_PERL_VERSION = 5.10.0

Perl special variables (and OS-specific diagnostics, for MSWin32):

    $^X = /usr/bin/perl
    $UID/$EUID = 31447 / 31447
    $GID = 600 600 405 1530529095 1485795049 1025 1323777347 402 912593281 204 100 98 81 80 79 62 12 684323751 263904027 404 2135638224 403 1968685341 1466766020 1373575195 216 782788066 401 537280581 403006795 500 224205297 128052172
    $EGID = 600 600 405 1530529095 1485795049 1025 1323777347 402 912593281 204 100 98 81 80 79 62 12 684323751 263904027 404 2135638224 403 1968685341 1466766020 1373575195 216 782788066 401 537280581 403006795 500 224205297 128052172

Perl module toolchain versions installed:

    Module              Have    
    ------------------- --------
    CPAN                1.9800  
    CPAN::Meta          2.112150
    Cwd                 3.33    
    ExtUtils::CBuilder  0.280202
    ExtUtils::Command   1.17    
    ExtUtils::Install   1.54    
    ExtUtils::MakeMaker 6.59    
    ExtUtils::Manifest  1.60    
    ExtUtils::ParseXS   3.04    
    File::Spec          3.33    
    JSON                2.53    
    JSON::PP            2.27200 
    Module::Build       0.3800  
    Module::Signature   0.68    
    Parse::CPAN::Meta   1.4401  
    Test::Harness       3.23    
    Test::More          0.98    
    YAML                0.73    
    YAML::Syck          1.17    
    version             0.91    


--

Summary of my perl5 (revision 5 version 10 subversion 0) configuration:
  Platform:
    osname=darwin, osvers=10.0, archname=darwin-thread-multi-2level
    uname='darwin b79.apple.com 10.0 darwin kernel version 10.0.0d8: tue may 5 19:29:59 pdt 2009; root:xnu-1437.2~2release_i386 i386 '
    config_args='-ds -e -Dprefix=/usr -Dccflags=-g  -pipe  -Dldflags= -Dman3ext=3pm -Duseithreads -Duseshrplib -Dinc_version_list=none -Dcc=gcc-4.2'
    hint=recommended, useposix=true, d_sigaction=define
    useithreads=define, usemultiplicity=define
    useperlio=define, d_sfio=undef, uselargefiles=define, usesocks=undef
    use64bitint=define, use64bitall=define, uselongdouble=undef
    usemymalloc=n, bincompat5005=undef
  Compiler:
    cc='gcc-4.2', ccflags ='-arch x86_64 -arch i386 -arch ppc -g -pipe -fno-common -DPERL_DARWIN -fno-strict-aliasing -I/usr/local/include',
    optimize='-Os',
    cppflags='-g -pipe -fno-common -DPERL_DARWIN -fno-strict-aliasing -I/usr/local/include'
    ccversion='', gccversion='4.2.1 (Apple Inc. build 5646)', gccosandvers=''
    intsize=4, longsize=4, ptrsize=4, doublesize=8, byteorder=1234
    d_longlong=define, longlongsize=8, d_longdbl=define, longdblsize=16
    ivtype='long', ivsize=4, nvtype='double', nvsize=8, Off_t='off_t', lseeksize=8
    alignbytes=8, prototype=define
  Linker and Libraries:
    ld='gcc-4.2 -mmacosx-version-min=10.6', ldflags ='-arch x86_64 -arch i386 -arch ppc -L/usr/local/lib'
    libpth=/usr/local/lib /usr/lib
    libs=-ldbm -ldl -lm -lutil -lc
    perllibs=-ldl -lm -lutil -lc
    libc=/usr/lib/libc.dylib, so=dylib, useshrplib=true, libperl=libperl.dylib
    gnulibc_version=''
  Dynamic Linking:
    dlsrc=dl_dlopen.xs, dlext=bundle, d_dlsymun=undef, ccdlflags=' '
    cccdlflags=' ', lddlflags='-arch x86_64 -arch i386 -arch ppc -bundle -undefined dynamic_lookup -L/usr/local/lib'


Characteristics of this binary (from libperl): 
  Compile-time options: MULTIPLICITY PERL_DONT_CREATE_GVSV
                        PERL_IMPLICIT_CONTEXT PERL_MALLOC_WRAP USE_ITHREADS
                        USE_LARGE_FILES USE_PERLIO USE_REENTRANT_API
  Locally applied patches:
	/Library/Perl/Updates/<version> comes before system perl directories
	installprivlib and installarchlib points to the Updates directory
  Built under darwin
  Compiled at Jun 25 2009 21:54:26
  %ENV:
    PERL5LIB="/Users/sscaffid/perl5/lib/perl5/darwin-thread-multi-2level:/Users/sscaffid/perl5/lib/perl5"
    PERL5OPT=""
    PERL5_CPANPLUS_IS_RUNNING="44432"
    PERL5_CPAN_IS_RUNNING="44432"
    PERL_MM_OPT="INSTALL_BASE=/Users/sscaffid/perl5"
  @INC:
    /Users/sscaffid/perl5/lib/perl5/darwin-thread-multi-2level
    /Users/sscaffid/perl5/lib/perl5/darwin-thread-multi-2level
    /Users/sscaffid/perl5/lib/perl5
    /Library/Perl/Updates/5.10.0/darwin-thread-multi-2level
    /Library/Perl/Updates/5.10.0
    /System/Library/Perl/5.10.0/darwin-thread-multi-2level
    /System/Library/Perl/5.10.0
    /Library/Perl/5.10.0/darwin-thread-multi-2level
    /Library/Perl/5.10.0
    /Network/Library/Perl/5.10.0/darwin-thread-multi-2level
    /Network/Library/Perl/5.10.0
    /Network/Library/Perl
    /System/Library/Perl/Extras/5.10.0/darwin-thread-multi-2level
    /System/Library/Perl/Extras/5.10.0
    .