Back
From: metabase:user:314402c4-2aae-11df-837a-5e0a49663a4f
Subject: PASS Task-App-ZofCMS-0.0109 v5.12.3 FreeBSD
Date: 2011-03-29T03:18:08Z
This distribution has been tested as part of the CPAN Testers
project, supporting the Perl programming language. See
http://wiki.cpantesters.org/ for more information or email
questions to cpan-testers-discuss@perl.org
--
Dear Zoffix Znet,
This is a computer-generated report for Task-App-ZofCMS-0.0109
on perl 5.12.3, created by CPAN-Reporter-1.1902.
Thank you for uploading your work to CPAN. Congratulations!
All tests were successful.
Sections of this report:
* Tester comments
* Program output
* Prerequisites
* Environment and other context
------------------------------
TESTER COMMENTS
------------------------------
Additional comments from tester:
none provided
------------------------------
PROGRAM OUTPUT
------------------------------
Output from '/usr/bin/make test':
PERL_DL_NONLAZY=1 /usr/home/cpansand/var/ctps/2pre5140/install/perl-5.12.3/bin/perl "-MExtUtils::Command::MM" "-e" "test_harness(0, 'blib/lib', 'blib/arch')" t/*.t
Use of uninitialized value $Task::App::ZofCMS::VERSION in concatenation (.) or string at t/00-load.t line 80.
# Testing Task::App::ZofCMS , Perl 5.012003, /usr/home/cpansand/var/ctps/2pre5140/install/perl-5.12.3/bin/perl
t/00-load.t ....... ok
t/pod-coverage.t .. ok
t/pod.t ........... ok
All tests successful.
Files=3, Tests=74, 9 wallclock secs ( 0.05 usr 0.01 sys + 0.53 cusr 0.05 csys = 0.64 CPU)
Result: PASS
------------------------------
PREREQUISITES
------------------------------
Prerequisite modules loaded:
requires:
Module Need Have
---------------------------------------------------- ------ ------
App::ZofCMS 0.0221 0.0221
App::ZofCMS::Plugin::AccessDenied 0.0101 0.0101
App::ZofCMS::Plugin::AntiSpamMailTo 0.0101 0.0101
App::ZofCMS::Plugin::AutoDump 0.0101 0.0101
App::ZofCMS::Plugin::AutoEmptyQueryDelete 0.0101 0.0101
App::ZofCMS::Plugin::AutoIMGSize 0.0102 0.0102
App::ZofCMS::Plugin::Barcode 0.0103 0.0103
App::ZofCMS::Plugin::Base 0.0106 0.0111
App::ZofCMS::Plugin::BasicLWP 0.0104 0.0104
App::ZofCMS::Plugin::BoolSettingsManager 0.0101 0.0102
App::ZofCMS::Plugin::BreadCrumbs 0.0103 0.0103
App::ZofCMS::Plugin::Captcha 0.0102 0.0102
App::ZofCMS::Plugin::Comments 0.0102 0.0102
App::ZofCMS::Plugin::ConditionalRedirect 0.0101 0.0101
App::ZofCMS::Plugin::ConfigToTemplate 0.0104 0.0104
App::ZofCMS::Plugin::Cookies 0.0104 0.0104
App::ZofCMS::Plugin::CSSMinifier 0.0104 0.0104
App::ZofCMS::Plugin::DateSelector 0.0112 0.0112
App::ZofCMS::Plugin::DBI 0.0402 0.0402
App::ZofCMS::Plugin::DBIPPT 0.0104 0.0104
App::ZofCMS::Plugin::Debug::Dumper 0.0102 0.0102
App::ZofCMS::Plugin::Debug::Validator::HTML 0.0102 0.0102
App::ZofCMS::Plugin::DirTreeBrowse 0.0105 0.0105
App::ZofCMS::Plugin::Doctypes 0.0101 0.0101
App::ZofCMS::Plugin::FileList 0.0101 0.0101
App::ZofCMS::Plugin::FileToTemplate 0.0101 0.0101
App::ZofCMS::Plugin::FileTypeIcon 0.0105 0.0105
App::ZofCMS::Plugin::FileUpload 0.0114 0.0114
App::ZofCMS::Plugin::FloodControl 0.0103 0.0103
App::ZofCMS::Plugin::FormChecker 0.0341 0.0341
App::ZofCMS::Plugin::FormFiller 0.0101 0.0101
App::ZofCMS::Plugin::FormMailer 0.0222 0.0222
App::ZofCMS::Plugin::FormToDatabase 0.0101 0.0101
App::ZofCMS::Plugin::GetRemotePageTitle 0.0104 0.0104
App::ZofCMS::Plugin::GoogleCalculator 0.0103 0.0103
App::ZofCMS::Plugin::GooglePageRank 0.0103 0.0103
App::ZofCMS::Plugin::GoogleTime 0.0103 0.0103
App::ZofCMS::Plugin::HTMLFactory 0.0102 0.0102
App::ZofCMS::Plugin::HTMLFactory::Entry 0.0101 0.0101
App::ZofCMS::Plugin::HTMLFactory::PageToBodyId 0.0102 0.0102
App::ZofCMS::Plugin::HTMLMailer 0.0102 0.0102
App::ZofCMS::Plugin::ImageGallery 0.0203 0.0203
App::ZofCMS::Plugin::ImageResize 0.0103 0.0103
App::ZofCMS::Plugin::InstalledModuleChecker 0.0102 0.0102
App::ZofCMS::Plugin::JavaScriptMinifier 0.0102 0.0102
App::ZofCMS::Plugin::LinkifyText 0.0110 0.0110
App::ZofCMS::Plugin::LinksToSpecs::CSS 0.0104 0.0104
App::ZofCMS::Plugin::LinksToSpecs::HTML 0.0101 0.0101
App::ZofCMS::Plugin::NavMaker 0.0103 0.0103
App::ZofCMS::Plugin::PreferentialOrder 0.0102 0.0103
App::ZofCMS::Plugin::QueryToTemplate 0.0102 0.0102
App::ZofCMS::Plugin::QuickNote 0.0107 0.0107
App::ZofCMS::Plugin::RandomBashOrgQuote 0.0102 0.0102
App::ZofCMS::Plugin::RandomPasswordGenerator 0.0102 0.0102
App::ZofCMS::Plugin::RandomPasswordGeneratorPurePerl 0.0103 0.0103
App::ZofCMS::Plugin::Search::Indexer 0.0102 0.0102
App::ZofCMS::Plugin::SendFile 0.0103 0.0103
App::ZofCMS::Plugin::Session 0.0102 0.0102
App::ZofCMS::Plugin::SplitPriceSelect 0.0103 0.0103
App::ZofCMS::Plugin::StyleSwitcher 0.0102 0.0102
App::ZofCMS::Plugin::Sub 0.0101 0.0101
App::ZofCMS::Plugin::Syntax::Highlight::CSS 0.0102 0.0102
App::ZofCMS::Plugin::Syntax::Highlight::HTML 0.0101 0.0101
App::ZofCMS::Plugin::TagCloud 0.0103 0.0103
App::ZofCMS::Plugin::Tagged 0.0252 0.0252
App::ZofCMS::Plugin::TOC 0.0103 0.0103
App::ZofCMS::Plugin::UserLogin 0.0212 0.0213
App::ZofCMS::Plugin::UserLogin::ChangePassword 0.0110 0.0110
App::ZofCMS::Plugin::UserLogin::ForgotPassword 0.0112 0.0112
App::ZofCMS::Plugin::ValidationLinks 0.0101 0.0101
App::ZofCMS::Plugin::YouTube 0.0104 0.0104
App::ZofCMS::PluginReference 0.0106 0.0107
App::ZofCMS::Test::Plugin 0.0104 0.0104
Test::More 0 0.98
configure_requires:
Module Need Have
---------------------------------------------------- ------ ------
Module::Build 0.36 0.3800
------------------------------
ENVIRONMENT AND OTHER CONTEXT
------------------------------
Environment variables:
DBIC_NO_WARN_BAD_PERL = 1
PATH = /usr/local/bin:/usr/X11R6/bin:/usr/X11/bin:/usr/perl5.8.0/bin:/usr/bin:/bin:/usr/local/sbin:/usr/sbin:/sbin:/usr/local/pilot/bin:/home/cpansand/bin/freebsd8.0:/home/cpansand/bin/sh:/home/cpansand/bin:/usr/X386/bin:/usr/games:/home/cpansand/devel:/usr/home/e/eserte/src/perl/CPAN-Testers-ParallelSmoker/utils
PERL5LIB =
PERL5OPT =
PERL5_CPANPLUS_IS_RUNNING = 8405
PERL5_CPAN_IS_RUNNING = 8405
PERL5_CPAN_IS_RUNNING_IN_RECURSION = 18828,8405
PERL_BATCH = yes
PERL_CPAN_REPORTER_DIR = /home/cpansand/var/ctps/2pre5140/config/perl-5.12.3/cpanreporter
PERL_EXTUTILS_AUTOINSTALL = --defaultdeps
PERL_HTML_DISPLAY_CLASS = HTML::Display::Mozilla
PERL_PARALLEL_SMOKER = yes
SHELL = /usr/local/bin/zsh
TERM = xterm
TMPDIR = /tmp/cpansmoker-1023
Perl special variables (and OS-specific diagnostics, for MSWin32):
$^X = /usr/home/cpansand/var/ctps/2pre5140/install/perl-5.12.3/bin/perl
$UID/$EUID = 1023 / 1023
$GID = 1023 1023
$EGID = 1023 1023
Perl module toolchain versions installed:
Module Have
------------------- --------
CPAN 1.9600
Cwd 3.33
ExtUtils::CBuilder 0.280202
ExtUtils::Command 1.17
ExtUtils::Install 1.55
ExtUtils::MakeMaker 6.56
ExtUtils::Manifest 1.58
ExtUtils::ParseXS 2.2206
File::Spec 3.33
Module::Build 0.3800
Module::Signature 0.66
Test::Harness 3.23
Test::More 0.98
YAML 0.72
YAML::Syck 1.17
version 0.88
--
Summary of my perl5 (revision 5 version 12 subversion 3) configuration:
Platform:
osname=freebsd, osvers=8.0-release, archname=i386-freebsd
uname='freebsd biokovo.herceg.de 8.0-release freebsd 8.0-release #0: sat nov 21 15:48:17 utc 2009 root@almeida.cse.buffalo.edu:usrobjusrsrcsysgeneric i386 '
config_args='-ds -e -Uversiononly -Dinstallusrbinperl=n -Dusedevel -Dprefix=/home/cpansand/var/ctps/2pre5140/install/perl-5.12.3'
hint=recommended, useposix=true, d_sigaction=define
useithreads=undef, usemultiplicity=undef
useperlio=define, d_sfio=undef, uselargefiles=define, usesocks=undef
use64bitint=undef, use64bitall=undef, uselongdouble=undef
usemymalloc=n, bincompat5005=undef
Compiler:
cc='cc', ccflags ='-DHAS_FPSETMASK -DHAS_FLOATINGPOINT_H -fno-strict-aliasing -pipe -fstack-protector -I/usr/local/include',
optimize='-O',
cppflags='-DHAS_FPSETMASK -DHAS_FLOATINGPOINT_H -fno-strict-aliasing -pipe -fstack-protector -I/usr/local/include'
ccversion='', gccversion='4.2.1 20070719 [FreeBSD]', gccosandvers=''
intsize=4, longsize=4, ptrsize=4, doublesize=8, byteorder=1234
d_longlong=define, longlongsize=8, d_longdbl=define, longdblsize=12
ivtype='long', ivsize=4, nvtype='double', nvsize=8, Off_t='off_t', lseeksize=8
alignbytes=4, prototype=define
Linker and Libraries:
ld='cc', ldflags ='-Wl,-E -fstack-protector -L/usr/local/lib'
libpth=/usr/lib /usr/local/lib
libs=-lgdbm -lm -lcrypt -lutil -lc
perllibs=-lm -lcrypt -lutil -lc
libc=, so=so, useshrplib=false, libperl=libperl.a
gnulibc_version=''
Dynamic Linking:
dlsrc=dl_dlopen.xs, dlext=so, d_dlsymun=undef, ccdlflags=' '
cccdlflags='-DPIC -fPIC', lddlflags='-shared -L/usr/local/lib -fstack-protector'
Characteristics of this binary (from libperl):
Compile-time options: PERL_DONT_CREATE_GVSV PERL_MALLOC_WRAP PERL_USE_DEVEL
USE_LARGE_FILES USE_PERLIO USE_PERL_ATOF
Built under freebsd
Compiled at Mar 23 2011 09:19:36
%ENV:
PERL5LIB=""
PERL5OPT=""
PERL5_CPANPLUS_IS_RUNNING="8405"
PERL5_CPAN_IS_RUNNING="8405"
PERL5_CPAN_IS_RUNNING_IN_RECURSION="18828,8405"
PERL_BATCH="yes"
PERL_CPAN_REPORTER_DIR="/home/cpansand/var/ctps/2pre5140/config/perl-5.12.3/cpanreporter"
PERL_EXTUTILS_AUTOINSTALL="--defaultdeps"
PERL_HTML_DISPLAY_CLASS="HTML::Display::Mozilla"
PERL_PARALLEL_SMOKER="yes"
@INC:
/home/cpansand/var/ctps/2pre5140/install/perl-5.12.3/lib/site_perl/5.12.3/i386-freebsd
/home/cpansand/var/ctps/2pre5140/install/perl-5.12.3/lib/site_perl/5.12.3
/home/cpansand/var/ctps/2pre5140/install/perl-5.12.3/lib/5.12.3/i386-freebsd
/home/cpansand/var/ctps/2pre5140/install/perl-5.12.3/lib/5.12.3
.