Back
From: metabase:user:8286d1fc-3d52-11e2-9ec4-cb9cdd236785
Subject: PASS MooseX-App-Cmd-0.27 v5.12.1 GNU/Linux
Date: 2014-05-27T11:15:12Z
This distribution has been tested as part of the CPAN Testers
project, supporting the Perl programming language. See
http://wiki.cpantesters.org/ for more information or email
questions to cpan-testers-discuss@perl.org
--
Dear Mark Gardner,
This is a computer-generated report for MooseX-App-Cmd-0.27
on perl 5.12.1, created by CPAN-Reporter-1.2011.
Thank you for uploading your work to CPAN. Congratulations!
All tests were successful.
Sections of this report:
* Tester comments
* Program output
* Prerequisites
* Environment and other context
------------------------------
TESTER COMMENTS
------------------------------
Additional comments from tester:
this report is from an automated smoke testing program
and was not reviewed by a human for accuracy
------------------------------
PROGRAM OUTPUT
------------------------------
Output from '/usr/local/bin/make test':
PERL_DL_NONLAZY=1 /opt/perl444-27-32-5.12.1/bin/perl "-MExtUtils::Command::MM" "-MTest::Harness" "-e" "undef *Test::Harness::Switches; test_harness(0, 'blib/lib', 'blib/arch')" t/*.t
t/00-compile.t .......................... ok
# Testing with Perl 5.012001, /opt/perl444-27-32-5.12.1/bin/perl
# Any::Moose version is 0.21
# App::Cmd version is 0.323
# App::Cmd::Command version is 0.323
# Carp version is 1.32
# Data::Dumper version is 2.151
# English version is 1.04
# ExtUtils::MakeMaker version is 6.98
# File::Basename version is 2.78
# File::Spec version is 3.40
# Getopt::Long::Descriptive version is 0.097
# IO::Handle version is 1.28
# IPC::Open3 version is 1.05
# MouseX::Getopt version is 0.34
# Scalar::Util version is 1.38
# Test::More version is 1.001003
# Test::Output version is 1.03
# Test::use::ok version is 0.11
# YAML version is 0.90
# base version is 2.18
# lib version is 0.63
# namespace::clean version is 0.24
# strict version is 1.04
# warnings version is 1.09
t/000-report-versions.t ................. ok
t/author-critic.t ....................... skipped: these tests are for testing by the author
t/author-test-eol.t ..................... skipped: these tests are for testing by the author
t/basic.t ............................... ok
t/build_emulates_new.t .................. ok
t/configfile.t .......................... skipped: These tests require Mo(o|u)seX::ConfigFromFile and YAML
t/moose.t ............................... ok
t/mouse.t ............................... ok
t/release-changes_has_content.t ......... skipped: these tests are for release candidate testing
t/release-cpan-changes.t ................ skipped: these tests are for release candidate testing
t/release-dist-manifest.t ............... skipped: these tests are for release candidate testing
t/release-distmeta.t .................... skipped: these tests are for release candidate testing
t/release-kwalitee.t .................... skipped: these tests are for release candidate testing
t/release-localbrew-perl-latest-TEST.t .. skipped: these tests are for release candidate testing
t/release-meta-json.t ................... skipped: these tests are for release candidate testing
t/release-minimum-version.t ............. skipped: these tests are for release candidate testing
t/release-mojibake.t .................... skipped: these tests are for release candidate testing
t/release-no-tabs.t ..................... skipped: these tests are for release candidate testing
t/release-pod-coverage.t ................ skipped: these tests are for release candidate testing
t/release-pod-linkcheck.t ............... skipped: these tests are for release candidate testing
t/release-pod-syntax.t .................. skipped: these tests are for release candidate testing
t/release-portability.t ................. skipped: these tests are for release candidate testing
t/release-synopsis.t .................... skipped: these tests are for release candidate testing
t/release-test-version.t ................ skipped: these tests are for release candidate testing
t/release-unused-vars.t ................. skipped: these tests are for release candidate testing
All tests successful.
Files=26, Tests=44, 7 wallclock secs ( 0.22 usr 0.06 sys + 5.74 cusr 0.63 csys = 6.65 CPU)
Result: PASS
------------------------------
PREREQUISITES
------------------------------
Prerequisite modules loaded:
requires:
Module Need Have
------------------------- ----- --------
Any::Moose 0 0.21
App::Cmd 0.321 0.323
App::Cmd::Command 0 0.323
English 0 1.04
File::Basename 0 2.78
Getopt::Long::Descriptive 0.091 0.097
MouseX::Getopt 0 0.34
namespace::clean 0 0.24
Test::use::ok 0 0.11
build_requires:
Module Need Have
------------------------- ----- --------
base 0 2.18
Carp 0 1.32
Data::Dumper 0 2.151
ExtUtils::MakeMaker 0 6.98
File::Spec 0 3.40
IO::Handle 0 1.28
IPC::Open3 0 1.05
lib 0 0.63
Scalar::Util 0 1.38
strict 0 1.04
Test::More 0.94 1.001003
Test::Output 0 1.03
warnings 0 1.09
YAML 0 0.90
configure_requires:
Module Need Have
------------------------- ----- --------
ExtUtils::MakeMaker 6.30 6.98
opt_requires:
Module Need Have
------------------------- ----- --------
Moose 0.86 2.1202
MooseX::ConfigFromFile 0.08 0.13
MooseX::Getopt 0.18 0.59
! MouseX::ConfigFromFile 0 n/a
------------------------------
ENVIRONMENT AND OTHER CONTEXT
------------------------------
Environment variables:
AUTOMATED_TESTING = 1
LANG = en_US.UTF-8
LD_LIBRARY_PATH = /usr/local/lib
NONINTERACTIVE_TESTING = 1
PATH = /usr/lib/qt-3.3/bin:/usr/kerberos/sbin:/usr/kerberos/bin:/usr/lib/ccache:/usr/local/sbin:/usr/local/bin:/sbin:/bin:/usr/sbin:/usr/bin:/usr/X11R6/bin:/usr/lib/alliance/bin:/opt/real/RealPlayer:/root/bin:/usr/lib/alliance/bin:/opt/real/RealPlayer
PERL5LIB =
PERL5OPT =
PERL5_CPANPLUS_IS_RUNNING = 19013
PERL5_CPAN_IS_RUNNING = 19013
PERL_ANYEVENT_MODEL = POE
PERL_MM_NONINTERACTIVE = 1
PERL_MM_USE_DEFAULT = 1
SHELL = /bin/bash
TERM = xterm
Perl special variables (and OS-specific diagnostics, for MSWin32):
$^X = /opt/perl444-27-32-5.12.1/bin/perl
$UID/$EUID = 0 / 0
$GID = 0 0 1 2 3 4 6 10
$EGID = 0 0 1 2 3 4 6 10
Perl module toolchain versions installed:
Module Have
------------------- --------
CPAN 2.05
CPAN::Meta 2.133380
Cwd 3.40
ExtUtils::CBuilder 0.280216
ExtUtils::Command 1.18
ExtUtils::Install 1.55
ExtUtils::MakeMaker 6.98
ExtUtils::Manifest 1.63
ExtUtils::ParseXS 3.22
File::Spec 3.40
JSON 2.90
JSON::PP 2.27203
Module::Build 0.4205
Module::Signature 0.73
Parse::CPAN::Meta 1.4414
Test::Harness 3.30
Test::More 1.001003
YAML 0.90
YAML::Syck 1.27
version 0.9908
--
Summary of my perl5 (revision 5 version 12 subversion 1) configuration:
Platform:
osname=linux, osvers=2.6.27-repin.1, archname=i686-linux-thread-multi
uname='linux localhost.localdomain 2.6.27-repin.1 #1 smp tue jan 25 20:07:21 msk 2011 i686 i686 i386 gnulinux '
config_args='-Dcc=/opt/444/bin/gcc -Doptimize=-O3 -DDMALLOC=/usr/local/bin/dmalloc -Dprefix=/opt/perl444-27-32-5.12.1 -DDEBUGGING'
hint=recommended, useposix=true, d_sigaction=define
useithreads=define, usemultiplicity=define
useperlio=define, d_sfio=undef, uselargefiles=define, usesocks=undef
use64bitint=undef, use64bitall=undef, uselongdouble=undef
usemymalloc=n, bincompat5005=undef
Compiler:
cc='/opt/444/bin/gcc', ccflags ='-DDMALLOC -D_LARGEFILE_SOURCE -D_FILE_OFFSET_BITS=64',
optimize='-O3 -g',
cppflags='-DDMALLOC'
ccversion='', gccversion='4.4.4', gccosandvers=''
intsize=4, longsize=4, ptrsize=4, doublesize=8, byteorder=1234
d_longlong=define, longlongsize=8, d_longdbl=define, longdblsize=12
ivtype='long', ivsize=4, nvtype='double', nvsize=8, Off_t='off_t', lseeksize=8
alignbytes=4, prototype=define
Linker and Libraries:
ld='/opt/444/bin/gcc', ldflags =' -L/usr/local/lib'
libpth=/usr/local/lib /lib /usr/lib
libs=-lnsl -lgdbm -ldb -ldl -lm -lcrypt -lutil -lpthread -lc
perllibs=-lnsl -ldl -lm -lcrypt -lutil -lpthread -lc
libc=/lib/libc-2.5.so, so=so, useshrplib=true, libperl=libperl.so
gnulibc_version='2.5'
Dynamic Linking:
dlsrc=dl_dlopen.xs, dlext=so, d_dlsymun=undef, ccdlflags='-Wl,-E -Wl,-rpath,/opt/perl444-27-32-5.12.1/lib/5.12.1/i686-linux-thread-multi/CORE'
cccdlflags='-fPIC', lddlflags='-shared -O3 -g -L/usr/local/lib'
Characteristics of this binary (from libperl):
Compile-time options: MULTIPLICITY PERL_DONT_CREATE_GVSV
PERL_IMPLICIT_CONTEXT PERL_MAD PERL_MALLOC_WRAP
USE_FAST_STDIO USE_ITHREADS USE_LARGE_FILES
USE_PERLIO USE_PERL_ATOF USE_REENTRANT_API
Built under linux
Compiled at Oct 18 2013 07:27:54
%ENV:
PERL5LIB=""
PERL5OPT=""
PERL5_CPANPLUS_IS_RUNNING="19013"
PERL5_CPAN_IS_RUNNING="19013"
PERL_ANYEVENT_MODEL="POE"
PERL_MM_NONINTERACTIVE="1"
PERL_MM_USE_DEFAULT="1"
@INC:
/opt/perl444-27-32-5.12.1/lib/site_perl/5.12.1/i686-linux-thread-multi
/opt/perl444-27-32-5.12.1/lib/site_perl/5.12.1
/opt/perl444-27-32-5.12.1/lib/5.12.1/i686-linux-thread-multi
/opt/perl444-27-32-5.12.1/lib/5.12.1
.