Report for Text-Tradition-Analysis-2.0.2

Back
From: metabase:user:30ae4450-2aae-11df-837a-5e0a49663a4f
Subject: PASS Text-Tradition-Analysis-2.0.2 v5.18.1 GNU/Linux
Date: 2015-12-23T20:31:40Z

This distribution has been tested as part of the CPAN Testers
project, supporting the Perl programming language.  See
http://wiki.cpantesters.org/ for more information or email
questions to cpan-testers-discuss@perl.org


--
Dear Tara Andrews,

This is a computer-generated report for Text-Tradition-Analysis-2.0.2
on perl 5.18.1, created by CPAN-Reporter-1.2010.

Thank you for uploading your work to CPAN.  Congratulations!
All tests were successful.

Sections of this report:

    * Tester comments
    * Program output
    * Prerequisites
    * Environment and other context

------------------------------
TESTER COMMENTS
------------------------------

Additional comments from tester:

this report is from an automated smoke testing program
and was not reviewed by a human for accuracy

------------------------------
PROGRAM OUTPUT
------------------------------

Output from '/usr/bin/make test':

PERL_DL_NONLAZY=1 /home/c/perl5/perlbrew/perls/18.1i/bin/perl "-MExtUtils::Command::MM" "-MTest::Harness" "-e" "undef *Test::Harness::Switches; test_harness(0, 'inc', 'blib/lib', 'blib/arch')" t/*.t
t/00dependencies.t .................. ok
t/02pod.t ........................... ok
t/03podcoverage.t ................... skipped: set TEST_POD to enable this test
t/analysis.t ........................ ok
t/stemma.t .......................... ok
Class::MOP::load_class is deprecated at /home/c/perl5/perlbrew/perls/18.1i/lib/site_perl/5.18.1/i686-linux-thread-multi/Class/MOP.pm line 76.
	Class::MOP::load_class('KiokuDB::Backend::DBI') called at /home/c/perl5/perlbrew/perls/18.1i/lib/site_perl/5.18.1/KiokuDB/Util.pm line 59
	KiokuDB::Util::dsn_to_backend('dbi:SQLite:dbname=t/data/analysis.db', 'typemap', 'KiokuDB::TypeMap=HASH(0xb820758)', 'columns', 'ARRAY(0x8581e10)', 'resolver_constructor', 'CODE(0xb820938)') called at /home/c/perl5/perlbrew/perls/18.1i/lib/site_perl/5.18.1/KiokuDB.pm line 49
	KiokuDB::connect('Text::Tradition::Store', 'dbi:SQLite:dbname=t/data/analysis.db', 'typemap', 'KiokuDB::TypeMap=HASH(0xb820758)', 'columns', 'ARRAY(0x8581e10)', 'resolver_constructor', 'CODE(0xb820938)') called at /home/c/.cpan/build/Text-Tradition-Directory-1.2-f3AdUM/blib/lib/Text/Tradition/Directory.pm line 306
	Text::Tradition::Directory::__ANON__('Text::Tradition::Directory=HASH(0xb2d7ab8)') called at /home/c/perl5/perlbrew/perls/18.1i/lib/site_perl/5.18.1/i686-linux-thread-multi/Moose/Meta/Method/Overridden.pm line 43
	Text::Tradition::Directory::_build_directory('Text::Tradition::Directory=HASH(0xb2d7ab8)') called at /home/c/perl5/perlbrew/perls/18.1i/lib/site_perl/5.18.1/i686-linux-thread-multi/Moose/Meta/Attribute.pm line 533
	Moose::Meta::Attribute::_call_builder('Moose::Meta::Attribute=HASH(0xb7dd380)', 'Text::Tradition::Directory=HASH(0xb2d7ab8)') called at /home/c/perl5/perlbrew/perls/18.1i/lib/site_perl/5.18.1/i686-linux-thread-multi/Moose/Meta/Attribute.pm line 814
	Moose::Meta::Attribute::get_value('Moose::Meta::Attribute=HASH(0xb7dd380)', 'Text::Tradition::Directory=HASH(0xb2d7ab8)') called at /home/c/perl5/perlbrew/perls/18.1i/lib/site_perl/5.18.1/i686-linux-thread-multi/Class/MOP/Attribute.pm line 218
	Class::MOP::Attribute::__ANON__('Text::Tradition::Directory=HASH(0xb2d7ab8)') called at /home/c/perl5/perlbrew/perls/18.1i/lib/site_perl/5.18.1/i686-linux-thread-multi/Moose/Meta/Method/Delegation.pm line 99
	KiokuX::Model::directory('Text::Tradition::Directory=HASH(0xb2d7ab8)') called at /home/c/.cpan/build/KiokuX-Model-0.02-a_wjjy/blib/lib/KiokuX/Model.pm line 16
	KiokuX::Model::BUILD('Text::Tradition::Directory=HASH(0xb2d7ab8)', 'HASH(0xb778140)') called at /home/c/perl5/perlbrew/perls/18.1i/lib/site_perl/5.18.1/i686-linux-thread-multi/Class/MOP/Method.pm line 131
	Class::MOP::Method::execute('Moose::Meta::Method=HASH(0xb80d778)', 'Text::Tradition::Directory=HASH(0xb2d7ab8)', 'HASH(0xb778140)') called at /home/c/perl5/perlbrew/perls/18.1i/lib/site_perl/5.18.1/i686-linux-thread-multi/Moose/Object.pm line 59
	Moose::Object::BUILDALL('Text::Tradition::Directory=HASH(0xb2d7ab8)', 'HASH(0xb778140)') called at /home/c/perl5/perlbrew/perls/18.1i/lib/site_perl/5.18.1/i686-linux-thread-multi/Moose/Meta/Class.pm line 285
	Moose::Meta::Class::new_object('Moose::Meta::Class::__ANON__::SERIAL::35=HASH(0xb020de0)', 'HASH(0xb778140)') called at /home/c/perl5/perlbrew/perls/18.1i/lib/site_perl/5.18.1/MooseX/StrictConstructor/Trait/Class.pm line 16
	Class::MOP::Class:::around('CODE(0x8b118a0)', 'Moose::Meta::Class::__ANON__::SERIAL::35=HASH(0xb020de0)', 'HASH(0xb778140)') called at /home/c/perl5/perlbrew/perls/18.1i/lib/site_perl/5.18.1/i686-linux-thread-multi/Class/MOP/Method/Wrapped.pm line 166
	Class::MOP::Method::Wrapped::__ANON__('Moose::Meta::Class::__ANON__::SERIAL::35=HASH(0xb020de0)', 'HASH(0xb778140)') called at /home/c/perl5/perlbrew/perls/18.1i/lib/site_perl/5.18.1/i686-linux-thread-multi/Class/MOP/Method/Wrapped.pm line 95
	Moose::Meta::Class::__ANON__::SERIAL::35::new_object('Moose::Meta::Class::__ANON__::SERIAL::35=HASH(0xb020de0)', 'HASH(0xb778140)') called at /home/c/perl5/perlbrew/perls/18.1i/lib/site_perl/5.18.1/i686-linux-thread-multi/Moose/Object.pm line 30
	Moose::Object::new('Text::Tradition::Directory', 'dsn', 'dbi:SQLite:dbname=t/data/analysis.db') called at constructor KiokuX::Model::new (defined at /home/c/.cpan/build/KiokuX-Model-0.02-a_wjjy/blib/lib/KiokuX/Model.pm line 82) line 4
	KiokuX::Model::new('Text::Tradition::Directory', 'dsn', 'dbi:SQLite:dbname=t/data/analysis.db') called at /home/c/.cpan/build/Text-Tradition-Analysis-2.0.2-PiJYsT/blib/lib/Text/Tradition/Analysis.pm line 182
	Text::Tradition::Analysis::run_analysis('Text::Tradition=HASH(0xab11c50)', 'calcdsn', 'dbi:SQLite:dbname=t/data/analysis.db') called at t/text_tradition_analysis.t line 52
Class::MOP::load_class is deprecated at /home/c/perl5/perlbrew/perls/18.1i/lib/site_perl/5.18.1/i686-linux-thread-multi/Class/MOP.pm line 76.
	Class::MOP::load_class('KiokuDB::Backend::DBI::Schema') called at /home/c/perl5/perlbrew/perls/18.1i/lib/site_perl/5.18.1/KiokuDB/Backend/DBI.pm line 57
	KiokuDB::Backend::DBI::__ANON__('KiokuDB::Backend::DBI::Schema') called at /home/c/perl5/perlbrew/perls/18.1i/lib/site_perl/5.18.1/i686-linux-thread-multi/Moose/Meta/TypeConstraint.pm line 331
	KiokuDB::Backend::DBI::SchemaProto('KiokuDB::Backend::DBI::Schema') called at constructor KiokuDB::Backend::DBI::new (defined at /home/c/perl5/perlbrew/perls/18.1i/lib/site_perl/5.18.1/KiokuDB/Backend/DBI.pm line 1021) line 65
	KiokuDB::Backend::DBI::new('KiokuDB::Backend::DBI', 'dsn', 'dbi:SQLite:dbname=t/data/analysis.db', 'typemap', 'KiokuDB::TypeMap=HASH(0xb820758)', 'columns', 'ARRAY(0x8581e10)', 'resolver_constructor', 'CODE(0xb820938)', ...) called at /home/c/perl5/perlbrew/perls/18.1i/lib/site_perl/5.18.1/KiokuDB/Backend/DBI.pm line 64
	KiokuDB::Backend::DBI::new_from_dsn('KiokuDB::Backend::DBI', 'SQLite:dbname=t/data/analysis.db', 'typemap', 'KiokuDB::TypeMap=HASH(0xb820758)', 'columns', 'ARRAY(0x8581e10)', 'resolver_constructor', 'CODE(0xb820938)') called at /home/c/perl5/perlbrew/perls/18.1i/lib/site_perl/5.18.1/KiokuDB/Util.pm line 60
	KiokuDB::Util::dsn_to_backend('dbi:SQLite:dbname=t/data/analysis.db', 'typemap', 'KiokuDB::TypeMap=HASH(0xb820758)', 'columns', 'ARRAY(0x8581e10)', 'resolver_constructor', 'CODE(0xb820938)') called at /home/c/perl5/perlbrew/perls/18.1i/lib/site_perl/5.18.1/KiokuDB.pm line 49
	KiokuDB::connect('Text::Tradition::Store', 'dbi:SQLite:dbname=t/data/analysis.db', 'typemap', 'KiokuDB::TypeMap=HASH(0xb820758)', 'columns', 'ARRAY(0x8581e10)', 'resolver_constructor', 'CODE(0xb820938)') called at /home/c/.cpan/build/Text-Tradition-Directory-1.2-f3AdUM/blib/lib/Text/Tradition/Directory.pm line 306
	Text::Tradition::Directory::__ANON__('Text::Tradition::Directory=HASH(0xb2d7ab8)') called at /home/c/perl5/perlbrew/perls/18.1i/lib/site_perl/5.18.1/i686-linux-thread-multi/Moose/Meta/Method/Overridden.pm line 43
	Text::Tradition::Directory::_build_directory('Text::Tradition::Directory=HASH(0xb2d7ab8)') called at /home/c/perl5/perlbrew/perls/18.1i/lib/site_perl/5.18.1/i686-linux-thread-multi/Moose/Meta/Attribute.pm line 533
	Moose::Meta::Attribute::_call_builder('Moose::Meta::Attribute=HASH(0xb7dd380)', 'Text::Tradition::Directory=HASH(0xb2d7ab8)') called at /home/c/perl5/perlbrew/perls/18.1i/lib/site_perl/5.18.1/i686-linux-thread-multi/Moose/Meta/Attribute.pm line 814
	Moose::Meta::Attribute::get_value('Moose::Meta::Attribute=HASH(0xb7dd380)', 'Text::Tradition::Directory=HASH(0xb2d7ab8)') called at /home/c/perl5/perlbrew/perls/18.1i/lib/site_perl/5.18.1/i686-linux-thread-multi/Class/MOP/Attribute.pm line 218
	Class::MOP::Attribute::__ANON__('Text::Tradition::Directory=HASH(0xb2d7ab8)') called at /home/c/perl5/perlbrew/perls/18.1i/lib/site_perl/5.18.1/i686-linux-thread-multi/Moose/Meta/Method/Delegation.pm line 99
	KiokuX::Model::directory('Text::Tradition::Directory=HASH(0xb2d7ab8)') called at /home/c/.cpan/build/KiokuX-Model-0.02-a_wjjy/blib/lib/KiokuX/Model.pm line 16
	KiokuX::Model::BUILD('Text::Tradition::Directory=HASH(0xb2d7ab8)', 'HASH(0xb778140)') called at /home/c/perl5/perlbrew/perls/18.1i/lib/site_perl/5.18.1/i686-linux-thread-multi/Class/MOP/Method.pm line 131
	Class::MOP::Method::execute('Moose::Meta::Method=HASH(0xb80d778)', 'Text::Tradition::Directory=HASH(0xb2d7ab8)', 'HASH(0xb778140)') called at /home/c/perl5/perlbrew/perls/18.1i/lib/site_perl/5.18.1/i686-linux-thread-multi/Moose/Object.pm line 59
	Moose::Object::BUILDALL('Text::Tradition::Directory=HASH(0xb2d7ab8)', 'HASH(0xb778140)') called at /home/c/perl5/perlbrew/perls/18.1i/lib/site_perl/5.18.1/i686-linux-thread-multi/Moose/Meta/Class.pm line 285
	Moose::Meta::Class::new_object('Moose::Meta::Class::__ANON__::SERIAL::35=HASH(0xb020de0)', 'HASH(0xb778140)') called at /home/c/perl5/perlbrew/perls/18.1i/lib/site_perl/5.18.1/MooseX/StrictConstructor/Trait/Class.pm line 16
	Class::MOP::Class:::around('CODE(0x8b118a0)', 'Moose::Meta::Class::__ANON__::SERIAL::35=HASH(0xb020de0)', 'HASH(0xb778140)') called at /home/c/perl5/perlbrew/perls/18.1i/lib/site_perl/5.18.1/i686-linux-thread-multi/Class/MOP/Method/Wrapped.pm line 166
	Class::MOP::Method::Wrapped::__ANON__('Moose::Meta::Class::__ANON__::SERIAL::35=HASH(0xb020de0)', 'HASH(0xb778140)') called at /home/c/perl5/perlbrew/perls/18.1i/lib/site_perl/5.18.1/i686-linux-thread-multi/Class/MOP/Method/Wrapped.pm line 95
	Moose::Meta::Class::__ANON__::SERIAL::35::new_object('Moose::Meta::Class::__ANON__::SERIAL::35=HASH(0xb020de0)', 'HASH(0xb778140)') called at /home/c/perl5/perlbrew/perls/18.1i/lib/site_perl/5.18.1/i686-linux-thread-multi/Moose/Object.pm line 30
	Moose::Object::new('Text::Tradition::Directory', 'dsn', 'dbi:SQLite:dbname=t/data/analysis.db') called at constructor KiokuX::Model::new (defined at /home/c/.cpan/build/KiokuX-Model-0.02-a_wjjy/blib/lib/KiokuX/Model.pm line 82) line 4
	KiokuX::Model::new('Text::Tradition::Directory', 'dsn', 'dbi:SQLite:dbname=t/data/analysis.db') called at /home/c/.cpan/build/Text-Tradition-Analysis-2.0.2-PiJYsT/blib/lib/Text/Tradition/Analysis.pm line 182
	Text::Tradition::Analysis::run_analysis('Text::Tradition=HASH(0xab11c50)', 'calcdsn', 'dbi:SQLite:dbname=t/data/analysis.db') called at t/text_tradition_analysis.t line 52
Class::MOP::load_class is deprecated at /home/c/perl5/perlbrew/perls/18.1i/lib/site_perl/5.18.1/i686-linux-thread-multi/Class/MOP.pm line 76.
	Class::MOP::load_class('KiokuDB::Serializer::JSON') called at /home/c/perl5/perlbrew/perls/18.1i/lib/site_perl/5.18.1/KiokuDB/Backend/Serialize.pm line 27
	KiokuDB::Backend::Serialize::__ANON__('json') called at /home/c/perl5/perlbrew/perls/18.1i/lib/site_perl/5.18.1/i686-linux-thread-multi/Moose/Meta/TypeCoercion.pm line 71
	Moose::Meta::TypeCoercion::__ANON__('json') called at constructor KiokuDB::Backend::DBI::new (defined at /home/c/perl5/perlbrew/perls/18.1i/lib/site_perl/5.18.1/KiokuDB/Backend/DBI.pm line 1021) line 238
	KiokuDB::Backend::DBI::new('KiokuDB::Backend::DBI', 'dsn', 'dbi:SQLite:dbname=t/data/analysis.db', 'typemap', 'KiokuDB::TypeMap=HASH(0xb820758)', 'columns', 'ARRAY(0x8581e10)', 'resolver_constructor', 'CODE(0xb820938)', ...) called at /home/c/perl5/perlbrew/perls/18.1i/lib/site_perl/5.18.1/KiokuDB/Backend/DBI.pm line 64
	KiokuDB::Backend::DBI::new_from_dsn('KiokuDB::Backend::DBI', 'SQLite:dbname=t/data/analysis.db', 'typemap', 'KiokuDB::TypeMap=HASH(0xb820758)', 'columns', 'ARRAY(0x8581e10)', 'resolver_constructor', 'CODE(0xb820938)') called at /home/c/perl5/perlbrew/perls/18.1i/lib/site_perl/5.18.1/KiokuDB/Util.pm line 60
	KiokuDB::Util::dsn_to_backend('dbi:SQLite:dbname=t/data/analysis.db', 'typemap', 'KiokuDB::TypeMap=HASH(0xb820758)', 'columns', 'ARRAY(0x8581e10)', 'resolver_constructor', 'CODE(0xb820938)') called at /home/c/perl5/perlbrew/perls/18.1i/lib/site_perl/5.18.1/KiokuDB.pm line 49
	KiokuDB::connect('Text::Tradition::Store', 'dbi:SQLite:dbname=t/data/analysis.db', 'typemap', 'KiokuDB::TypeMap=HASH(0xb820758)', 'columns', 'ARRAY(0x8581e10)', 'resolver_constructor', 'CODE(0xb820938)') called at /home/c/.cpan/build/Text-Tradition-Directory-1.2-f3AdUM/blib/lib/Text/Tradition/Directory.pm line 306
	Text::Tradition::Directory::__ANON__('Text::Tradition::Directory=HASH(0xb2d7ab8)') called at /home/c/perl5/perlbrew/perls/18.1i/lib/site_perl/5.18.1/i686-linux-thread-multi/Moose/Meta/Method/Overridden.pm line 43
	Text::Tradition::Directory::_build_directory('Text::Tradition::Directory=HASH(0xb2d7ab8)') called at /home/c/perl5/perlbrew/perls/18.1i/lib/site_perl/5.18.1/i686-linux-thread-multi/Moose/Meta/Attribute.pm line 533
	Moose::Meta::Attribute::_call_builder('Moose::Meta::Attribute=HASH(0xb7dd380)', 'Text::Tradition::Directory=HASH(0xb2d7ab8)') called at /home/c/perl5/perlbrew/perls/18.1i/lib/site_perl/5.18.1/i686-linux-thread-multi/Moose/Meta/Attribute.pm line 814
	Moose::Meta::Attribute::get_value('Moose::Meta::Attribute=HASH(0xb7dd380)', 'Text::Tradition::Directory=HASH(0xb2d7ab8)') called at /home/c/perl5/perlbrew/perls/18.1i/lib/site_perl/5.18.1/i686-linux-thread-multi/Class/MOP/Attribute.pm line 218
	Class::MOP::Attribute::__ANON__('Text::Tradition::Directory=HASH(0xb2d7ab8)') called at /home/c/perl5/perlbrew/perls/18.1i/lib/site_perl/5.18.1/i686-linux-thread-multi/Moose/Meta/Method/Delegation.pm line 99
	KiokuX::Model::directory('Text::Tradition::Directory=HASH(0xb2d7ab8)') called at /home/c/.cpan/build/KiokuX-Model-0.02-a_wjjy/blib/lib/KiokuX/Model.pm line 16
	KiokuX::Model::BUILD('Text::Tradition::Directory=HASH(0xb2d7ab8)', 'HASH(0xb778140)') called at /home/c/perl5/perlbrew/perls/18.1i/lib/site_perl/5.18.1/i686-linux-thread-multi/Class/MOP/Method.pm line 131
	Class::MOP::Method::execute('Moose::Meta::Method=HASH(0xb80d778)', 'Text::Tradition::Directory=HASH(0xb2d7ab8)', 'HASH(0xb778140)') called at /home/c/perl5/perlbrew/perls/18.1i/lib/site_perl/5.18.1/i686-linux-thread-multi/Moose/Object.pm line 59
	Moose::Object::BUILDALL('Text::Tradition::Directory=HASH(0xb2d7ab8)', 'HASH(0xb778140)') called at /home/c/perl5/perlbrew/perls/18.1i/lib/site_perl/5.18.1/i686-linux-thread-multi/Moose/Meta/Class.pm line 285
	Moose::Meta::Class::new_object('Moose::Meta::Class::__ANON__::SERIAL::35=HASH(0xb020de0)', 'HASH(0xb778140)') called at /home/c/perl5/perlbrew/perls/18.1i/lib/site_perl/5.18.1/MooseX/StrictConstructor/Trait/Class.pm line 16
	Class::MOP::Class:::around('CODE(0x8b118a0)', 'Moose::Meta::Class::__ANON__::SERIAL::35=HASH(0xb020de0)', 'HASH(0xb778140)') called at /home/c/perl5/perlbrew/perls/18.1i/lib/site_perl/5.18.1/i686-linux-thread-multi/Class/MOP/Method/Wrapped.pm line 166
	Class::MOP::Method::Wrapped::__ANON__('Moose::Meta::Class::__ANON__::SERIAL::35=HASH(0xb020de0)', 'HASH(0xb778140)') called at /home/c/perl5/perlbrew/perls/18.1i/lib/site_perl/5.18.1/i686-linux-thread-multi/Class/MOP/Method/Wrapped.pm line 95
	Moose::Meta::Class::__ANON__::SERIAL::35::new_object('Moose::Meta::Class::__ANON__::SERIAL::35=HASH(0xb020de0)', 'HASH(0xb778140)') called at /home/c/perl5/perlbrew/perls/18.1i/lib/site_perl/5.18.1/i686-linux-thread-multi/Moose/Object.pm line 30
	Moose::Object::new('Text::Tradition::Directory', 'dsn', 'dbi:SQLite:dbname=t/data/analysis.db') called at constructor KiokuX::Model::new (defined at /home/c/.cpan/build/KiokuX-Model-0.02-a_wjjy/blib/lib/KiokuX/Model.pm line 82) line 4
	KiokuX::Model::new('Text::Tradition::Directory', 'dsn', 'dbi:SQLite:dbname=t/data/analysis.db') called at /home/c/.cpan/build/Text-Tradition-Analysis-2.0.2-PiJYsT/blib/lib/Text/Tradition/Analysis.pm line 182
	Text::Tradition::Analysis::run_analysis('Text::Tradition=HASH(0xab11c50)', 'calcdsn', 'dbi:SQLite:dbname=t/data/analysis.db') called at t/text_tradition_analysis.t line 52
Class::MOP::load_class is deprecated at /home/c/perl5/perlbrew/perls/18.1i/lib/site_perl/5.18.1/i686-linux-thread-multi/Class/MOP.pm line 76.
	Class::MOP::load_class('KiokuDB::TypeMap::Entry::Naive') called at /home/c/perl5/perlbrew/perls/18.1i/lib/site_perl/5.18.1/KiokuDB/TypeMap/Composite.pm line 78
	KiokuDB::TypeMap::Composite::_construct_entry('KiokuDB::TypeMap::Default::JSON=HASH(0xc318f98)', 'intrinsic', 1, 'type', 'KiokuDB::TypeMap::Entry::Naive', 'class', 'URI::WithBase') called at /home/c/perl5/perlbrew/perls/18.1i/lib/site_perl/5.18.1/KiokuDB/TypeMap/Composite.pm line 96
	KiokuDB::TypeMap::Composite::_create_entry('KiokuDB::TypeMap::Default::JSON=HASH(0xc318f98)', 'URI::WithBase', 'HASH(0xc319398)') called at /home/c/perl5/perlbrew/perls/18.1i/lib/site_perl/5.18.1/KiokuDB/TypeMap/Composite.pm line 115
	KiokuDB::TypeMap::Composite::_create_entries('KiokuDB::TypeMap::Default::JSON=HASH(0xc318f98)', 'HASH(0xc319378)') called at /home/c/perl5/perlbrew/perls/18.1i/lib/site_perl/5.18.1/KiokuDB/TypeMap/Composite.pm line 125
	KiokuDB::TypeMap::Composite::_create_typemap('KiokuDB::TypeMap::Default::JSON=HASH(0xc318f98)', 'isa_entries', 'HASH(0xc319308)', 'entries', 'HASH(0xc319378)') called at /home/c/perl5/perlbrew/perls/18.1i/lib/site_perl/5.18.1/KiokuDB/TypeMap/Default/Canonical.pm line 33
	KiokuDB::TypeMap::Default::Canonical::_build_uri_typemap('KiokuDB::TypeMap::Default::JSON=HASH(0xc318f98)') called at /home/c/perl5/perlbrew/perls/18.1i/lib/site_perl/5.18.1/i686-linux-thread-multi/Moose/Meta/Attribute.pm line 533
	Moose::Meta::Attribute::_call_builder('Moose::Meta::Class::__ANON__::SERIAL::36=HASH(0xbf50b78)', 'KiokuDB::TypeMap::Default::JSON=HASH(0xc318f98)') called at /home/c/perl5/perlbrew/perls/18.1i/lib/site_perl/5.18.1/i686-linux-thread-multi/Moose/Meta/Attribute.pm line 814
	Moose::Meta::Attribute::get_value('Moose::Meta::Class::__ANON__::SERIAL::36=HASH(0xbf50b78)', 'KiokuDB::TypeMap::Default::JSON=HASH(0xc318f98)') called at /home/c/perl5/perlbrew/perls/18.1i/lib/site_perl/5.18.1/KiokuDB/TypeMap/Composite.pm line 69
	KiokuDB::TypeMap::Composite::_build_includes('KiokuDB::TypeMap::Default::JSON=HASH(0xc318f98)') called at reader KiokuDB::TypeMap::includes (defined at /home/c/perl5/perlbrew/perls/18.1i/lib/site_perl/5.18.1/KiokuDB/TypeMap.pm line 42) line 7
	KiokuDB::TypeMap::includes('KiokuDB::TypeMap::Default::JSON=HASH(0xc318f98)') called at /home/c/perl5/perlbrew/perls/18.1i/lib/site_perl/5.18.1/KiokuDB/TypeMap.pm line 126
	KiokuDB::TypeMap::BUILD('KiokuDB::TypeMap::Default::JSON=HASH(0xc318f98)', 'HASH(0xc318eb8)') called at constructor KiokuDB::TypeMap::Default::JSON::new (defined at /home/c/perl5/perlbrew/perls/18.1i/lib/site_perl/5.18.1/KiokuDB/TypeMap/Default/JSON.pm line 52) line 153
	KiokuDB::TypeMap::Default::JSON::new('KiokuDB::TypeMap::Default::JSON') called at /home/c/perl5/perlbrew/perls/18.1i/lib/site_perl/5.18.1/KiokuDB/Backend/TypeMap/Default/JSON.pm line 18
	KiokuDB::Backend::TypeMap::Default::JSON::_build_default_typemap('KiokuDB::Serializer::JSON=HASH(0xb820d88)') called at reader KiokuDB::Serializer::JSON::default_typemap (defined at /home/c/perl5/perlbrew/perls/18.1i/lib/site_perl/5.18.1/KiokuDB/Backend/TypeMap/Default.pm line 13) line 7
	KiokuDB::Serializer::JSON::default_typemap('KiokuDB::Serializer::JSON=HASH(0xb820d88)') called at /home/c/perl5/perlbrew/perls/18.1i/lib/site_perl/5.18.1/KiokuDB.pm line 100
	KiokuDB::_find_default_typemaps('Text::Tradition::Store=HASH(0xc0105d0)') called at /home/c/perl5/perlbrew/perls/18.1i/lib/site_perl/5.18.1/KiokuDB.pm line 137
	KiokuDB::_build_merged_typemap('Text::Tradition::Store=HASH(0xc0105d0)') called at reader KiokuDB::merged_typemap (defined at /home/c/perl5/perlbrew/perls/18.1i/lib/site_perl/5.18.1/KiokuDB.pm line 83) line 7
	KiokuDB::merged_typemap('Text::Tradition::Store=HASH(0xc0105d0)') called at /home/c/.cpan/build/Text-Tradition-Directory-1.2-f3AdUM/blib/lib/Text/Tradition/Directory.pm line 304
	Text::Tradition::Directory::__ANON__('KiokuDB::TypeMap::Resolver') called at /home/c/.cpan/build/Text-Tradition-Directory-1.2-f3AdUM/blib/lib/Text/Tradition/Store.pm line 16
	Text::Tradition::Store::__ANON__('Text::Tradition::Store=HASH(0xc0105d0)') called at /home/c/perl5/perlbrew/perls/18.1i/lib/site_perl/5.18.1/i686-linux-thread-multi/Moose/Meta/Method/Overridden.pm line 43
	Text::Tradition::Store::_build_typemap_resolver('Text::Tradition::Store=HASH(0xc0105d0)') called at reader KiokuDB::typemap_resolver (defined at /home/c/perl5/perlbrew/perls/18.1i/lib/site_perl/5.18.1/KiokuDB.pm line 160) line 7
	KiokuDB::typemap_resolver('Text::Tradition::Store=HASH(0xc0105d0)') called at /home/c/perl5/perlbrew/perls/18.1i/lib/site_perl/5.18.1/KiokuDB.pm line 236
	KiokuDB::_build_linker('Text::Tradition::Store=HASH(0xc0105d0)') called at reader KiokuDB::linker (defined at /home/c/perl5/perlbrew/perls/18.1i/lib/site_perl/5.18.1/KiokuDB.pm line 227) line 7
	KiokuDB::linker('Text::Tradition::Store=HASH(0xc0105d0)') called at /home/c/perl5/perlbrew/perls/18.1i/lib/site_perl/5.18.1/KiokuDB.pm line 314
	KiokuDB::lookup('Text::Tradition::Store=HASH(0xc0105d0)', '95db2a0d638b620b6c4779c8043d783f') called at /home/c/perl5/perlbrew/perls/18.1i/lib/site_perl/5.18.1/i686-linux-thread-multi/Moose/Meta/Method/Delegation.pm line 116
	KiokuX::Model::lookup('Text::Tradition::Directory=HASH(0xb2d7ab8)', '95db2a0d638b620b6c4779c8043d783f') called at /home/c/.cpan/build/Text-Tradition-Analysis-2.0.2-PiJYsT/blib/lib/Text/Tradition/Analysis.pm line 620
	Text::Tradition::Analysis::solve_variants('HASH(0xad2e750)', 'HASH(0xc1ca630)', 'HASH(0xc02c358)', 'HASH(0xb90e358)', 'HASH(0xb910c28)', 'HASH(0xc1f9010)', 'HASH(0xc1fd8c8)', 'HASH(0xc201100)', 'HASH(0xc2011f0)', ...) called at /home/c/.cpan/build/Text-Tradition-Analysis-2.0.2-PiJYsT/blib/lib/Text/Tradition/Analysis.pm line 232
	eval {...} called at /home/c/.cpan/build/Text-Tradition-Analysis-2.0.2-PiJYsT/blib/lib/Text/Tradition/Analysis.pm line 231
	Text::Tradition::Analysis::run_analysis('Text::Tradition=HASH(0xab11c50)', 'calcdsn', 'dbi:SQLite:dbname=t/data/analysis.db') called at t/text_tradition_analysis.t line 52
t/text_tradition_analysis.t ......... ok
t/text_tradition_analysis_result.t .. ok
t/text_tradition_hasstemma.t ........ ok
t/text_tradition_stemma.t ........... ok
All tests successful.
Files=9, Tests=1257, 71 wallclock secs ( 0.23 usr  0.10 sys + 61.19 cusr  1.46 csys = 62.98 CPU)
Result: PASS

------------------------------
PREREQUISITES
------------------------------

Prerequisite modules loaded:

requires:

    Module                     Need   Have    
    -------------------------- ------ --------
    Algorithm::Diff            0      1.1902  
    Bio::Phylo::IO             0      0       
    Data::Validate::IP         0      0.24    
    Date::Parse                0      2.30    
    File::chdir                0      0.1008  
    File::Which                0      1.09    
    Graph                      0      0.9704  
    Graph::Reader::Dot         0      2.08    
    IPC::Run                   0      0.94    
    JSON                       0      2.90    
    LWP::UserAgent             0      6.05    
    Moose                      0      2.1201  
    Moose::Role                0      2.1201  
    perl                       5.012  5.018001
    Set::Scalar                0      1.27    
    Text::Tradition            v2.0.0 2.0.1   
    Text::Tradition::Error     0      0       
    TryCatch                   0      1.003002

build_requires:

    Module                     Need   Have    
    -------------------------- ------ --------
    ExtUtils::MakeMaker        6.59   6.86    
    Test::More::UTF8           0      0.04    
    Text::Tradition::Directory 0      1.2     

configure_requires:

    Module                     Need   Have    
    -------------------------- ------ --------
    ExtUtils::MakeMaker        6.59   6.86    


------------------------------
ENVIRONMENT AND OTHER CONTEXT
------------------------------

Environment variables:

    AUTOMATED_TESTING = 1
    LANG = ru_RU.utf8
    PATH = /home/c/perl5/perlbrew/bin:/home/c/perl5/perlbrew/perls/18.1i/bin:/usr/local/bin:/usr/bin:/bin:/usr/local/games:/usr/games
    PERL5LIB = /home/c/.cpan/build/Bio-Phylo-0.58-o3egt0/blib/arch:/home/c/.cpan/build/Bio-Phylo-0.58-o3egt0/blib/lib:/home/c/.cpan/build/Text-Tradition-Directory-1.2-f3AdUM/blib/arch:/home/c/.cpan/build/Text-Tradition-Directory-1.2-f3AdUM/blib/lib:/home/c/.cpan/build/KiokuX-Model-0.02-a_wjjy/blib/arch:/home/c/.cpan/build/KiokuX-Model-0.02-a_wjjy/blib/lib:/home/c/.cpan/build/Text-Tradition-2.0.1-dgeBYm/blib/arch:/home/c/.cpan/build/Text-Tradition-2.0.1-dgeBYm/blib/lib:/home/c/.cpan/build/Throwable-X-0.007-NXJ1Dw/blib/arch:/home/c/.cpan/build/Throwable-X-0.007-NXJ1Dw/blib/lib:/home/c/.cpan/build/Role-HasPayload-0.006-BYyZxg/blib/arch:/home/c/.cpan/build/Role-HasPayload-0.006-BYyZxg/blib/lib:/home/c/.cpan/build/Text-TEI-Markup-1.9-89xaWs/blib/arch:/home/c/.cpan/build/Text-TEI-Markup-1.9-89xaWs/blib/lib:/home/c/.cpan/build/Convert-Number-Armenian-0.1-S5Q4ZR/blib/arch:/home/c/.cpan/build/Convert-Number-Armenian-0.1-S5Q4ZR/blib/lib:/home/c/.cpan/build/Test-More-UTF8-0.04-e0YteM/blib/arch:/home/c/.cpan/build/Test-More-UTF8-0.04-e0YteM/blib/lib:/home/c/.cpan/build/IPC-Run-0.94-LZvkB5/blib/arch:/home/c/.cpan/build/IPC-Run-0.94-LZvkB5/blib/lib:/home/c/.cpan/build/XML-Easy-0.009-KMrty_/blib/arch:/home/c/.cpan/build/XML-Easy-0.009-KMrty_/blib/lib:/home/c/.cpan/build/KiokuX-User-0.02-ZBDwEY/blib/arch:/home/c/.cpan/build/KiokuX-User-0.02-ZBDwEY/blib/lib:/home/c/.cpan/build/MooseX-Types-Authen-Passphrase-0.04-Y_g1UH/blib/arch:/home/c/.cpan/build/MooseX-Types-Authen-Passphrase-0.04-Y_g1UH/blib/lib:/home/c/.cpan/build/Module-Build-Tiny-0.039-iY61o6/blib/arch:/home/c/.cpan/build/Module-Build-Tiny-0.039-iY61o6/blib/lib:/home/c/.cpan/build/Data-Validate-IP-0.24-dpQM9c/blib/arch:/home/c/.cpan/build/Data-Validate-IP-0.24-dpQM9c/blib/lib:/home/c/.cpan/build/Graph-ReadWrite-2.08-tC67PU/blib/arch:/home/c/.cpan/build/Graph-ReadWrite-2.08-tC67PU/blib/lib:/home/c/.cpan/build/Graph-0.9704-bHBmDu/blib/arch:/home/c/.cpan/build/Graph-0.9704-bHBmDu/blib/lib:/home/c/.cpan/build/Parse-Yapp-1.05-a6bXTW/blib/arch:/home/c/.cpan/build/Parse-Yapp-1.05-a6bXTW/blib/lib
    PERL5OPT = 
    PERL5_CPANPLUS_IS_RUNNING = 12994
    PERL5_CPAN_IS_RUNNING = 12994
    PERL5_CPAN_IS_RUNNING_IN_RECURSION = 640,12994
    PERLBREW_MANPATH = /home/c/perl5/perlbrew/perls/18.1i/man
    PERLBREW_PATH = /home/c/perl5/perlbrew/bin:/home/c/perl5/perlbrew/perls/18.1i/bin
    PERLBREW_PERL = 18.1i
    PERLBREW_ROOT = /home/c/perl5/perlbrew
    PERLBREW_SKIP_INIT = 1
    PERLBREW_VERSION = 0.67
    PERL_CR_SMOKER_CURRENT = Text-Tradition-Analysis-2.0.2
    PERL_CR_SMOKER_RUNONCE = 1
    PERL_EXTUTILS_AUTOINSTALL = --defaultdeps
    PERL_MM_USE_DEFAULT = 1
    SHELL = /bin/bash
    TERM = xterm

Perl special variables (and OS-specific diagnostics, for MSWin32):

    $^X = /home/c/perl5/perlbrew/perls/18.1i/bin/perl
    $UID/$EUID = 1000 / 1000
    $GID = 1000 24 25 29 30 44 46 103 105 108 110 1000
    $EGID = 1000 24 25 29 30 44 46 103 105 108 110 1000

Perl module toolchain versions installed:

    Module              Have    
    ------------------- --------
    CPAN                2.00    
    CPAN::Meta          2.133380
    Cwd                 3.40    
    ExtUtils::CBuilder  0.280210
    ExtUtils::Command   1.17    
    ExtUtils::Install   1.59    
    ExtUtils::MakeMaker 6.86    
    ExtUtils::Manifest  1.63    
    ExtUtils::ParseXS   3.22    
    File::Spec          3.40    
    JSON                2.90    
    JSON::PP            2.27203 
    Module::Build       0.4204  
    Module::Signature   n/a     
    Parse::CPAN::Meta   1.4405  
    Test::Harness       3.30    
    Test::More          1.001002
    YAML                0.88    
    YAML::Syck          1.27    
    version             0.9907  


--

Summary of my perl5 (revision 5 version 18 subversion 1) configuration:
   
  Platform:
    osname=linux, osvers=3.2.0-4-486, archname=i686-linux-thread-multi
    uname='linux deb7 3.2.0-4-486 #1 debian 3.2.51-1 i686 gnulinux '
    config_args='-de -Dprefix=/home/c/perl5/perlbrew/perls/18.1i -Dusethreads -Aeval:scriptdir=/home/c/perl5/perlbrew/perls/18.1i/bin'
    hint=recommended, useposix=true, d_sigaction=define
    useithreads=define, usemultiplicity=define
    useperlio=define, d_sfio=undef, uselargefiles=define, usesocks=undef
    use64bitint=undef, use64bitall=undef, uselongdouble=undef
    usemymalloc=n, bincompat5005=undef
  Compiler:
    cc='cc', ccflags ='-D_REENTRANT -D_GNU_SOURCE -fno-strict-aliasing -pipe -fstack-protector -I/usr/local/include -D_LARGEFILE_SOURCE -D_FILE_OFFSET_BITS=64',
    optimize='-O2',
    cppflags='-D_REENTRANT -D_GNU_SOURCE -fno-strict-aliasing -pipe -fstack-protector -I/usr/local/include'
    ccversion='', gccversion='4.7.2', gccosandvers=''
    intsize=4, longsize=4, ptrsize=4, doublesize=8, byteorder=1234
    d_longlong=define, longlongsize=8, d_longdbl=define, longdblsize=12
    ivtype='long', ivsize=4, nvtype='double', nvsize=8, Off_t='off_t', lseeksize=8
    alignbytes=4, prototype=define
  Linker and Libraries:
    ld='cc', ldflags =' -fstack-protector -L/usr/local/lib'
    libpth=/usr/local/lib /lib/i386-linux-gnu /lib/../lib /usr/lib/i386-linux-gnu /usr/lib/../lib /lib /usr/lib
    libs=-lnsl -lgdbm -ldb -ldl -lm -lcrypt -lutil -lpthread -lc -lgdbm_compat
    perllibs=-lnsl -ldl -lm -lcrypt -lutil -lpthread -lc
    libc=, so=so, useshrplib=false, libperl=libperl.a
    gnulibc_version='2.13'
  Dynamic Linking:
    dlsrc=dl_dlopen.xs, dlext=so, d_dlsymun=undef, ccdlflags='-Wl,-E'
    cccdlflags='-fPIC', lddlflags='-shared -O2 -L/usr/local/lib -fstack-protector'


Characteristics of this binary (from libperl): 
  Compile-time options: HAS_TIMES MULTIPLICITY PERLIO_LAYERS
                        PERL_DONT_CREATE_GVSV
                        PERL_HASH_FUNC_ONE_AT_A_TIME_HARD
                        PERL_IMPLICIT_CONTEXT PERL_MALLOC_WRAP
                        PERL_PRESERVE_IVUV PERL_SAWAMPERSAND USE_ITHREADS
                        USE_LARGE_FILES USE_LOCALE USE_LOCALE_COLLATE
                        USE_LOCALE_CTYPE USE_LOCALE_NUMERIC USE_PERLIO
                        USE_PERL_ATOF USE_REENTRANT_API
  Built under linux
  Compiled at Jan 14 2014 14:37:40
  %ENV:
    PERL5LIB="/home/c/.cpan/build/Bio-Phylo-0.58-o3egt0/blib/arch:/home/c/.cpan/build/Bio-Phylo-0.58-o3egt0/blib/lib:/home/c/.cpan/build/Text-Tradition-Directory-1.2-f3AdUM/blib/arch:/home/c/.cpan/build/Text-Tradition-Directory-1.2-f3AdUM/blib/lib:/home/c/.cpan/build/KiokuX-Model-0.02-a_wjjy/blib/arch:/home/c/.cpan/build/KiokuX-Model-0.02-a_wjjy/blib/lib:/home/c/.cpan/build/Text-Tradition-2.0.1-dgeBYm/blib/arch:/home/c/.cpan/build/Text-Tradition-2.0.1-dgeBYm/blib/lib:/home/c/.cpan/build/Throwable-X-0.007-NXJ1Dw/blib/arch:/home/c/.cpan/build/Throwable-X-0.007-NXJ1Dw/blib/lib:/home/c/.cpan/build/Role-HasPayload-0.006-BYyZxg/blib/arch:/home/c/.cpan/build/Role-HasPayload-0.006-BYyZxg/blib/lib:/home/c/.cpan/build/Text-TEI-Markup-1.9-89xaWs/blib/arch:/home/c/.cpan/build/Text-TEI-Markup-1.9-89xaWs/blib/lib:/home/c/.cpan/build/Convert-Number-Armenian-0.1-S5Q4ZR/blib/arch:/home/c/.cpan/build/Convert-Number-Armenian-0.1-S5Q4ZR/blib/lib:/home/c/.cpan/build/Test-More-UTF8-0.04-e0YteM/blib/arch:/home/c/.cpan/build/Test-More-UTF8-0.04-e0YteM/blib/lib:/home/c/.cpan/build/IPC-Run-0.94-LZvkB5/blib/arch:/home/c/.cpan/build/IPC-Run-0.94-LZvkB5/blib/lib:/home/c/.cpan/build/XML-Easy-0.009-KMrty_/blib/arch:/home/c/.cpan/build/XML-Easy-0.009-KMrty_/blib/lib:/home/c/.cpan/build/KiokuX-User-0.02-ZBDwEY/blib/arch:/home/c/.cpan/build/KiokuX-User-0.02-ZBDwEY/blib/lib:/home/c/.cpan/build/MooseX-Types-Authen-Passphrase-0.04-Y_g1UH/blib/arch:/home/c/.cpan/build/MooseX-Types-Authen-Passphrase-0.04-Y_g1UH/blib/lib:/home/c/.cpan/build/Module-Build-Tiny-0.039-iY61o6/blib/arch:/home/c/.cpan/build/Module-Build-Tiny-0.039-iY61o6/blib/lib:/home/c/.cpan/build/Data-Validate-IP-0.24-dpQM9c/blib/arch:/home/c/.cpan/build/Data-Validate-IP-0.24-dpQM9c/blib/lib:/home/c/.cpan/build/Graph-ReadWrite-2.08-tC67PU/blib/arch:/home/c/.cpan/build/Graph-ReadWrite-2.08-tC67PU/blib/lib:/home/c/.cpan/build/Graph-0.9704-bHBmDu/blib/arch:/home/c/.cpan/build/Graph-0.9704-bHBmDu/blib/lib:/home/c/.cpan/build/Parse-Yapp-1.05-a6bXTW/blib/arch:/home/c/.cpan/build/Parse-Yapp-1.05-a6bXTW/blib/lib"
    PERL5OPT=""
    PERL5_CPANPLUS_IS_RUNNING="12994"
    PERL5_CPAN_IS_RUNNING="12994"
    PERL5_CPAN_IS_RUNNING_IN_RECURSION="640,12994"
    PERLBREW_MANPATH="/home/c/perl5/perlbrew/perls/18.1i/man"
    PERLBREW_PATH="/home/c/perl5/perlbrew/bin:/home/c/perl5/perlbrew/perls/18.1i/bin"
    PERLBREW_PERL="18.1i"
    PERLBREW_ROOT="/home/c/perl5/perlbrew"
    PERLBREW_SKIP_INIT="1"
    PERLBREW_VERSION="0.67"
    PERL_CR_SMOKER_CURRENT="Text-Tradition-Analysis-2.0.2"
    PERL_CR_SMOKER_RUNONCE="1"
    PERL_EXTUTILS_AUTOINSTALL="--defaultdeps"
    PERL_MM_USE_DEFAULT="1"
  @INC:
    /home/c/.cpan/build/Bio-Phylo-0.58-o3egt0/blib/arch
    /home/c/.cpan/build/Bio-Phylo-0.58-o3egt0/blib/lib
    /home/c/.cpan/build/Text-Tradition-Directory-1.2-f3AdUM/blib/arch
    /home/c/.cpan/build/Text-Tradition-Directory-1.2-f3AdUM/blib/lib
    /home/c/.cpan/build/KiokuX-Model-0.02-a_wjjy/blib/arch
    /home/c/.cpan/build/KiokuX-Model-0.02-a_wjjy/blib/lib
    /home/c/.cpan/build/Text-Tradition-2.0.1-dgeBYm/blib/arch
    /home/c/.cpan/build/Text-Tradition-2.0.1-dgeBYm/blib/lib
    /home/c/.cpan/build/Throwable-X-0.007-NXJ1Dw/blib/arch
    /home/c/.cpan/build/Throwable-X-0.007-NXJ1Dw/blib/lib
    /home/c/.cpan/build/Role-HasPayload-0.006-BYyZxg/blib/arch
    /home/c/.cpan/build/Role-HasPayload-0.006-BYyZxg/blib/lib
    /home/c/.cpan/build/Text-TEI-Markup-1.9-89xaWs/blib/arch
    /home/c/.cpan/build/Text-TEI-Markup-1.9-89xaWs/blib/lib
    /home/c/.cpan/build/Convert-Number-Armenian-0.1-S5Q4ZR/blib/arch
    /home/c/.cpan/build/Convert-Number-Armenian-0.1-S5Q4ZR/blib/lib
    /home/c/.cpan/build/Test-More-UTF8-0.04-e0YteM/blib/arch
    /home/c/.cpan/build/Test-More-UTF8-0.04-e0YteM/blib/lib
    /home/c/.cpan/build/IPC-Run-0.94-LZvkB5/blib/arch
    /home/c/.cpan/build/IPC-Run-0.94-LZvkB5/blib/lib
    /home/c/.cpan/build/XML-Easy-0.009-KMrty_/blib/arch
    /home/c/.cpan/build/XML-Easy-0.009-KMrty_/blib/lib
    /home/c/.cpan/build/KiokuX-User-0.02-ZBDwEY/blib/arch
    /home/c/.cpan/build/KiokuX-User-0.02-ZBDwEY/blib/lib
    /home/c/.cpan/build/MooseX-Types-Authen-Passphrase-0.04-Y_g1UH/blib/arch
    /home/c/.cpan/build/MooseX-Types-Authen-Passphrase-0.04-Y_g1UH/blib/lib
    /home/c/.cpan/build/Module-Build-Tiny-0.039-iY61o6/blib/arch
    /home/c/.cpan/build/Module-Build-Tiny-0.039-iY61o6/blib/lib
    /home/c/.cpan/build/Data-Validate-IP-0.24-dpQM9c/blib/arch
    /home/c/.cpan/build/Data-Validate-IP-0.24-dpQM9c/blib/lib
    /home/c/.cpan/build/Graph-ReadWrite-2.08-tC67PU/blib/arch
    /home/c/.cpan/build/Graph-ReadWrite-2.08-tC67PU/blib/lib
    /home/c/.cpan/build/Graph-0.9704-bHBmDu/blib/arch
    /home/c/.cpan/build/Graph-0.9704-bHBmDu/blib/lib
    /home/c/.cpan/build/Parse-Yapp-1.05-a6bXTW/blib/arch
    /home/c/.cpan/build/Parse-Yapp-1.05-a6bXTW/blib/lib
    /home/c/perl5/perlbrew/perls/18.1i/lib/site_perl/5.18.1/i686-linux-thread-multi
    /home/c/perl5/perlbrew/perls/18.1i/lib/site_perl/5.18.1
    /home/c/perl5/perlbrew/perls/18.1i/lib/5.18.1/i686-linux-thread-multi
    /home/c/perl5/perlbrew/perls/18.1i/lib/5.18.1
    .