Text-Hyphen v0.2 Perl 5 v5.24.4 x86_64-linux-thread-multi

Status
Pass
From
Andreas J. König (ANDK)
Dist
Text-Hyphen v0.2
Platform
Perl 5 v5.24.4 x86_64-linux-thread-multi
Date
2019-12-21 20:40:52
ID
2dd26d82-2432-11ea-a6e8-47999318dacd
This distribution has been tested as part of the CPAN Testers
project, supporting the Perl programming language.  See
http://wiki.cpantesters.org/ for more information or email
questions to cpan-testers-discuss@perl.org


--
Dear Alex Kapranoff,

This is a computer-generated report for Text-Hyphen-0.2
on perl 5.24.4, created by CPAN-Reporter-1.2018.

Thank you for uploading your work to CPAN.  Congratulations!
All tests were successful.

Sections of this report:

    * Tester comments
    * Program output
    * Prerequisites
    * Environment and other context

------------------------------
TESTER COMMENTS
------------------------------

Additional comments from tester:

this report is from an automated smoke testing program
and was not reviewed by a human for accuracy

------------------------------
PROGRAM OUTPUT
------------------------------

Output from './Build test':

# Testing Text::Hyphen 0.2, Perl 5.024004, /home/sand/src/perl/repoperls/installed-perls/host/k93buster/v5.24.4/ba24/bin/perl
t/00-load.t ....... ok
t/01-enhyphen.t ... ok
t/02-contexts.t ... ok
t/pod-coverage.t .. skipped: Test::Pod::Coverage 1.08 required for testing POD coverage
t/pod.t ........... skipped: Test::Pod 1.22 required for testing POD
All tests successful.
Files=5, Tests=20,  1 wallclock secs ( 0.01 usr  0.05 sys +  0.29 cusr  0.11 csys =  0.46 CPU)
Result: PASS

------------------------------
PREREQUISITES
------------------------------

Prerequisite modules loaded:

requires:

    Module        Need      Have    
    ------------- --------- --------
    perl          5.008_001 5.024004

build_requires:

    Module        Need      Have    
    ------------- --------- --------
    Test::More    0         1.302168

configure_requires:

    Module        Need      Have    
    ------------- --------- --------
    Module::Build 0.38      0.4229  
    perl          5.008_001 5.024004


------------------------------
ENVIRONMENT AND OTHER CONTEXT
------------------------------

Environment variables:

    AUTOMATED_TESTING = 1
    LANG = C
    PATH = /home/sand/bin:/usr/local/bin:/usr/bin:/bin:/usr/games:/usr/local/perl/bin:/usr/X11/bin:/sbin:/usr/sbin
    PERL5LIB = /tmp/loop_over_bdir-7938-XPmCuE/Module-Build-Tiny-0.039-0/blib/arch:/tmp/loop_over_bdir-7938-XPmCuE/Module-Build-Tiny-0.039-0/blib/lib:/tmp/loop_over_bdir-7938-XPmCuE/ExtUtils-InstallPaths-0.012-0/blib/arch:/tmp/loop_over_bdir-7938-XPmCuE/ExtUtils-InstallPaths-0.012-0/blib/lib:/tmp/loop_over_bdir-7938-XPmCuE/ExtUtils-Helpers-0.026-0/blib/arch:/tmp/loop_over_bdir-7938-XPmCuE/ExtUtils-Helpers-0.026-0/blib/lib:/tmp/loop_over_bdir-7938-XPmCuE/ExtUtils-Config-0.008-0/blib/arch:/tmp/loop_over_bdir-7938-XPmCuE/ExtUtils-Config-0.008-0/blib/lib
    PERL5OPT = 
    PERL5_CPANPLUS_IS_RUNNING = 25018
    PERL5_CPAN_IS_RUNNING = 25018
    PERL_CANARY_STABILITY_NOPROMPT = 1
    PERL_MM_USE_DEFAULT = 1
    PERL_USE_UNSAFE_INC = 1
    SHELL = /usr/bin/zsh
    TERM = screen

Perl special variables (and OS-specific diagnostics, for MSWin32):

    $^X = /home/sand/src/perl/repoperls/installed-perls/host/k93buster/v5.24.4/ba24/bin/perl
    $UID/$EUID = 1005 / 1005
    $GID = 1005 1005
    $EGID = 1005 1005

Perl module toolchain versions installed:

    Module              Have      
    ------------------- ----------
    CPAN                2.27      
    CPAN::Meta          2.150010  
    Cwd                 3.75      
    ExtUtils::CBuilder  0.280231  
    ExtUtils::Command   7.38      
    ExtUtils::Install   2.06      
    ExtUtils::MakeMaker 7.38      
    ExtUtils::Manifest  1.70      
    ExtUtils::ParseXS   3.31      
    File::Spec          3.75      
    JSON                4.02      
    JSON::PP            2.27300_01
    Module::Build       0.4229    
    Module::Signature   0.83      
    Parse::CPAN::Meta   2.150010  
    Test::Harness       3.42      
    Test::More          1.302168  
    YAML                1.29      
    YAML::Syck          1.31      
    version             0.9924    


--

Summary of my perl5 (revision 5 version 24 subversion 4) configuration:
  Derived from: 901dd848e31de6d0cacfb77c029b4e92c41a13ce
  Platform:
    osname=linux, osvers=4.14.0-3-amd64, archname=x86_64-linux-thread-multi
    uname='linux k93buster 4.14.0-3-amd64 #1 smp debian 4.14.12-2 (2018-01-06) x86_64 gnulinux '
    config_args='-Dprefix=/home/sand/src/perl/repoperls/installed-perls/host/k93buster/v5.24.4/ba24 -Dmyhostname=k93buster -Dinstallusrbinperl=n -Uversiononly -Dusedevel -des -Ui_db -Dlibswanted=cl pthread socket inet nsl gdbm dbm malloc dl ld sun m crypt sec util c cposix posix ucb BSD gdbm_compat -Duseithreads -Uuselongdouble -DEBUGGING=-g'
    hint=recommended, useposix=true, d_sigaction=define
    useithreads=define, usemultiplicity=define
    use64bitint=define, use64bitall=define, uselongdouble=undef
    usemymalloc=n, bincompat5005=undef
  Compiler:
    cc='cc', ccflags ='-D_REENTRANT -D_GNU_SOURCE -fwrapv -fno-strict-aliasing -pipe -fstack-protector-strong -I/usr/local/include -D_LARGEFILE_SOURCE -D_FILE_OFFSET_BITS=64',
    optimize='-O2 -g',
    cppflags='-D_REENTRANT -D_GNU_SOURCE -fwrapv -fno-strict-aliasing -pipe -fstack-protector-strong -I/usr/local/include'
    ccversion='', gccversion='8.3.0', gccosandvers=''
    intsize=4, longsize=8, ptrsize=8, doublesize=8, byteorder=12345678, doublekind=3
    d_longlong=define, longlongsize=8, d_longdbl=define, longdblsize=16, longdblkind=3
    ivtype='long', ivsize=8, nvtype='double', nvsize=8, Off_t='off_t', lseeksize=8
    alignbytes=8, prototype=define
  Linker and Libraries:
    ld='cc', ldflags =' -fstack-protector-strong -L/usr/local/lib'
    libpth=/usr/local/lib /usr/lib/gcc/x86_64-linux-gnu/8/include-fixed /usr/include/x86_64-linux-gnu /usr/lib /lib/x86_64-linux-gnu /lib/../lib /usr/lib/x86_64-linux-gnu /usr/lib/../lib /lib
    libs=-lpthread -lnsl -ldl -lm -lcrypt -lutil -lc
    perllibs=-lpthread -lnsl -ldl -lm -lcrypt -lutil -lc
    libc=libc-2.28.so, so=so, useshrplib=false, libperl=libperl.a
    gnulibc_version='2.28'
  Dynamic Linking:
    dlsrc=dl_dlopen.xs, dlext=so, d_dlsymun=undef, ccdlflags='-Wl,-E'
    cccdlflags='-fPIC', lddlflags='-shared -O2 -g -L/usr/local/lib -fstack-protector-strong'


Characteristics of this binary (from libperl): 
  Compile-time options: HAS_TIMES MULTIPLICITY PERLIO_LAYERS
                        PERL_COPY_ON_WRITE PERL_DONT_CREATE_GVSV
                        PERL_HASH_FUNC_ONE_AT_A_TIME_HARD
                        PERL_IMPLICIT_CONTEXT PERL_MALLOC_WRAP
                        PERL_PRESERVE_IVUV PERL_USE_DEVEL USE_64_BIT_ALL
                        USE_64_BIT_INT USE_ITHREADS USE_LARGE_FILES
                        USE_LOCALE USE_LOCALE_COLLATE USE_LOCALE_CTYPE
                        USE_LOCALE_NUMERIC USE_LOCALE_TIME USE_PERLIO
                        USE_PERL_ATOF USE_REENTRANT_API
  Locally applied patches:
	uncommitted-changes
  Built under linux
  Compiled at Sep 22 2019 09:05:16
  %ENV:
    PERL5LIB="/tmp/loop_over_bdir-7938-XPmCuE/Module-Build-Tiny-0.039-0/blib/arch:/tmp/loop_over_bdir-7938-XPmCuE/Module-Build-Tiny-0.039-0/blib/lib:/tmp/loop_over_bdir-7938-XPmCuE/ExtUtils-InstallPaths-0.012-0/blib/arch:/tmp/loop_over_bdir-7938-XPmCuE/ExtUtils-InstallPaths-0.012-0/blib/lib:/tmp/loop_over_bdir-7938-XPmCuE/ExtUtils-Helpers-0.026-0/blib/arch:/tmp/loop_over_bdir-7938-XPmCuE/ExtUtils-Helpers-0.026-0/blib/lib:/tmp/loop_over_bdir-7938-XPmCuE/ExtUtils-Config-0.008-0/blib/arch:/tmp/loop_over_bdir-7938-XPmCuE/ExtUtils-Config-0.008-0/blib/lib"
    PERL5OPT=""
    PERL5_CPANPLUS_IS_RUNNING="25018"
    PERL5_CPAN_IS_RUNNING="25018"
    PERL_CANARY_STABILITY_NOPROMPT="1"
    PERL_MM_USE_DEFAULT="1"
    PERL_USE_UNSAFE_INC="1"
  @INC:
    /tmp/loop_over_bdir-7938-XPmCuE/Module-Build-Tiny-0.039-0/blib/arch
    /tmp/loop_over_bdir-7938-XPmCuE/Module-Build-Tiny-0.039-0/blib/lib
    /tmp/loop_over_bdir-7938-XPmCuE/ExtUtils-InstallPaths-0.012-0/blib/arch
    /tmp/loop_over_bdir-7938-XPmCuE/ExtUtils-InstallPaths-0.012-0/blib/lib
    /tmp/loop_over_bdir-7938-XPmCuE/ExtUtils-Helpers-0.026-0/blib/arch
    /tmp/loop_over_bdir-7938-XPmCuE/ExtUtils-Helpers-0.026-0/blib/lib
    /tmp/loop_over_bdir-7938-XPmCuE/ExtUtils-Config-0.008-0/blib/arch
    /tmp/loop_over_bdir-7938-XPmCuE/ExtUtils-Config-0.008-0/blib/lib
    /home/sand/src/perl/repoperls/installed-perls/host/k93buster/v5.24.4/ba24/lib/site_perl/5.24.4/x86_64-linux-thread-multi
    /home/sand/src/perl/repoperls/installed-perls/host/k93buster/v5.24.4/ba24/lib/site_perl/5.24.4
    /home/sand/src/perl/repoperls/installed-perls/host/k93buster/v5.24.4/ba24/lib/5.24.4/x86_64-linux-thread-multi
    /home/sand/src/perl/repoperls/installed-perls/host/k93buster/v5.24.4/ba24/lib/5.24.4
    .