Tcl-pTk v1.11 Perl 5 v5.39.9 x86_64-linux

Status
Pass
From
Andreas J. K├Ânig (ANDK)
Dist
Tcl-pTk v1.11
Platform
Perl 5 v5.39.9 x86_64-linux
Date
2024-03-25T14:44:27
ID
2e2bd0c6-eab6-11ee-b6b3-60739799fce9
This distribution has been tested as part of the CPAN Testers
project, supporting the Perl programming language.  See
http://wiki.cpantesters.org/ for more information or email
questions to cpan-testers-discuss@perl.org


--
Dear Christopher Alexander Chavez,

This is a computer-generated report for Tcl-pTk-1.11
on perl 5.39.9, created by CPAN-Reporter-1.2019.

Thank you for uploading your work to CPAN.  Congratulations!
All tests were successful.

Sections of this report:

    * Tester comments
    * Program output
    * Prerequisites
    * Environment and other context

------------------------------
TESTER COMMENTS
------------------------------

Additional comments from tester:

this report is from an automated smoke testing program
and was not reviewed by a human for accuracy

------------------------------
PROGRAM OUTPUT
------------------------------

Output from '/usr/bin/make test':

PERL_DL_NONLAZY=1 "/tmp/basesmoker-reloperl-2ZDR/bin/perl" "-MExtUtils::Command::MM" "-MTest::Harness" "-e" "undef *Test::Harness::Switches; test_harness(0, 'blib/lib', 'blib/arch')" t/*.t
t/after.t ..................... ok
t/afterDestroy.t .............. ok
t/afterIdle.t ................. ok
t/balloon.t ................... ok
Balloon should appear over 'Balloon Text' button
t/balloon2.t .................. ok
t/bgerror1.t .................. ok
t/bgerror2.t .................. ok
Error Dialog Should Show. This is expected
t/bgerror3.t .................. ok
t/bind.t ...................... ok
t/bindBreak.t ................. ok
t/bitmapSubClass.t ............ ok
t/browseEntry.t ............... ok
t/browseEntry2.t .............. ok
t/busy.t ...................... ok
t/callback.t .................. ok
t/callbackSet.t ............... ok
t/canFind.t ................... ok
t/canIndex.t .................. ok
t/canScale.t .................. ok
t/canvasFocusBusy.t ........... ok
t/checkradio.t ................ ok
t/cleanupCrashTest.t .......... ok
t/command.t ................... ok
t/configureReturn.t ........... ok
t/dialog.t .................... ok
t/dialogBox.t ................. ok
t/dialogBoxGeom.t ............. ok
t/dirtree.t ................... skipped: Tix Tcl package not available
t/dndlocal.t .................. ok
t/emptyMenuButtonSubclass.t ... ok
t/emptyMenuSubclass.t ......... ok
t/emptySubclass.t ............. ok
t/entry.t ..................... ok
t/entryPaste.t ................ ok
t/entryValidate.t ............. ok
t/fileevent.t ................. skipped: fileevent is unavailable, reason: Can't locate sys/ioctl.ph in @INC (did you run h2ph?) (@INC entries checked: /tmp/loop_over_bdir-2413-P3Ooyp/Tcl-pTk-1.11-0/blib/lib /tmp/loop_over_bdir-2413-P3Ooyp/Tcl-pTk-1.11-0/blib/arch /tmp/loop_over_bdir-2413-P3Ooyp/CGI-Application-NetNewsIface-0.0204-0/blib/arch /tmp/loop_over_bdir-2413-P3Ooyp/CGI-Application-NetNewsIface-0.0204-0/blib/lib /tmp/loop_over_bdir-2413-P3Ooyp/Business-Shipping-DataFiles-1.02-0/blib/arch /tmp/loop_over_bdir-2413-P3Ooyp/Business-Shipping-DataFiles-1.02-0/blib/lib /tmp/loop_over_bdir-2413-P3Ooyp/downsexta-0/blib/arch /tmp/loop_over_bdir-2413-P3Ooyp/downsexta-0/blib/lib /tmp/loop_over_bdir-2413-P3Ooyp/Lemonldap-NG-Cli-0.2-0/blib/arch /tmp/loop_over_bdir-2413-P3Ooyp/Lemonldap-NG-Cli-0.2-0/blib/lib /tmp/loop_over_bdir-2413-P3Ooyp/CGI-Application-NetNewsIface-0.0204-0/blib/arch /tmp/loop_over_bdir-2413-P3Ooyp/CGI-Application-NetNewsIface-0.0204-0/blib/lib /tmp/loop_over_bdir-2413-P3Ooyp/Business-Shipping-DataFiles-1.02-0/blib/arch /tmp/loop_over_bdir-2413-P3Ooyp/Business-Shipping-DataFiles-1.02-0/blib/lib /tmp/loop_over_bdir-2413-P3Ooyp/downsexta-0/blib/arch /tmp/loop_over_bdir-2413-P3Ooyp/downsexta-0/blib/lib /tmp/loop_over_bdir-2413-P3Ooyp/Lemonldap-NG-Cli-0.2-0/blib/arch /tmp/loop_over_bdir-2413-P3Ooyp/Lemonldap-NG-Cli-0.2-0/blib/lib /home/sand/src/perl/repoperls/installed-perls/host/k93focal/v5.39.9/b254/lib/site_perl/5.39.9/x86_64-linux /home/sand/src/perl/repoperls/installed-perls/host/k93focal/v5.39.9/b254/lib/site_perl/5.39.9 /home/sand/src/perl/repoperls/installed-perls/host/k93focal/v5.39.9/b254/lib/5.39.9/x86_64-linux /home/sand/src/perl/repoperls/installed-perls/host/k93focal/v5.39.9/b254/lib/5.39.9 .) at /tmp/loop_over_bdir-2413-P3Ooyp/Tcl-pTk-1.11-0/blib/lib/Tcl/pTk/Widget.pm line 2164.
t/fileevent2.t ................ skipped: fileevent is unavailable, reason: Can't locate sys/ioctl.ph in @INC (did you run h2ph?) (@INC entries checked: /tmp/loop_over_bdir-2413-P3Ooyp/Tcl-pTk-1.11-0/blib/lib /tmp/loop_over_bdir-2413-P3Ooyp/Tcl-pTk-1.11-0/blib/arch /tmp/loop_over_bdir-2413-P3Ooyp/CGI-Application-NetNewsIface-0.0204-0/blib/arch /tmp/loop_over_bdir-2413-P3Ooyp/CGI-Application-NetNewsIface-0.0204-0/blib/lib /tmp/loop_over_bdir-2413-P3Ooyp/Business-Shipping-DataFiles-1.02-0/blib/arch /tmp/loop_over_bdir-2413-P3Ooyp/Business-Shipping-DataFiles-1.02-0/blib/lib /tmp/loop_over_bdir-2413-P3Ooyp/downsexta-0/blib/arch /tmp/loop_over_bdir-2413-P3Ooyp/downsexta-0/blib/lib /tmp/loop_over_bdir-2413-P3Ooyp/Lemonldap-NG-Cli-0.2-0/blib/arch /tmp/loop_over_bdir-2413-P3Ooyp/Lemonldap-NG-Cli-0.2-0/blib/lib /tmp/loop_over_bdir-2413-P3Ooyp/CGI-Application-NetNewsIface-0.0204-0/blib/arch /tmp/loop_over_bdir-2413-P3Ooyp/CGI-Application-NetNewsIface-0.0204-0/blib/lib /tmp/loop_over_bdir-2413-P3Ooyp/Business-Shipping-DataFiles-1.02-0/blib/arch /tmp/loop_over_bdir-2413-P3Ooyp/Business-Shipping-DataFiles-1.02-0/blib/lib /tmp/loop_over_bdir-2413-P3Ooyp/downsexta-0/blib/arch /tmp/loop_over_bdir-2413-P3Ooyp/downsexta-0/blib/lib /tmp/loop_over_bdir-2413-P3Ooyp/Lemonldap-NG-Cli-0.2-0/blib/arch /tmp/loop_over_bdir-2413-P3Ooyp/Lemonldap-NG-Cli-0.2-0/blib/lib /home/sand/src/perl/repoperls/installed-perls/host/k93focal/v5.39.9/b254/lib/site_perl/5.39.9/x86_64-linux /home/sand/src/perl/repoperls/installed-perls/host/k93focal/v5.39.9/b254/lib/site_perl/5.39.9 /home/sand/src/perl/repoperls/installed-perls/host/k93focal/v5.39.9/b254/lib/5.39.9/x86_64-linux /home/sand/src/perl/repoperls/installed-perls/host/k93focal/v5.39.9/b254/lib/5.39.9 .) at /tmp/loop_over_bdir-2413-P3Ooyp/Tcl-pTk-1.11-0/blib/lib/Tcl/pTk/Widget.pm line 2164.
t/focusMethods.t .............. ok
t/font.t ...................... ok
t/font2.t ..................... ok
t/fontAttr.t .................. ok
t/frameForeground.t ........... ok
t/geomgr.t .................... ok
t/hlist.t ..................... skipped: Tix Tcl package not available
t/iconimage.t ................. ok
t/imageLoad.t ................. skipped: Tix Tcl package not available
t/itemStyle.t ................. skipped: Tix Tcl package not available
t/labEntry.t .................. ok
t/labEntryFacelift.t .......... ok
t/labEntryParentChild.t ....... ok
t/libLoad.t ................... skipped: Tix Tcl package not available
t/listbox.t ................... ok
t/mainloopMult.t .............. ok
t/menub-cascade.t ............. ok
t/menub_newMenu.t ............. ok
t/menubarpath.t ............... ok
t/menuitems.t ................. ok
t/messageBox.t ................ ok
t/moveResizeWindow.t .......... ok
t/moveToplevelWindow.t ........ ok
t/multMainWindow1.t ........... ok
t/multMainWindow2.t ........... ok
t/notebook.t .................. skipped: Tix Tcl package not available
t/notebook2.t ................. skipped: Tix Tcl package not available
t/onDestroy.t ................. ok
t/optmenu.t ................... ok
t/palette.t ................... ok
t/pane.t ...................... skipped: BWidget Tcl package not available
t/patchTk.t ................... skipped: Not using Aqua Tk
t/photoGetImage.t ............. ok
t/photoImg.t .................. ok
t/photoSubClass.t ............. ok
t/photoTk.t ................... ok
t/progBar.t ................... ok
t/protocol.t .................. ok
t/ptk-compat.t ................ ok
t/ptk-compat2.t ............... ok
t/repeat.t .................... ok
t/repeatSubReuse.t ............ ok
t/rt125058.t .................. ok
t/scrolled.t .................. ok
t/scrolledOptional.t .......... ok
t/selection.t ................. ok
t/slideMegaWidget.t ........... ok
t/slideMegaWidget2.t .......... ok
t/spreadsheetHideRows.t ....... skipped: Tktable Tcl package not available
t/table.t ..................... skipped: Tktable Tcl package not available
t/tableFacelift.t ............. skipped: Tktable Tcl package not available
t/tableMatrixCallbacks.t ...... skipped: Tktable Tcl package not available
t/tableMatrixCleanup.t ........ skipped: Tktable Tcl package not available
t/tableMatrixDebug.t .......... skipped: Tktable Tcl package not available
t/tableMatrixSpreadsheet.t .... skipped: Tktable Tcl package not available
t/tclVersion.t ................ ok
t/text.t ...................... ok
t/text2-old.t ................. ok
t/text2.t ..................... ok
t/text3.t ..................... ok
t/textEdit.t .................. ok
t/textRO.t .................... ok
t/textSubwidget.t ............. ok
t/textUndo.t .................. ok
t/tileLabelFont.t ............. ok
t/tileTree.t .................. ok
t/tileWidget.t ................ ok
t/tixTree.t ................... skipped: Tix Tcl package not available
t/tk-mw.t ..................... ok
t/tkFacelift_BEsubclass.t ..... ok
t/tkFacelift_browseEntry.t .... ok
t/tkFacelift_frameSubclass.t .. ok
t/tkFacelift_mega1.t .......... ok
t/tkFacelift_notebook.t ....... ok
t/tkFacelift_simple.t ......... skipped: Tix Tcl package not available
t/tkHijack_BEsubclass.t ....... ok
t/tkHijack_bgerror1.t ......... ok
t/tkHijack_bgerror2.t ......... ok
t/tkHijack_bgerror3.t ......... ok
t/tkHijack_mega1.t ............ ok
t/tkHijack_simple.t ........... skipped: Tix Tcl package not available
t/tkHijack_spreadsheet.t ...... skipped: Tktable Tcl package not available
t/trace.t ..................... ok
t/tree.t ...................... skipped: Tix Tcl package not available
t/ttkBrowseEntry.t ............ ok
t/ttkEntryValidate.t .......... ok
t/ttkTixNoteBook.t ............ ok
t/unicode.t ................... ok
t/usewidgets.t ................ ok
t/virtualEv.t ................. ok
t/widgetDelete.t .............. ok
t/widgetMethod.t .............. ok
t/widgetName.t ................ ok
t/wmForget.t .................. ok
t/wmStackorder.t .............. ok
t/xevent.t .................... ok
t/zzPhoto.t ................... ok
All tests successful.

Test Summary Report
-------------------
t/font.t                    (Wstat: 0 Tests: 13 Failed: 0)
  TODO passed:   11
t/fontAttr.t                (Wstat: 0 Tests: 8 Failed: 0)
  TODO passed:   1-2, 5-8
t/wmStackorder.t            (Wstat: 0 Tests: 10 Failed: 0)
  TODO passed:   1-10
Files=134, Tests=592, 156 wallclock secs ( 0.33 usr  0.20 sys + 19.96 cusr  3.06 csys = 23.55 CPU)
Result: PASS

------------------------------
PREREQUISITES
------------------------------

Prerequisite modules loaded:

requires:

    Module              Need  Have    
    ------------------- ----- --------
    Class::ISA          0.36  0.36    
    perl                5.008 5.039009
    Sub::Name           0.05  0.27    
    Tcl                 0.90  1.32    
    Time::HiRes         0     1.9777  

build_requires:

    Module              Need  Have    
    ------------------- ----- --------
    ExtUtils::MakeMaker 0     7.70    
    Test::Deep          0     1.204   
    Test::More          0     1.302198

configure_requires:

    Module              Need  Have    
    ------------------- ----- --------
    ExtUtils::MakeMaker 0     7.70    


------------------------------
ENVIRONMENT AND OTHER CONTEXT
------------------------------

Environment variables:

    AUTOMATED_TESTING = 1
    LANG = en_US.UTF-8
    PATH = /home/sand/bin:/usr/local/bin:/usr/local/sbin:/usr/sbin:/usr/bin:/sbin:/bin:/usr/games:/usr/local/games:/snap/bin:/usr/local/perl/bin:/usr/X11/bin
    PERL = /tmp/basesmoker-reloperl-2ZDR/bin/perl
    PERL5LIB = /tmp/loop_over_bdir-2413-P3Ooyp/CGI-Application-NetNewsIface-0.0204-0/blib/arch:/tmp/loop_over_bdir-2413-P3Ooyp/CGI-Application-NetNewsIface-0.0204-0/blib/lib:/tmp/loop_over_bdir-2413-P3Ooyp/Business-Shipping-DataFiles-1.02-0/blib/arch:/tmp/loop_over_bdir-2413-P3Ooyp/Business-Shipping-DataFiles-1.02-0/blib/lib:/tmp/loop_over_bdir-2413-P3Ooyp/downsexta-0/blib/arch:/tmp/loop_over_bdir-2413-P3Ooyp/downsexta-0/blib/lib:/tmp/loop_over_bdir-2413-P3Ooyp/Lemonldap-NG-Cli-0.2-0/blib/arch:/tmp/loop_over_bdir-2413-P3Ooyp/Lemonldap-NG-Cli-0.2-0/blib/lib
    PERL5OPT = 
    PERL5_CPANPLUS_IS_RUNNING = 2507
    PERL5_CPAN_IS_RUNNING = 2507
    PERL_CANARY_STABILITY_NOPROMPT = 1
    PERL_MM_USE_DEFAULT = 1
    PERL_USE_UNSAFE_INC = 1
    SHELL = /usr/bin/zsh
    TERM = screen

Perl special variables (and OS-specific diagnostics, for MSWin32):

    $^X = /tmp/basesmoker-reloperl-2ZDR/bin/perl
    $UID/$EUID = 1005 / 1005
    $GID = 1005 1005
    $EGID = 1005 1005

Perl module toolchain versions installed:

    Module              Have    
    ------------------- --------
    CPAN                2.36    
    CPAN::Meta          2.150010
    Cwd                 3.90    
    ExtUtils::CBuilder  0.280240
    ExtUtils::Command   7.70    
    ExtUtils::Install   2.22    
    ExtUtils::MakeMaker 7.70    
    ExtUtils::Manifest  1.75    
    ExtUtils::ParseXS   3.51    
    File::Spec          3.90    
    JSON                4.10    
    JSON::PP            4.16    
    Module::Build       0.4234  
    Module::Signature   0.88    
    Parse::CPAN::Meta   2.150010
    Test2               1.302198
    Test::Harness       3.48    
    Test::More          1.302198
    YAML                1.31    
    YAML::Syck          1.34    
    version             0.9930  


--

Summary of my perl5 (revision 5 version 39 subversion 9) configuration:
  Commit id: 824a7e0bf8052e62e6913c5fb807a6a8331a2d81
  Platform:
    osname=linux
    osvers=5.4.0-173-generic
    archname=x86_64-linux
    uname='linux k93focal 5.4.0-173-generic #191-ubuntu smp fri feb 2 13:55:07 utc 2024 x86_64 x86_64 x86_64 gnulinux '
    config_args='-Dprefix=/home/sand/src/perl/repoperls/installed-perls/host/k93focal/v5.39.9/b254 -Dmyhostname=k93focal -Dinstallusrbinperl=n -Uversiononly -Dusedevel -des -Ui_db -Dlibswanted=cl pthread socket inet nsl gdbm dbm malloc dl ld sun m crypt sec util c cposix posix ucb BSD gdbm_compat -Uuseithreads -Uuselongdouble -DEBUGGING=both'
    hint=recommended
    useposix=true
    d_sigaction=define
    useithreads=undef
    usemultiplicity=undef
    use64bitint=define
    use64bitall=define
    uselongdouble=undef
    usemymalloc=n
    default_inc_excludes_dot=define
  Compiler:
    cc='cc'
    ccflags ='-fwrapv -DDEBUGGING -fno-strict-aliasing -pipe -fstack-protector-strong -I/usr/local/include -D_LARGEFILE_SOURCE -D_FILE_OFFSET_BITS=64'
    optimize='-O2 -g'
    cppflags='-fwrapv -DDEBUGGING -fno-strict-aliasing -pipe -fstack-protector-strong -I/usr/local/include'
    ccversion=''
    gccversion='9.4.0'
    gccosandvers=''
    intsize=4
    longsize=8
    ptrsize=8
    doublesize=8
    byteorder=12345678
    doublekind=3
    d_longlong=define
    longlongsize=8
    d_longdbl=define
    longdblsize=16
    longdblkind=3
    ivtype='long'
    ivsize=8
    nvtype='double'
    nvsize=8
    Off_t='off_t'
    lseeksize=8
    alignbytes=8
    prototype=define
  Linker and Libraries:
    ld='cc'
    ldflags =' -fstack-protector-strong -L/usr/local/lib'
    libpth=/usr/local/lib /usr/lib/x86_64-linux-gnu /usr/lib /usr/lib64
    libs=-lpthread -lnsl -ldl -lm -lcrypt -lutil -lc
    perllibs=-lpthread -lnsl -ldl -lm -lcrypt -lutil -lc
    libc=libc-2.31.so
    so=so
    useshrplib=false
    libperl=libperl.a
    gnulibc_version='2.31'
  Dynamic Linking:
    dlsrc=dl_dlopen.xs
    dlext=so
    d_dlsymun=undef
    ccdlflags='-Wl,-E'
    cccdlflags='-fPIC'
    lddlflags='-shared -O2 -g -L/usr/local/lib -fstack-protector-strong'


Characteristics of this binary (from libperl): 
  Compile-time options:
    DEBUGGING
    HAS_LONG_DOUBLE
    HAS_STRTOLD
    HAS_TIMES
    PERLIO_LAYERS
    PERL_COPY_ON_WRITE
    PERL_DONT_CREATE_GVSV
    PERL_HASH_FUNC_SIPHASH13
    PERL_HASH_USE_SBOX32
    PERL_MALLOC_WRAP
    PERL_OP_PARENT
    PERL_PRESERVE_IVUV
    PERL_USE_DEVEL
    PERL_USE_SAFE_PUTENV
    USE_64_BIT_ALL
    USE_64_BIT_INT
    USE_LARGE_FILES
    USE_LOCALE
    USE_LOCALE_COLLATE
    USE_LOCALE_CTYPE
    USE_LOCALE_NUMERIC
    USE_LOCALE_TIME
    USE_PERLIO
    USE_PERL_ATOF
  Built under linux
  Compiled at Mar 23 2024 13:51:25
  %ENV:
    PERL="/tmp/basesmoker-reloperl-2ZDR/bin/perl"
    PERL5LIB="/tmp/loop_over_bdir-2413-P3Ooyp/CGI-Application-NetNewsIface-0.0204-0/blib/arch:/tmp/loop_over_bdir-2413-P3Ooyp/CGI-Application-NetNewsIface-0.0204-0/blib/lib:/tmp/loop_over_bdir-2413-P3Ooyp/Business-Shipping-DataFiles-1.02-0/blib/arch:/tmp/loop_over_bdir-2413-P3Ooyp/Business-Shipping-DataFiles-1.02-0/blib/lib:/tmp/loop_over_bdir-2413-P3Ooyp/downsexta-0/blib/arch:/tmp/loop_over_bdir-2413-P3Ooyp/downsexta-0/blib/lib:/tmp/loop_over_bdir-2413-P3Ooyp/Lemonldap-NG-Cli-0.2-0/blib/arch:/tmp/loop_over_bdir-2413-P3Ooyp/Lemonldap-NG-Cli-0.2-0/blib/lib"
    PERL5OPT=""
    PERL5_CPANPLUS_IS_RUNNING="2507"
    PERL5_CPAN_IS_RUNNING="2507"
    PERL_CANARY_STABILITY_NOPROMPT="1"
    PERL_MM_USE_DEFAULT="1"
    PERL_USE_UNSAFE_INC="1"
  @INC:
    /tmp/loop_over_bdir-2413-P3Ooyp/CGI-Application-NetNewsIface-0.0204-0/blib/arch
    /tmp/loop_over_bdir-2413-P3Ooyp/CGI-Application-NetNewsIface-0.0204-0/blib/lib
    /tmp/loop_over_bdir-2413-P3Ooyp/Business-Shipping-DataFiles-1.02-0/blib/arch
    /tmp/loop_over_bdir-2413-P3Ooyp/Business-Shipping-DataFiles-1.02-0/blib/lib
    /tmp/loop_over_bdir-2413-P3Ooyp/downsexta-0/blib/arch
    /tmp/loop_over_bdir-2413-P3Ooyp/downsexta-0/blib/lib
    /tmp/loop_over_bdir-2413-P3Ooyp/Lemonldap-NG-Cli-0.2-0/blib/arch
    /tmp/loop_over_bdir-2413-P3Ooyp/Lemonldap-NG-Cli-0.2-0/blib/lib
    /home/sand/src/perl/repoperls/installed-perls/host/k93focal/v5.39.9/b254/lib/site_perl/5.39.9/x86_64-linux
    /home/sand/src/perl/repoperls/installed-perls/host/k93focal/v5.39.9/b254/lib/site_perl/5.39.9
    /home/sand/src/perl/repoperls/installed-perls/host/k93focal/v5.39.9/b254/lib/5.39.9/x86_64-linux
    /home/sand/src/perl/repoperls/installed-perls/host/k93focal/v5.39.9/b254/lib/5.39.9
    .