Report for Net-RabbitMQ-0.1.8

Back
From: metabase:user:56b391da-b3f9-11df-a2a1-088ec2160fa5
Subject: PASS Net-RabbitMQ-0.1.8 v5.10.0 OpenBSD
Date: 2010-10-12T09:43:35Z

This distribution has been tested as part of the CPAN Testers
project, supporting the Perl programming language.  See
http://wiki.cpantesters.org/ for more information or email
questions to cpan-testers-discuss@perl.org


--
Dear Theo Schlossnagle,

This is a computer-generated report for Net-RabbitMQ-0.1.8
on perl 5.10.0, created by CPAN-Reporter-1.18.

Thank you for uploading your work to CPAN.  Congratulations!
All tests were successful.

Sections of this report:

    * Tester comments
    * Program output
    * Prerequisites
    * Environment and other context

------------------------------
TESTER COMMENTS
------------------------------

Additional comments from tester:

this report is from an automated smoke testing program
and was not reviewed by a human for accuracy

------------------------------
PROGRAM OUTPUT
------------------------------

Output from '/usr/bin/make test':

PERL_DL_NONLAZY=1 /usr/bin/perl "-MExtUtils::Command::MM" "-e" "test_harness(0, 'blib/lib', 'blib/arch')" t/*.t
t/001_declare_exchange.t .. ok
t/002_publish.t ........... ok
t/003_consume.t ........... ok
t/004_selfconsume.t ....... ok
t/005_noack.t ............. ok
t/006_txn.t ............... ok
t/007_get.t ............... ok
t/008_queue_declare.t ..... ok
t/009_delete_exchange.t ... ok
All tests successful.
Files=9, Tests=82, 11 wallclock secs ( 0.30 usr  0.12 sys +  1.29 cusr  0.33 csys =  2.04 CPU)
Result: PASS

------------------------------
PREREQUISITES
------------------------------

Prerequisite modules loaded:

configure_requires:

    Module              Need Have
    ------------------- ---- ----
    ExtUtils::MakeMaker 0    6.56


------------------------------
ENVIRONMENT AND OTHER CONTEXT
------------------------------

Environment variables:

    AUTOMATED_TESTING = 1
    PATH = /home/cpants/bin:/bin:/sbin:/usr/bin:/usr/sbin:/usr/X11R6/bin:/usr/local/bin:/usr/local/sbin:/usr/games:.
    PERL5LIB = /home/cpants/perl/libdata/perl5/site_perl:/home/cpants/perl/libdata/perl5
    PERL5OPT = 
    PERL5_CPANPLUS_IS_RUNNING = 21369
    PERL5_CPAN_IS_RUNNING = 21369
    PERL5_CPAN_IS_RUNNING_IN_RECURSION = 19811,21369
    PERL_CR_SMOKER_CURRENT = Net-RabbitMQ-0.1.8
    PERL_EXTUTILS_AUTOINSTALL = --defaultdeps
    PERL_MM_USE_DEFAULT = 1
    SHELL = /bin/ksh
    TERM = network

Perl special variables (and OS-specific diagnostics, for MSWin32):

    $^X = /usr/bin/perl
    $UID/$EUID = 1000 / 1000
    $GID = 1000 1000
    $EGID = 1000 1000

Perl module toolchain versions installed:

    Module              Have  
    ------------------- ------
    CPAN                1.9402
    Cwd                 3.31  
    ExtUtils::CBuilder  0.2703
    ExtUtils::Command   1.16  
    ExtUtils::Install   1.52  
    ExtUtils::MakeMaker 6.56  
    ExtUtils::Manifest  1.56  
    ExtUtils::ParseXS   2.2206
    File::Spec          3.31  
    Module::Build       0.3607
    Module::Signature   0.64  
    Test::Harness       3.22  
    Test::More          0.96  
    YAML                0.71  
    YAML::Syck          n/a   
    version             0.74  


--

Summary of my perl5 (revision 5 version 10 subversion 0) configuration:
  Platform:
    osname=openbsd, osvers=4.6, archname=i386-openbsd
    uname='openbsd'
    config_args='-dsE -Dopenbsd_distribution=defined -Dmksymlinks'
    hint=recommended, useposix=true, d_sigaction=define
    useithreads=undef, usemultiplicity=undef
    useperlio=define, d_sfio=undef, uselargefiles=define, usesocks=undef
    use64bitint=undef, use64bitall=undef, uselongdouble=undef
    usemymalloc=n, bincompat5005=undef
  Compiler:
    cc='cc', ccflags ='-fno-strict-aliasing -fno-delete-null-pointer-checks -pipe -I/usr/local/include',
    optimize='-O2',
    cppflags='-fno-strict-aliasing -fno-delete-null-pointer-checks -pipe -I/usr/local/include'
    ccversion='', gccversion='3.3.5 (propolice)', gccosandvers='openbsd4.6'
    intsize=4, longsize=4, ptrsize=4, doublesize=8, byteorder=1234
    d_longlong=define, longlongsize=8, d_longdbl=define, longdblsize=12
    ivtype='long', ivsize=4, nvtype='double', nvsize=8, Off_t='off_t', lseeksize=8
    alignbytes=4, prototype=define
  Linker and Libraries:
    ld='cc', ldflags ='-Wl,-E '
    libpth=/usr/lib
    libs=-lm -lutil -lc
    perllibs=-lm -lutil -lc
    libc=/usr/lib/libc.a, so=so, useshrplib=true, libperl=libperl.so.11.0
    gnulibc_version=''
  Dynamic Linking:
    dlsrc=dl_dlopen.xs, dlext=so, d_dlsymun=undef, ccdlflags='-Wl,-R/usr/libdata/perl5/i386-openbsd/5.10.0/CORE'
    cccdlflags='-DPIC -fPIC ', lddlflags='-shared -fPIC '


Characteristics of this binary (from libperl): 
  Compile-time options: PERL_DONT_CREATE_GVSV PERL_MALLOC_WRAP
                        USE_LARGE_FILES USE_PERLIO
  Built under OpenBSD
  %ENV:
    PERL5LIB="/home/cpants/perl/libdata/perl5/site_perl:/home/cpants/perl/libdata/perl5"
    PERL5OPT=""
    PERL5_CPANPLUS_IS_RUNNING="21369"
    PERL5_CPAN_IS_RUNNING="21369"
    PERL5_CPAN_IS_RUNNING_IN_RECURSION="19811,21369"
    PERL_CR_SMOKER_CURRENT="Net-RabbitMQ-0.1.8"
    PERL_EXTUTILS_AUTOINSTALL="--defaultdeps"
    PERL_MM_USE_DEFAULT="1"
  @INC:
    /home/cpants/perl/libdata/perl5/site_perl/i386-openbsd
    /home/cpants/perl/libdata/perl5/site_perl
    /home/cpants/perl/libdata/perl5/i386-openbsd
    /home/cpants/perl/libdata/perl5
    /usr/libdata/perl5/i386-openbsd/5.10.0
    /usr/local/libdata/perl5/i386-openbsd/5.10.0
    /usr/libdata/perl5
    /usr/local/libdata/perl5
    /usr/local/libdata/perl5/site_perl/i386-openbsd
    /usr/libdata/perl5/site_perl/i386-openbsd
    /usr/local/libdata/perl5/site_perl
    /usr/libdata/perl5/site_perl
    .