Back
From: metabase:user:314402c4-2aae-11df-837a-5e0a49663a4f
Subject: PASS Image-Base-X11-Protocol-15 v5.8.9 FreeBSD
Date: 2017-05-28T10:27:01Z
This distribution has been tested as part of the CPAN Testers
project, supporting the Perl programming language. See
http://wiki.cpantesters.org/ for more information or email
questions to cpan-testers-discuss@perl.org
--
Dear Kevin Ryde,
This is a computer-generated report for Image-Base-X11-Protocol-15
on perl 5.8.9, created by CPAN-Reporter-1.2018.
Thank you for uploading your work to CPAN. Congratulations!
All tests were successful.
Sections of this report:
* Tester comments
* Program output
* Prerequisites
* Environment and other context
------------------------------
TESTER COMMENTS
------------------------------
Additional comments from tester:
none provided
------------------------------
PROGRAM OUTPUT
------------------------------
Output from '/usr/bin/make test':
PERL_DL_NONLAZY=1 "/usr/perl5.8.9/bin/perl" "-MExtUtils::Command::MM" "-MTest::Harness" "-e" "undef *Test::Harness::Switches; test_harness(0, 'blib/lib', 'blib/arch')" t/*.t
t/clip.t ............ ok
t/Drawable-use.t .... ok
# DISPLAY :43
# Image::Base version 1.17
#
# X server info
# vendor: AT&T Laboratories Cambridge
# release_number: 3332
# protocol_major_version: 11
# protocol_minor_version: 0
# byte_order: l
# num screens: 1
# width_in_pixels: 1024
# height_in_pixels: 768
# width_in_millimeters: 347
# height_in_millimeters: 260
# root_visual: 34
# depth: 24
# class: 4 TrueColor
# colormap_entries: 256
# bits_per_rgb_value: 8
# red_mask: 0XFF0000
# green_mask: 0XFF00
# blue_mask: 0XFF
# image_byte_order: 0 LeastSignificant
# black_pixel: 0
# white_pixel: 0XFFFFFF
# chosen screen: 0
#
# use screen number 0 for checking
# MyTestImageBase on bitmap
# check_image()
# add_colours()
# MyTestImageBase on pixmap depth=24
# check_diamond()
# check_image()
# add_colours() check for error received
# add_colours() 5000
# add_colours() 5000 with seq wraparound
# run_seq_to_FFA0() 53017 steps to seq 65431
t/Drawable.t ........ ok
# Image::Base version 1.17
t/Pixmap.t .......... ok
t/Window-use.t ...... ok
# event VisibilityNotify
# visibility now Unobscured
# skip now [undef]
# check_image()
# check_diamond()
# check_image()
# check_diamond()
t/Window-visible.t .. ok
# Image::Base version 1.17
t/Window.t .......... ok
All tests successful.
Files=7, Tests=12657, 83 wallclock secs ( 8.40 usr 1.80 sys + 40.89 cusr 11.03 csys = 62.12 CPU)
Result: PASS
------------------------------
PREREQUISITES
------------------------------
Prerequisite modules loaded:
requires:
Module Need Have
-------------------- ----- --------
Image::Base 0 1.17
perl 5.004 5.008009
X11::Protocol 0.56 0.56
X11::Protocol::Other 3 29
build_requires:
Module Need Have
-------------------- ----- --------
ExtUtils::MakeMaker 0 7.24
Test 0 1.25
configure_requires:
Module Need Have
-------------------- ----- --------
ExtUtils::MakeMaker 0 7.24
------------------------------
ENVIRONMENT AND OTHER CONTEXT
------------------------------
Environment variables:
LC_ALL = de_DE.ISO8859-1
PATH = /usr/local/bin:/usr/bin:/bin:/usr/local/sbin:/usr/sbin:/sbin:/home/cpansand/bin/freebsd9.3:/home/cpansand/bin/sh:/home/cpansand/bin:/usr/games:/home/cpansand/devel:/usr/home/eserte/src/srezic-misc/scripts
PERL5LIB = /home/eserte/.cpan/build/2017052812/Gtk2-Ex-NumAxis-6-2/blib/arch:/home/eserte/.cpan/build/2017052812/Gtk2-Ex-NumAxis-6-2/blib/lib:/home/eserte/.cpan/build/2017052812/Gtk2-Ex-WidgetBits-48-0/blib/arch:/home/eserte/.cpan/build/2017052812/Gtk2-Ex-WidgetBits-48-0/blib/lib:/home/eserte/.cpan/build/2017052812/Graph-Graph6-7-2/blib/arch:/home/eserte/.cpan/build/2017052812/Graph-Graph6-7-2/blib/lib:/home/eserte/.cpan/build/2017052812/Time-Strptime-1.01-2/blib/arch:/home/eserte/.cpan/build/2017052812/Time-Strptime-1.01-2/blib/lib
PERL5OPT =
PERL5_CPANPLUS_IS_RUNNING = 12831
PERL5_CPAN_IS_RUNNING = 12831
PERL5_CPAN_IS_RUNNING_IN_RECURSION = 12779,12831
PERLDOC = -MPod::Perldoc::ToTextOverstrike
PERL_BATCH = yes
PERL_CANARY_STABILITY_NOPROMPT = 1
PERL_CPAN_REPORTER_CONFIG = /var/tmp/cpansmoker-1023/2017052812/cpanreporter_000_config.ini
PERL_EXTUTILS_AUTOINSTALL = --defaultdeps
SHELL = /usr/local/bin/zsh
TERM = screen
TMPDIR = /var/tmp/cpansmoker-1023/2017052812
Perl special variables (and OS-specific diagnostics, for MSWin32):
$^X = /usr/perl5.8.9/bin/perl
$UID/$EUID = 1023 / 1023
$GID = 1023 1023
$EGID = 1023 1023
Perl module toolchain versions installed:
Module Have
------------------- --------
CPAN 2.16
CPAN::Meta 2.150010
Cwd 3.62
ExtUtils::CBuilder 0.280224
ExtUtils::Command 7.24
ExtUtils::Install 2.12
ExtUtils::MakeMaker 7.24
ExtUtils::Manifest 1.70
ExtUtils::ParseXS 3.30
File::Spec 3.62
JSON 2.93
JSON::PP 2.27400
Module::Build 0.4222
Module::Signature 0.79
Parse::CPAN::Meta 2.150010
Test::Harness 3.39
Test::More 1.302085
YAML 1.23
YAML::Syck 1.30
version 0.9918
--
Summary of my perl5 (revision 5 version 8 subversion 9) configuration:
Platform:
osname=freebsd, osvers=9.2-release-p4, archname=amd64-freebsd
uname='freebsd cvrsnica-freebsd-92 9.2-release-p4 freebsd 9.2-release-p4 #0: tue apr 8 18:08:22 utc 2014 root@amd64-builder.daemonology.net:usrobjusrsrcsysgeneric amd64 '
config_args='-ds -e -Dprefix=/usr/perl5.8.9'
hint=recommended, useposix=true, d_sigaction=define
usethreads=undef use5005threads=undef useithreads=undef usemultiplicity=undef
useperlio=define d_sfio=undef uselargefiles=define usesocks=undef
use64bitint=define use64bitall=define uselongdouble=undef
usemymalloc=n, bincompat5005=undef
Compiler:
cc='cc', ccflags ='-DHAS_FPSETMASK -DHAS_FLOATINGPOINT_H -fno-strict-aliasing -pipe -I/usr/local/include',
optimize='-O',
cppflags='-DHAS_FPSETMASK -DHAS_FLOATINGPOINT_H -fno-strict-aliasing -pipe -I/usr/local/include'
ccversion='', gccversion='4.2.1 20070831 patched [FreeBSD]', gccosandvers=''
intsize=4, longsize=8, ptrsize=8, doublesize=8, byteorder=12345678
d_longlong=define, longlongsize=8, d_longdbl=define, longdblsize=16
ivtype='long', ivsize=8, nvtype='double', nvsize=8, Off_t='off_t', lseeksize=8
alignbytes=8, prototype=define
Linker and Libraries:
ld='cc', ldflags ='-Wl,-E -L/usr/local/lib'
libpth=/usr/lib /usr/local/lib
libs=-lgdbm -lm -lcrypt -lutil -lc
perllibs=-lm -lcrypt -lutil -lc
libc=, so=so, useshrplib=false, libperl=libperl.a
gnulibc_version=''
Dynamic Linking:
dlsrc=dl_dlopen.xs, dlext=so, d_dlsymun=undef, ccdlflags=' '
cccdlflags='-DPIC -fPIC', lddlflags='-shared -L/usr/local/lib'
Characteristics of this binary (from libperl):
Compile-time options: PERL_MALLOC_WRAP USE_64_BIT_ALL USE_64_BIT_INT
USE_FAST_STDIO USE_LARGE_FILES USE_PERLIO
Built under freebsd
Compiled at May 15 2014 22:27:57
%ENV:
PERL5LIB="/home/eserte/.cpan/build/2017052812/Gtk2-Ex-NumAxis-6-2/blib/arch:/home/eserte/.cpan/build/2017052812/Gtk2-Ex-NumAxis-6-2/blib/lib:/home/eserte/.cpan/build/2017052812/Gtk2-Ex-WidgetBits-48-0/blib/arch:/home/eserte/.cpan/build/2017052812/Gtk2-Ex-WidgetBits-48-0/blib/lib:/home/eserte/.cpan/build/2017052812/Graph-Graph6-7-2/blib/arch:/home/eserte/.cpan/build/2017052812/Graph-Graph6-7-2/blib/lib:/home/eserte/.cpan/build/2017052812/Time-Strptime-1.01-2/blib/arch:/home/eserte/.cpan/build/2017052812/Time-Strptime-1.01-2/blib/lib"
PERL5OPT=""
PERL5_CPANPLUS_IS_RUNNING="12831"
PERL5_CPAN_IS_RUNNING="12831"
PERL5_CPAN_IS_RUNNING_IN_RECURSION="12779,12831"
PERLDOC="-MPod::Perldoc::ToTextOverstrike"
PERL_BATCH="yes"
PERL_CANARY_STABILITY_NOPROMPT="1"
PERL_CPAN_REPORTER_CONFIG="/var/tmp/cpansmoker-1023/2017052812/cpanreporter_000_config.ini"
PERL_EXTUTILS_AUTOINSTALL="--defaultdeps"
@INC:
/home/eserte/.cpan/build/2017052812/Gtk2-Ex-NumAxis-6-2/blib/arch
/home/eserte/.cpan/build/2017052812/Gtk2-Ex-NumAxis-6-2/blib/lib
/home/eserte/.cpan/build/2017052812/Gtk2-Ex-WidgetBits-48-0/blib/arch
/home/eserte/.cpan/build/2017052812/Gtk2-Ex-WidgetBits-48-0/blib/lib
/home/eserte/.cpan/build/2017052812/Graph-Graph6-7-2/blib/arch
/home/eserte/.cpan/build/2017052812/Graph-Graph6-7-2/blib/lib
/home/eserte/.cpan/build/2017052812/Time-Strptime-1.01-2/blib/arch
/home/eserte/.cpan/build/2017052812/Time-Strptime-1.01-2/blib/lib
/usr/perl5.8.9/lib/5.8.9/amd64-freebsd
/usr/perl5.8.9/lib/5.8.9
/usr/perl5.8.9/lib/site_perl/5.8.9/amd64-freebsd
/usr/perl5.8.9/lib/site_perl/5.8.9
.