Task-Git-Repository v1.004 Perl 5 v5.8.9 amd64-freebsd

Status
Pass
From
David Cantrell (DCANTRELL)
Dist
Task-Git-Repository v1.004
Platform
Perl 5 v5.8.9 amd64-freebsd
Date
2021-01-11T09:20:05
ID
30c69904-53ee-11eb-a085-8b0e7d482270
This distribution has been tested as part of the CPAN Testers
project, supporting the Perl programming language.  See
http://wiki.cpantesters.org/ for more information or email
questions to cpan-testers-discuss@perl.org


--
Dear Philippe Bruhat (BooK),

This is a computer-generated report for Task-Git-Repository-1.004
on perl 5.8.9, created by CPAN-Reporter-1.2018.

Thank you for uploading your work to CPAN.  Congratulations!
All tests were successful.

Sections of this report:

    * Tester comments
    * Program output
    * Prerequisites
    * Environment and other context

------------------------------
TESTER COMMENTS
------------------------------

Additional comments from tester:

this report is from an automated smoke testing program
and was not reviewed by a human for accuracy

------------------------------
PROGRAM OUTPUT
------------------------------

Output from '/usr/bin/make test':

PERL_DL_NONLAZY=1 "/home/david/cpantesting/perl-5.8.9/bin/perl" "-MExtUtils::Command::MM" "-MTest::Harness" "-e" "undef *Test::Harness::Switches; test_harness(0, 'blib/lib', 'blib/arch')" t/*.t
t/author-pod-syntax....skipped
        all skipped: these tests are for testing by the author
t/git-repository.......skipped
        all skipped: these tests are for release candidate testing
t/release-distmeta.....skipped
        all skipped: these tests are for release candidate testing
All tests successful, 3 tests skipped.
Files=3, Tests=0,  0 wallclock secs ( 0.05 cusr +  0.04 csys =  0.09 CPU)

------------------------------
PREREQUISITES
------------------------------

Prerequisite modules loaded:

requires:

    Module                               Need  Have    
    ------------------------------------ ----- --------
    File::Path                           0     2.07_02 
    File::Spec                           0     3.75    
  ! Git::Repository                      1.309 n/a     
  ! Git::Repository::Plugin::AUTOLOAD    1.000 n/a     
  ! Git::Repository::Plugin::Blame       0     n/a     
  ! Git::Repository::Plugin::Diff        0     n/a     
  ! Git::Repository::Plugin::Dirty       0     n/a     
  ! Git::Repository::Plugin::FileHistory 0     n/a     
  ! Git::Repository::Plugin::Gerrit      0     n/a     
  ! Git::Repository::Plugin::GitHooks    0     n/a     
  ! Git::Repository::Plugin::Hooks       0     n/a     
  ! Git::Repository::Plugin::Info        0     n/a     
  ! Git::Repository::Plugin::Log         1.309 n/a     
  ! Git::Repository::Plugin::Status      0     n/a     
    strict                               0     1.03    
    Test::More                           0     1.302183
    warnings                             0     1.05_01 

configure_requires:

    Module                               Need  Have    
    ------------------------------------ ----- --------
    ExtUtils::MakeMaker                  0     7.56    


------------------------------
ENVIRONMENT AND OTHER CONTEXT
------------------------------

Environment variables:

    AUTOMATED_TESTING = 1
    NONINTERACTIVE_TESTING = 1
    PATH = /home/david/perl5/perlbrew/bin:/home/david/perl5/perlbrew/perls/perl-5.30.2/bin:/sbin:/bin:/usr/sbin:/usr/bin:/usr/local/sbin:/usr/local/bin:/home/david/bin
    PERL = 5.8.9
    PERL5LIB = 
    PERL5OPT = 
    PERL5_CPANPLUS_IS_RUNNING = 81636
    PERL5_CPAN_IS_RUNNING = 81636
    PERLBREW_HOME = /home/david/.perlbrew
    PERLBREW_MANPATH = /home/david/perl5/perlbrew/perls/perl-5.30.2/man
    PERLBREW_PATH = /home/david/perl5/perlbrew/bin:/home/david/perl5/perlbrew/perls/perl-5.30.2/bin
    PERLBREW_PERL = perl-5.30.2
    PERLBREW_ROOT = /home/david/perl5/perlbrew
    PERLBREW_SHELLRC_VERSION = 0.89
    PERLBREW_VERSION = 0.89
    PERLVER = 5.8.9
    PERL_INLINE_DIRECTORY = /home/david/.Inline-5.8.9
    PERL_MM_USE_DEFAULT = 1
    PERL_USE_UNSAFE_INC = 0
    SHELL = /usr/local/bin/bash
    TERM = screen

Perl special variables (and OS-specific diagnostics, for MSWin32):

    $^X = /home/david/cpantesting/perl-5.8.9/bin/perl
    $UID/$EUID = 1001 / 1001
    $GID = 1001 1001 0
    $EGID = 1001 1001 0

Perl module toolchain versions installed:

    Module              Have    
    ------------------- --------
    CPAN                1.94    
    CPAN::Meta          2.150010
    Cwd                 3.75    
    ExtUtils::CBuilder  0.280235
    ExtUtils::Command   7.56    
    ExtUtils::Install   2.06    
    ExtUtils::MakeMaker 7.56    
    ExtUtils::Manifest  1.70    
    ExtUtils::ParseXS   3.35    
    File::Spec          3.75    
    JSON                n/a     
    JSON::PP            4.05    
    Module::Build       n/a     
    Module::Signature   n/a     
    Parse::CPAN::Meta   2.150010
    Test::Harness       2.64    
    Test::More          1.302183
    YAML                n/a     
    YAML::Syck          n/a     
    version             0.9928  


--

Summary of my perl5 (revision 5 version 8 subversion 9) configuration:
  Platform:
    osname=freebsd, osvers=12.2-release, archname=amd64-freebsd
    uname='freebsd cpantesting-freebsd 12.2-release freebsd 12.2-release r366954 generic amd64 '
    config_args='-de -Dprefix=/home/david/cpantesting/perl-5.8.9'
    hint=recommended, useposix=true, d_sigaction=define
    usethreads=undef use5005threads=undef useithreads=undef usemultiplicity=undef
    useperlio=define d_sfio=undef uselargefiles=define usesocks=undef
    use64bitint=define use64bitall=define uselongdouble=undef
    usemymalloc=n, bincompat5005=undef
  Compiler:
    cc='cc', ccflags ='-DHAS_FPSETMASK -DHAS_FLOATINGPOINT_H -fno-strict-aliasing -pipe -I/usr/local/include',
    optimize='-O2',
    cppflags='-DHAS_FPSETMASK -DHAS_FLOATINGPOINT_H -fno-strict-aliasing -pipe -I/usr/local/include'
    ccversion='', gccversion='FreeBSD Clang 10.0.1 (git@github.com:llvm/llvm-project.git llvmorg-10.0.1-0-gef32c611aa2)', gccosandvers=''
    intsize=4, longsize=8, ptrsize=8, doublesize=8, byteorder=12345678
    d_longlong=define, longlongsize=8, d_longdbl=define, longdblsize=16
    ivtype='long', ivsize=8, nvtype='double', nvsize=8, Off_t='off_t', lseeksize=8
    alignbytes=8, prototype=define
  Linker and Libraries:
    ld='cc', ldflags ='-Wl,-E  -L/usr/local/lib'
    libpth=/usr/lib /usr/local/lib
    libs=-lgdbm -ldl -lm -lcrypt -lutil -lc
    perllibs=-ldl -lm -lcrypt -lutil -lc
    libc=, so=so, useshrplib=false, libperl=libperl.a
    gnulibc_version=''
  Dynamic Linking:
    dlsrc=dl_dlopen.xs, dlext=so, d_dlsymun=undef, ccdlflags=' '
    cccdlflags='-DPIC -fPIC', lddlflags='-shared  -L/usr/local/lib'


Characteristics of this binary (from libperl): 
  Compile-time options: PERL_MALLOC_WRAP USE_64_BIT_ALL USE_64_BIT_INT
                        USE_FAST_STDIO USE_LARGE_FILES USE_PERLIO
  Locally applied patches:
	Devel::PatchPerl 2.04
  Built under freebsd
  Compiled at Dec 11 2020 09:51:54
  %ENV:
    PERL="5.8.9"
    PERL5LIB=""
    PERL5OPT=""
    PERL5_CPANPLUS_IS_RUNNING="81636"
    PERL5_CPAN_IS_RUNNING="81636"
    PERLBREW_HOME="/home/david/.perlbrew"
    PERLBREW_MANPATH="/home/david/perl5/perlbrew/perls/perl-5.30.2/man"
    PERLBREW_PATH="/home/david/perl5/perlbrew/bin:/home/david/perl5/perlbrew/perls/perl-5.30.2/bin"
    PERLBREW_PERL="perl-5.30.2"
    PERLBREW_ROOT="/home/david/perl5/perlbrew"
    PERLBREW_SHELLRC_VERSION="0.89"
    PERLBREW_VERSION="0.89"
    PERLVER="5.8.9"
    PERL_INLINE_DIRECTORY="/home/david/.Inline-5.8.9"
    PERL_MM_USE_DEFAULT="1"
    PERL_USE_UNSAFE_INC="0"
  @INC:
    /home/david/cpantesting/perl-5.8.9/lib/5.8.9/amd64-freebsd
    /home/david/cpantesting/perl-5.8.9/lib/5.8.9
    /home/david/cpantesting/perl-5.8.9/lib/site_perl/5.8.9/amd64-freebsd
    /home/david/cpantesting/perl-5.8.9/lib/site_perl/5.8.9
    .