CGI v4.64 Perl 5 v5.20.2 armv7l-linux

Status
Pass
From
Nigel Horne
Dist
CGI v4.64
Platform
Perl 5 v5.20.2 armv7l-linux
Date
2024-05-07 06:44:04
ID
31ec9094-0c3d-11ef-b94b-bdc13385efa5
This distribution has been tested as part of the CPAN Testers
project, supporting the Perl programming language.  See
http://wiki.cpantesters.org/ for more information or email
questions to cpan-testers-discuss@perl.org


--
Dear Lee Johnson,

This is a computer-generated report for CGI-4.64
on perl 5.20.2, created by CPAN-Reporter-1.2018.

Thank you for uploading your work to CPAN.  Congratulations!
All tests were successful.

Sections of this report:

    * Tester comments
    * Program output
    * Prerequisites
    * Environment and other context

------------------------------
TESTER COMMENTS
------------------------------

Additional comments from tester:

this report is from an automated smoke testing program
and was not reviewed by a human for accuracy

------------------------------
PROGRAM OUTPUT
------------------------------

Output from '/usr/bin/make test':

PERL_DL_NONLAZY=1 "/home/smoker/perl5/perlbrew/perls/perl-5.20.2-ld/bin/perl5.20.2" "-MExtUtils::Command::MM" "-MTest::Harness" "-e" "undef *Test::Harness::Switches; test_harness(0, 'blib/lib', 'blib/arch')" t/*.t t/headers/*.t
t/append_query.t ............ ok
t/arbitrary_handles.t ....... ok
t/autoescape.t .............. ok
t/can.t ..................... ok
t/charset.t ................. ok
# cgi-lib.pl routines
[Tue May  7 06:43:45 2024] carp.t: foo at /tmp/build/CGI-4.64-0/blib/lib/CGI/Carp.pm line 360.
private_tempfiles has been deprecated at /tmp/build/CGI-4.64-0/blib/lib/CGI.pm line 3241.
t/cgi.t ..................... ok
t/checkbox_group.t .......... ok
t/carp.t .................... ok
t/delete.t .................. ok
t/cookie.t .................. ok
t/Dump.t .................... ok
t/compiles_pod.t ............ ok
t/function.t ................ ok
t/form.t .................... ok
t/end_form.t ................ ok
t/command_line.t ............ ok
t/gh-155.t .................. ok
t/headers.t ................. ok
t/headers/attachment.t ...... ok
t/headers/charset.t ......... ok
t/headers/cookie.t .......... ok
t/headers/default.t ......... ok
t/headers/p3p.t ............. ok
t/headers/target.t .......... ok
t/headers/nph.t ............. ok
t/headers/type.t ............ ok
t/http.t .................... ok
t/hidden.t .................. ok
t/init.t .................... ok
t/html.t .................... ok
t/multipart_globals.t ....... ok
t/html_functions.t .......... ok
t/multipart_init.t .......... ok
t/multipart_start.t ......... ok
t/param_fetch.t ............. ok
t/no_tabindex.t ............. ok
t/param_list_context.t ...... ok
t/popup_menu.t .............. ok
CGI::Pretty is DEPRECATED and will be removed in a future release. Please see https://github.com/leejo/CGI.pm/issues/162 for more information at /tmp/build/CGI-4.64-0/blib/lib/CGI/Pretty.pm line 20.
t/pretty.t .................. ok
t/postdata.t ................ ok
t/push.t .................... ok
t/query_string.t ............ ok
t/redirect_query_string.t ... ok
t/rt-52469.t ................ ok
t/rt-31107.t ................ ok
t/request.t ................. ok
t/rt-57524.t ................ ok
t/rt-84767.t ................ ok
t/save_read_roundtrip.t ..... ok
t/rt-75628.t ................ ok
t/sorted.t .................. ok
t/start_end_asterisk.t ...... ok
t/start_end_start.t ......... ok
t/start_end_end.t ........... ok
t/unescapeHTML.t ............ ok
t/upload_quoted_unquoted.t .. ok
t/upload.t .................. ok
t/uploadInfo.t .............. ok
t/url.t ..................... ok
t/user_agent.t .............. ok
t/utf8.t .................... ok
t/util-58.t ................. ok
t/util.t .................... ok
All tests successful.

Test Summary Report
-------------------
t/compiles_pod.t          (Wstat: 0 Tests: 18 Failed: 0)
  TODO passed:   3, 6
Files=63, Tests=1595, 18 wallclock secs ( 1.09 usr  0.36 sys + 17.25 cusr  4.01 csys = 22.71 CPU)
Result: PASS

------------------------------
PREREQUISITES
------------------------------

Prerequisite modules loaded:

requires:

    Module              Need     Have    
    ------------------- -------- --------
    Carp                0        1.3301  
    Config              0        5.020002
    Encode              0        2.60    
    Exporter            0        5.71    
    File::Spec          0.82     3.75    
    File::Temp          0.17     0.2304  
    HTML::Entities      3.69     3.69    
    if                  0        0.0603  
    overload            0        1.22    
    parent              0.225    0.228   
    perl                5.008001 5.020002
    strict              0        1.08    
    URI                 1.76     1.76    
    utf8                0        1.13_01 
    warnings            0        1.23    

build_requires:

    Module              Need     Have    
    ------------------- -------- --------
    Cwd                 0        3.75    
    ExtUtils::MakeMaker 0        7.44    
    File::Find          0        1.27    
    IO::File            0        1.16    
    IO::Handle          0        1.35    
    POSIX               0        1.38_03 
    Test::More          0.98     1.302171
    Test::NoWarnings    0        1.04    
    Test::Warn          0.3      0.36    

configure_requires:

    Module              Need     Have    
    ------------------- -------- --------
    ExtUtils::MakeMaker 0        7.44    


------------------------------
ENVIRONMENT AND OTHER CONTEXT
------------------------------

Environment variables:

    AUTOMATED_TESTING = 1
    HARNESS_OPTIONS = j4
    NONINTERACTIVE_TESTING = 1
    PATH = /home/smoker/perl5/perlbrew/bin:/home/smoker/perl5/perlbrew/perls/perl-5.20.2-ld/bin:/usr/local/sbin:/usr/local/bin:/usr/sbin:/usr/bin:/sbin:/bin
    PERL5LIB = /tmp/build/File-Slurp-9999.32-0/blib/arch:/tmp/build/File-Slurp-9999.32-0/blib/lib
    PERL5OPT = 
    PERL5_CPANPLUS_IS_RUNNING = 194
    PERL5_CPAN_IS_RUNNING = 194
    PERLBREW_HOME = /home/smoker/.perlbrew
    PERLBREW_MANPATH = /home/smoker/perl5/perlbrew/perls/perl-5.20.2-ld/man
    PERLBREW_PATH = /home/smoker/perl5/perlbrew/bin:/home/smoker/perl5/perlbrew/perls/perl-5.20.2-ld/bin
    PERLBREW_PERL = perl-5.20.2-ld
    PERLBREW_ROOT = /home/smoker/perl5/perlbrew
    PERLBREW_SHELLRC_VERSION = 0.88
    PERLBREW_VERSION = 0.88
    PERL_MM_USE_DEFAULT = 1
    PERL_USE_UNSAFE_INC = 1
    SHELL = /bin/bash
    TERM = xterm
    TMPDIR = /tmp/testwrapper.183

Perl special variables (and OS-specific diagnostics, for MSWin32):

    $^X = /home/smoker/perl5/perlbrew/perls/perl-5.20.2-ld/bin/perl5.20.2
    $UID/$EUID = 1000 / 1000
    $GID = 1000 1000
    $EGID = 1000 1000

Perl module toolchain versions installed:

    Module              Have    
    ------------------- --------
    CPAN                2.27    
    CPAN::Meta          2.150010
    Cwd                 3.75    
    ExtUtils::CBuilder  0.280217
    ExtUtils::Command   7.44    
    ExtUtils::Install   2.06    
    ExtUtils::MakeMaker 7.44    
    ExtUtils::Manifest  1.70    
    ExtUtils::ParseXS   3.24    
    File::Spec          3.75    
    JSON                4.02    
    JSON::PP            4.04    
    Module::Build       0.4231  
    Module::Signature   n/a     
    Parse::CPAN::Meta   2.150010
    Test::Harness       3.42    
    Test::More          1.302171
    YAML                1.30    
    YAML::Syck          1.32    
    version             0.9909  


--

Summary of my perl5 (revision 5 version 20 subversion 2) configuration:
   
  Platform:
    osname=linux, osvers=4.19.75-v7l+, archname=armv7l-linux
    uname='linux 2c1d99e927e1 4.19.75-v7l+ #1270 smp tue sep 24 18:51:41 bst 2019 armv7l gnulinux '
    config_args='-de -Dprefix=/home/smoker/perl5/perlbrew/perls/perl-5.20.2-ld -Dusedevel -Duselongdouble -Accflags=-O2 -pipe -Wall -Wextra -mtune=native -march=native -Aeval:scriptdir=/home/smoker/perl5/perlbrew/perls/perl-5.20.2-ld/bin'
    hint=recommended, useposix=true, d_sigaction=define
    useithreads=undef, usemultiplicity=undef
    use64bitint=undef, use64bitall=undef, uselongdouble=define
    usemymalloc=n, bincompat5005=undef
  Compiler:
    cc='cc', ccflags ='-O2 -pipe -Wall -Wextra -mtune=native -march=native -fwrapv -fno-strict-aliasing -fstack-protector -I/usr/local/include -D_LARGEFILE_SOURCE -D_FILE_OFFSET_BITS=64',
    optimize='-O2',
    cppflags='-O2 -pipe -Wall -Wextra -mtune=native -march=native -fwrapv -fno-strict-aliasing -fstack-protector -I/usr/local/include'
    ccversion='', gccversion='8.3.0', gccosandvers=''
    intsize=4, longsize=4, ptrsize=4, doublesize=8, byteorder=1234
    d_longlong=define, longlongsize=8, d_longdbl=define, longdblsize=8
    ivtype='long', ivsize=4, nvtype='long double', nvsize=8, Off_t='off_t', lseeksize=8
    alignbytes=8, prototype=define
  Linker and Libraries:
    ld='cc', ldflags =' -fstack-protector -L/usr/local/lib'
    libpth=/usr/local/lib /usr/lib/gcc/arm-linux-gnueabihf/8/include-fixed /usr/include/arm-linux-gnueabihf /usr/lib /lib/arm-linux-gnueabihf /lib /usr/lib/arm-linux-gnueabihf
    libs=-lnsl -ldl -lm -lcrypt -lutil -lc
    perllibs=-lnsl -ldl -lm -lcrypt -lutil -lc
    libc=libc-2.28.so, so=so, useshrplib=false, libperl=libperl.a
    gnulibc_version='2.28'
  Dynamic Linking:
    dlsrc=dl_dlopen.xs, dlext=so, d_dlsymun=undef, ccdlflags='-Wl,-E'
    cccdlflags='-fPIC', lddlflags='-shared -O2 -L/usr/local/lib -fstack-protector'


Characteristics of this binary (from libperl): 
  Compile-time options: HAS_TIMES PERLIO_LAYERS PERL_DONT_CREATE_GVSV
                        PERL_HASH_FUNC_ONE_AT_A_TIME_HARD PERL_MALLOC_WRAP
                        PERL_NEW_COPY_ON_WRITE PERL_PRESERVE_IVUV
                        PERL_USE_DEVEL USE_LARGE_FILES USE_LOCALE
                        USE_LOCALE_COLLATE USE_LOCALE_CTYPE
                        USE_LOCALE_NUMERIC USE_PERLIO USE_PERL_ATOF
  Locally applied patches:
	Devel::PatchPerl 1.84
  Built under linux
  Compiled at Feb  2 2020 18:06:26
  %ENV:
    PERL5LIB="/tmp/build/File-Slurp-9999.32-0/blib/arch:/tmp/build/File-Slurp-9999.32-0/blib/lib"
    PERL5OPT=""
    PERL5_CPANPLUS_IS_RUNNING="194"
    PERL5_CPAN_IS_RUNNING="194"
    PERLBREW_HOME="/home/smoker/.perlbrew"
    PERLBREW_MANPATH="/home/smoker/perl5/perlbrew/perls/perl-5.20.2-ld/man"
    PERLBREW_PATH="/home/smoker/perl5/perlbrew/bin:/home/smoker/perl5/perlbrew/perls/perl-5.20.2-ld/bin"
    PERLBREW_PERL="perl-5.20.2-ld"
    PERLBREW_ROOT="/home/smoker/perl5/perlbrew"
    PERLBREW_SHELLRC_VERSION="0.88"
    PERLBREW_VERSION="0.88"
    PERL_MM_USE_DEFAULT="1"
    PERL_USE_UNSAFE_INC="1"
  @INC:
    /tmp/build/File-Slurp-9999.32-0/blib/arch
    /tmp/build/File-Slurp-9999.32-0/blib/lib
    /home/smoker/perl5/perlbrew/perls/perl-5.20.2-ld/lib/site_perl/5.20.2/armv7l-linux
    /home/smoker/perl5/perlbrew/perls/perl-5.20.2-ld/lib/site_perl/5.20.2
    /home/smoker/perl5/perlbrew/perls/perl-5.20.2-ld/lib/5.20.2/armv7l-linux
    /home/smoker/perl5/perlbrew/perls/perl-5.20.2-ld/lib/5.20.2
    .