Back
From: metabase:user:322078bc-2aae-11df-837a-5e0a49663a4f
Subject: PASS Data-UUID-Base64URLSafe-0.34 v5.8.9 SunOS/Solaris
Date: 2013-04-02T15:30:08Z
This distribution has been tested as part of the CPAN Testers
project, supporting the Perl programming language. See
http://wiki.cpantesters.org/ for more information or email
questions to cpan-testers-discuss@perl.org
--
Dear Leon Brocard,
This is a computer-generated error report created automatically by
CPANPLUS, version 0.9134. Testers personal comments may appear
at the end of this report.
Thank you for uploading your work to CPAN. Congratulations!
All tests were successful.
TEST RESULTS:
Below is the error stack from stage 'make test':
PERL_DL_NONLAZY=1 /export/home/cpan/pit/64bit/perl-5.8.9/bin/perl "-MExtUtils::Command::MM" "-e" "test_harness(0, 'blib/lib', 'blib/arch')" t/*.t
t/pod.t ........... skipped: Test::Pod 1.14 required for testing POD
t/pod_coverage.t .. skipped: Test::Pod::Coverage 1.04 required for testing POD coverage
Constant subroutine main::NameSpace_DNS redefined at /export/home/cpan/pit/64bit/perl-5.8.9/lib/5.8.9/Exporter.pm line 67.
at (eval 4) line 2
Prototype mismatch: sub main::NameSpace_DNS () vs none at /export/home/cpan/pit/64bit/perl-5.8.9/lib/5.8.9/Exporter.pm line 67.
at (eval 4) line 2
t/simple.t ........ ok
All tests successful.
Files=3, Tests=10, 0 wallclock secs ( 0.03 usr 0.03 sys + 0.06 cusr 0.06 csys = 0.18 CPU)
Result: PASS
PREREQUISITES:
Here is a list of prerequisites you specified and versions we
managed to load:
Module Name Have Want
Data::UUID 1.218 0
ExtUtils::MakeMaker 6.64 0
MIME::Base64::URLSafe 0.01 0
Test::More 0.98 0.01
Perl module toolchain versions installed:
Module Name Have
CPANPLUS 0.9134
CPANPLUS::Dist::Build 0.70
Cwd 3.40
ExtUtils::CBuilder 0.280205
ExtUtils::Command 1.16
ExtUtils::Install 1.54
ExtUtils::MakeMaker 6.64
ExtUtils::Manifest 1.61
ExtUtils::ParseXS 3.18
File::Spec 3.40
Module::Build 0.4004
Pod::Parser 1.35
Pod::Simple 0
Test::Harness 3.26
Test::More 0.98
version 0.9902
******************************** NOTE ********************************
The comments above are created mechanically, possibly without manual
checking by the sender. As there are many people performing automatic
tests on each upload to CPAN, it is likely that you will receive
identical messages about the same problem.
If you believe that the message is mistaken, please reply to the first
one with correction and/or additional informations, and do not take
it personally. We appreciate your patience. :)
**********************************************************************
Additional comments:
This report was machine-generated by CPANPLUS::Dist::YACSmoke 0.86.
Powered by minismokebox version 0.54
------------------------------
ENVIRONMENT AND OTHER CONTEXT
------------------------------
Environment variables:
AUTOMATED_TESTING = 1
LANG = en_US.UTF-8
LC_ALL =
LC_COLLATE =
LC_CTYPE =
LC_MESSAGES =
LC_MONETARY =
LC_NUMERIC =
LC_TIME =
PATH = /opt/solarisstudio12.3/bin:/opt/solarisstudio12.3/bin:/usr/bin:/usr/sbin
PERL5LIB = :/export/home/cpan/pit/64bit/conf/perl-5.8.9/.cpanplus/5.8.9/build/Data-UUID-1.218/blib/lib:/export/home/cpan/pit/64bit/conf/perl-5.8.9/.cpanplus/5.8.9/build/Data-UUID-1.218/blib/arch:/export/home/cpan/pit/64bit/conf/perl-5.8.9/.cpanplus/5.8.9/build/MIME-Base64-URLSafe-0.01/blib/lib:/export/home/cpan/pit/64bit/conf/perl-5.8.9/.cpanplus/5.8.9/build/MIME-Base64-URLSafe-0.01/blib/arch:/export/home/cpan/pit/64bit/conf/perl-5.8.9/.cpanplus/5.8.9/build/Data-UUID-Base64URLSafe-0.34/blib/lib:/export/home/cpan/pit/64bit/conf/perl-5.8.9/.cpanplus/5.8.9/build/Data-UUID-Base64URLSafe-0.34/blib/arch
PERL5_CPANPLUS_IS_RUNNING = 14220
PERL5_CPANPLUS_IS_VERSION = 0.9134
PERL5_MINISMOKEBOX = 0.54
PERL5_YACSMOKE_BASE = /export/home/cpan/pit/64bit/conf/perl-5.8.9
PERL_EXTUTILS_AUTOINSTALL = --defaultdeps
PERL_MM_USE_DEFAULT = 1
SHELL = /usr/bin/bash
TERM = screen
Perl special variables (and OS-specific diagnostics, for MSWin32):
Perl: $^X = /export/home/cpan/pit/64bit/perl-5.8.9/bin/perl
UID: $< = 101
EUID: $> = 101
GID: $( = 100 100
EGID: $) = 100 100
-------------------------------
--
Summary of my perl5 (revision 5 version 8 subversion 9) configuration:
Platform:
osname=solaris, osvers=2.11, archname=i86pc-solaris-64int
uname='sunos stanley 5.11 11.1 i86pc i386 i86pc '
config_args='-des -Dprefix=/export/home/cpan/pit/64bit/perl-5.8.9 -Duse64bitint'
hint=recommended, useposix=true, d_sigaction=define
usethreads=undef use5005threads=undef useithreads=undef usemultiplicity=undef
useperlio=define d_sfio=undef uselargefiles=define usesocks=undef
use64bitint=define use64bitall=undef uselongdouble=undef
usemymalloc=n, bincompat5005=undef
Compiler:
cc='cc', ccflags ='-DPTR_IS_LONG -D_LARGEFILE_SOURCE -D_FILE_OFFSET_BITS=64 -DPERL_USE_SAFE_PUTENV',
optimize='-O',
cppflags='-DPTR_IS_LONG'
ccversion='Sun C 5.12 SunOS_i386 2011/11/16', gccversion='', gccosandvers=''
intsize=4, longsize=4, ptrsize=4, doublesize=8, byteorder=12345678
d_longlong=define, longlongsize=8, d_longdbl=define, longdblsize=12
ivtype='long long', ivsize=8, nvtype='double', nvsize=8, Off_t='off_t', lseeksize=8
alignbytes=4, prototype=define
Linker and Libraries:
ld='cc', ldflags =' -L/usr/lib -L/usr/ccs/lib -L/opt/solarisstudio12.3/prod/lib -L/lib -L/usr/gnu/lib '
libpth=/usr/lib /usr/ccs/lib /opt/solarisstudio12.3/prod/lib /lib /usr/gnu/lib
libs=-lsocket -lnsl -lgdbm -ldb -ldl -lm -lc
perllibs=-lsocket -lnsl -ldl -lm -lc
libc=/lib/libc.so, so=so, useshrplib=false, libperl=libperl.a
gnulibc_version=''
Dynamic Linking:
dlsrc=dl_dlopen.xs, dlext=so, d_dlsymun=undef, ccdlflags=' '
cccdlflags='-KPIC', lddlflags='-G -L/usr/lib -L/usr/ccs/lib -L/opt/solarisstudio12.3/prod/lib -L/lib -L/usr/gnu/lib'
Characteristics of this binary (from libperl):
Compile-time options: PERL_MALLOC_WRAP PERL_USE_SAFE_PUTENV USE_64_BIT_INT
USE_FAST_STDIO USE_LARGE_FILES USE_PERLIO
Built under solaris
Compiled at Feb 15 2013 15:05:50
%ENV:
PERL5LIB=":/export/home/cpan/pit/64bit/conf/perl-5.8.9/.cpanplus/5.8.9/build/Data-UUID-1.218/blib/lib:/export/home/cpan/pit/64bit/conf/perl-5.8.9/.cpanplus/5.8.9/build/Data-UUID-1.218/blib/arch:/export/home/cpan/pit/64bit/conf/perl-5.8.9/.cpanplus/5.8.9/build/MIME-Base64-URLSafe-0.01/blib/lib:/export/home/cpan/pit/64bit/conf/perl-5.8.9/.cpanplus/5.8.9/build/MIME-Base64-URLSafe-0.01/blib/arch:/export/home/cpan/pit/64bit/conf/perl-5.8.9/.cpanplus/5.8.9/build/Data-UUID-Base64URLSafe-0.34/blib/lib:/export/home/cpan/pit/64bit/conf/perl-5.8.9/.cpanplus/5.8.9/build/Data-UUID-Base64URLSafe-0.34/blib/arch"
PERL5_CPANPLUS_IS_RUNNING="14220"
PERL5_CPANPLUS_IS_VERSION="0.9134"
PERL5_MINISMOKEBOX="0.54"
PERL5_YACSMOKE_BASE="/export/home/cpan/pit/64bit/conf/perl-5.8.9"
PERL_EXTUTILS_AUTOINSTALL="--defaultdeps"
PERL_MM_USE_DEFAULT="1"
@INC:
/export/home/cpan/pit/64bit/conf/perl-5.8.9/.cpanplus/5.8.9/build/Data-UUID-1.218/blib/lib
/export/home/cpan/pit/64bit/conf/perl-5.8.9/.cpanplus/5.8.9/build/Data-UUID-1.218/blib/arch
/export/home/cpan/pit/64bit/conf/perl-5.8.9/.cpanplus/5.8.9/build/MIME-Base64-URLSafe-0.01/blib/lib
/export/home/cpan/pit/64bit/conf/perl-5.8.9/.cpanplus/5.8.9/build/MIME-Base64-URLSafe-0.01/blib/arch
/export/home/cpan/pit/64bit/conf/perl-5.8.9/.cpanplus/5.8.9/build/Data-UUID-Base64URLSafe-0.34/blib/lib
/export/home/cpan/pit/64bit/conf/perl-5.8.9/.cpanplus/5.8.9/build/Data-UUID-Base64URLSafe-0.34/blib/arch
/export/home/cpan/pit/64bit/perl-5.8.9/lib/5.8.9/i86pc-solaris-64int
/export/home/cpan/pit/64bit/perl-5.8.9/lib/5.8.9
/export/home/cpan/pit/64bit/perl-5.8.9/lib/site_perl/5.8.9/i86pc-solaris-64int
/export/home/cpan/pit/64bit/perl-5.8.9/lib/site_perl/5.8.9
.