Back
From: metabase:user:0615d7b2-f473-11e1-a6f8-ae1b34ff59b8
Subject: PASS Sys-SigAction-0.15 v5.16.1 Mac OS X
Date: 2013-04-02T13:57:09Z
This distribution has been tested as part of the CPAN Testers
project, supporting the Perl programming language. See
http://wiki.cpantesters.org/ for more information or email
questions to cpan-testers-discuss@perl.org
--
Dear Lincoln A Baxter,
This is a computer-generated report for Sys-SigAction-0.15
on perl 5.16.1, created by CPAN-Reporter-1.2009.
Thank you for uploading your work to CPAN. Congratulations!
All tests were successful.
Sections of this report:
* Tester comments
* Program output
* Prerequisites
* Environment and other context
------------------------------
TESTER COMMENTS
------------------------------
Additional comments from tester:
none provided
------------------------------
PROGRAM OUTPUT
------------------------------
Output from '/usr/bin/make test':
PERL_DL_NONLAZY=1 /Users/ruz/perl5/perlbrew/perls/perl-5.16.1/bin/perl "-MExtUtils::Command::MM" "-e" "test_harness(0, 'blib/lib', 'blib/arch')" t/*.t
t/mask.t ..... ok
t/name.t ..... ok
t/nested.t ... ok
t/number.t ... ok
NOTE: Setting safe=>1... with masked signals does not seem to work.
The problem is that the masked signals are not masked, but when
safe=>0 they are.
If you have an application for safe=>1 and can come up with
a test that works in the context of this module's installation
please send me a patch to safe.t that tests it.
See the block below this one... which if executed would test safe mode
with masked signals... it is a clone of part of mask.t that proves this
is broken.
Lincoln
t/safe.t ..... ok
# testing fractional second timeout
t/timeout.t .. ok
All tests successful.
Files=6, Tests=35, 6 wallclock secs ( 0.06 usr 0.02 sys + 1.54 cusr 0.07 csys = 1.69 CPU)
Result: PASS
------------------------------
PREREQUISITES
------------------------------
Prerequisite modules loaded:
requires:
Module Need Have
------------------- ---- ----
POSIX 0 1.30
Test::More 0 0.98
build_requires:
Module Need Have
------------------- ---- ----
ExtUtils::MakeMaker 0 6.64
configure_requires:
Module Need Have
------------------- ---- ----
ExtUtils::MakeMaker 0 6.64
------------------------------
ENVIRONMENT AND OTHER CONTEXT
------------------------------
Environment variables:
LANG = ru_RU.UTF-8
PATH = /Users/ruz/perl5/perlbrew/bin:/Users/ruz/perl5/perlbrew/perls/perl-5.16.1/bin:/Users/ruz/bin:/opt/local/bin:/opt/local/sbin:/usr/bin:/bin:/usr/sbin:/sbin:/usr/local/bin
PERL5LIB =
PERL5OPT =
PERL5_CPANPLUS_IS_RUNNING = 19761
PERL5_CPAN_IS_RUNNING = 19761
PERLBREW_BASHRC_VERSION = 0.59
PERLBREW_HOME = /Users/ruz/.perlbrew
PERLBREW_MANPATH = /Users/ruz/perl5/perlbrew/perls/perl-5.16.1/man
PERLBREW_PATH = /Users/ruz/perl5/perlbrew/bin:/Users/ruz/perl5/perlbrew/perls/perl-5.16.1/bin
PERLBREW_PERL = perl-5.16.1
PERLBREW_ROOT = /Users/ruz/perl5/perlbrew
PERLBREW_VERSION = 0.59
SHELL = /opt/local/bin/bash
TERM = xterm-256color
TMPDIR = /var/folders/k3/gjr5ftjx78gbrqtw02s8wzdw0000gn/T/
Perl special variables (and OS-specific diagnostics, for MSWin32):
$^X = /Users/ruz/perl5/perlbrew/perls/perl-5.16.1/bin/perl
$UID/$EUID = 501 / 501
$GID = 20 20 401 12 33 61 79 80 81 98 100 204
$EGID = 20 20 401 12 33 61 79 80 81 98 100 204
Perl module toolchain versions installed:
Module Have
------------------- --------
CPAN 1.9800
CPAN::Meta 2.120921
Cwd 3.40
ExtUtils::CBuilder 0.280206
ExtUtils::Command 1.17
ExtUtils::Install 1.58
ExtUtils::MakeMaker 6.64
ExtUtils::Manifest 1.61
ExtUtils::ParseXS 3.16
File::Spec 3.40
JSON 2.53
JSON::PP 2.27200
Module::Build 0.4003
Module::Signature 0.70
Parse::CPAN::Meta 1.4404
Test::Harness 3.26
Test::More 0.98
YAML 0.84
YAML::Syck 1.25
version 0.9902
--
Summary of my perl5 (revision 5 version 16 subversion 1) configuration:
Platform:
osname=darwin, osvers=12.1.0, archname=darwin-2level
uname='darwin macbook-ruslan.local 12.1.0 darwin kernel version 12.1.0: tue aug 14 13:29:55 pdt 2012; root:xnu-2050.9.2~1release_x86_64 x86_64 '
config_args='-de -Duserelocatableinc -Dprefix=/Users/ruz/perl5/perlbrew/perls/perl-5.16.1 -DDEBUGGING -Aeval:scriptdir=/Users/ruz/perl5/perlbrew/perls/perl-5.16.1/bin'
hint=recommended, useposix=true, d_sigaction=define
useithreads=undef, usemultiplicity=undef
useperlio=define, d_sfio=undef, uselargefiles=define, usesocks=undef
use64bitint=define, use64bitall=define, uselongdouble=undef
usemymalloc=n, bincompat5005=undef
Compiler:
cc='cc', ccflags ='-fno-common -DPERL_DARWIN -DDEBUGGING -fno-strict-aliasing -pipe -fstack-protector -I/opt/local/include',
optimize='-O3 -g',
cppflags='-fno-common -DPERL_DARWIN -DDEBUGGING -fno-strict-aliasing -pipe -fstack-protector -I/opt/local/include'
ccversion='', gccversion='4.2.1 Compatible Apple Clang 4.0 ((tags/Apple/clang-421.0.60))', gccosandvers=''
intsize=4, longsize=8, ptrsize=8, doublesize=8, byteorder=12345678
d_longlong=define, longlongsize=8, d_longdbl=define, longdblsize=16
ivtype='long', ivsize=8, nvtype='double', nvsize=8, Off_t='off_t', lseeksize=8
alignbytes=8, prototype=define
Linker and Libraries:
ld='env MACOSX_DEPLOYMENT_TARGET=10.3 cc', ldflags =' -fstack-protector -L/opt/local/lib'
libpth=/opt/local/lib /usr/lib
libs=-lgdbm -ldbm -ldl -lm -lutil -lc
perllibs=-ldl -lm -lutil -lc
libc=, so=dylib, useshrplib=false, libperl=libperl.a
gnulibc_version=''
Dynamic Linking:
dlsrc=dl_dlopen.xs, dlext=bundle, d_dlsymun=undef, ccdlflags=' '
cccdlflags=' ', lddlflags=' -bundle -undefined dynamic_lookup -L/opt/local/lib -fstack-protector'
Characteristics of this binary (from libperl):
Compile-time options: DEBUGGING HAS_TIMES PERLIO_LAYERS
PERL_DONT_CREATE_GVSV PERL_MALLOC_WRAP
PERL_PRESERVE_IVUV USE_64_BIT_ALL USE_64_BIT_INT
USE_LARGE_FILES USE_LOCALE USE_LOCALE_COLLATE
USE_LOCALE_CTYPE USE_LOCALE_NUMERIC USE_PERLIO
USE_PERL_ATOF
Built under darwin
Compiled at Sep 11 2012 03:05:10
%ENV:
PERL5LIB=""
PERL5OPT=""
PERL5_CPANPLUS_IS_RUNNING="19761"
PERL5_CPAN_IS_RUNNING="19761"
PERLBREW_BASHRC_VERSION="0.59"
PERLBREW_HOME="/Users/ruz/.perlbrew"
PERLBREW_MANPATH="/Users/ruz/perl5/perlbrew/perls/perl-5.16.1/man"
PERLBREW_PATH="/Users/ruz/perl5/perlbrew/bin:/Users/ruz/perl5/perlbrew/perls/perl-5.16.1/bin"
PERLBREW_PERL="perl-5.16.1"
PERLBREW_ROOT="/Users/ruz/perl5/perlbrew"
PERLBREW_VERSION="0.59"
@INC:
/Users/ruz/perl5/perlbrew/perls/perl-5.16.1/lib/site_perl/5.16.1/darwin-2level
/Users/ruz/perl5/perlbrew/perls/perl-5.16.1/lib/site_perl/5.16.1
/Users/ruz/perl5/perlbrew/perls/perl-5.16.1/lib/5.16.1/darwin-2level
/Users/ruz/perl5/perlbrew/perls/perl-5.16.1/lib/5.16.1
.