CGI v4.59 Perl 5 v5.8.9 MSWin32-x86-multi-thread

Status
Pass
From
NONAME
Dist
CGI v4.59
Platform
Perl 5 v5.8.9 MSWin32-x86-multi-thread
Date
2023-10-06 20:48:31
ID
3a08cfda-71c1-1014-a0b0-8297b03d33c9
This distribution has been tested as part of the CPAN Testers
project, supporting the Perl programming language.  See
http://wiki.cpantesters.org/ for more information or email
questions to cpan-testers-discuss@perl.org


--
Dear Lee Johnson,

This is a computer-generated report for CGI-4.59
on perl 5.8.9, created by CPAN-Reporter-1.2018.

Thank you for uploading your work to CPAN.  Congratulations!
All tests were successful.

Sections of this report:

    * Tester comments
    * Program output
    * Prerequisites
    * Environment and other context

------------------------------
TESTER COMMENTS
------------------------------

Additional comments from tester:

none provided

------------------------------
PROGRAM OUTPUT
------------------------------

Output from 'C:\strawberry\c\bin\dmake.EXE test':

C:\"Strawberry\perl\bin\perl.exe" "-MExtUtils::Command::MM" "-MTest::Harness" "-e" "undef *Test::Harness::Switches; test_harness(0, 'blib\lib', 'blib\arch')" t/*.t t/headers/*.t
t/append_query.t ............ ok
t/arbitrary_handles.t ....... ok
t/autoescape.t .............. ok
t/can.t ..................... ok
[Sat Oct  7 05:47:28 2023] carp.t: foo at C:\Strawberry\cpan\build\CGI-4.59-0\blib\lib/CGI/Carp.pm line 360.
t/carp.t .................... ok
# cgi-lib.pl routines
private_tempfiles has been deprecated at C:\Strawberry\cpan\build\CGI-4.59-0\blib\lib/CGI.pm line 3238.
t/cgi.t ..................... ok
t/changes.t ................. ok
t/charset.t ................. ok
t/checkbox_group.t .......... ok
t/command_line.t ............ skipped: No relevant to Windows
Argument "1.07_01" isn't numeric in subroutine entry at C:\home\flower\perl5\lib\perl5/Pod/Simple.pm line 7.
t/compiles_pod.t ............ ok
t/cookie.t .................. ok
t/delete.t .................. ok
t/Dump.t .................... ok
t/end_form.t ................ ok
t/form.t .................... ok
t/function.t ................ ok
t/gh-155.t .................. ok
t/headers.t ................. ok
t/headers/attachment.t ...... ok
t/headers/charset.t ......... ok
t/headers/cookie.t .......... ok
t/headers/default.t ......... ok
t/headers/nph.t ............. ok
t/headers/p3p.t ............. ok
t/headers/target.t .......... ok
t/headers/type.t ............ ok
t/hidden.t .................. ok
t/html.t .................... ok
t/html_functions.t .......... ok
t/http.t .................... ok
t/init.t .................... ok
t/multipart_globals.t ....... ok
t/multipart_init.t .......... ok
t/multipart_start.t ......... ok
t/no_tabindex.t ............. ok
t/param_fetch.t ............. ok
t/param_list_context.t ...... ok
t/popup_menu.t .............. ok
t/postdata.t ................ ok
CGI::Pretty is DEPRECATED and will be removed in a future release. Please see https://github.com/leejo/CGI.pm/issues/162 for more information at C:\Strawberry\cpan\build\CGI-4.59-0\blib\lib/CGI/Pretty.pm line 20.
t/pretty.t .................. ok
t/push.t .................... ok
t/query_string.t ............ ok
t/redirect_query_string.t ... ok
t/request.t ................. ok
t/rt-31107.t ................ ok
t/rt-52469.t ................ ok
t/rt-57524.t ................ ok
t/rt-75628.t ................ ok
t/rt-84767.t ................ ok
t/save_read_roundtrip.t ..... ok
t/sorted.t .................. ok
t/start_end_asterisk.t ...... ok
t/start_end_end.t ........... ok
t/start_end_start.t ......... ok
t/unescapeHTML.t ............ ok
t/upload.t .................. ok
t/upload_quoted_unquoted.t .. ok
t/uploadInfo.t .............. ok
t/url.t ..................... ok
t/user_agent.t .............. ok
t/utf8.t .................... ok
t/util-58.t ................. ok
t/util.t .................... ok
All tests successful.
Files=64, Tests=1585, 47 wallclock secs ( 0.92 usr +  0.45 sys =  1.37 CPU)
Result: PASS

------------------------------
PREREQUISITES
------------------------------

Prerequisite modules loaded:

requires:

    Module              Need     Have    
    ------------------- -------- --------
    Carp                0        1.50    
    Config              0        0       
    Encode              0        3.19    
    Exporter            0        5.77    
    File::Spec          0.82     3.62    
    File::Temp          0.17     0.2309  
    HTML::Entities      3.69     3.81    
    if                  0        0.05    
    overload            0        1.06    
    parent              0.225    0.241   
    perl                5.008001 5.008009
    strict              0        1.03    
    utf8                0        1.07    
    warnings            0        1.05_01 

build_requires:

    Module              Need     Have    
    ------------------- -------- --------
    Cwd                 0        3.62    
    ExtUtils::MakeMaker 0        7.70    
    File::Find          0        1.13    
    IO::File            0        1.14    
    IO::Handle          0        1.28    
    POSIX               0        1.15    
    Test::More          0.98     1.302195
    Test::NoWarnings    0        1.04    
    Test::Warn          0.3      0.37    

configure_requires:

    Module              Need     Have    
    ------------------- -------- --------
    ExtUtils::MakeMaker 0        7.70    


------------------------------
ENVIRONMENT AND OTHER CONTEXT
------------------------------

Environment variables:

    COMSPEC = C:\windows\system32\cmd.exe
    NONINTERACTIVE_TESTING = 1
    NUMBER_OF_PROCESSORS = 4
    PATH = C:\home\flower\perl5\bin;C:\windows\system32;C:\windows;C:\windows\System32\Wbem;C:\windows\System32\WindowsPowerShell\v1.0\;C:\Strawberry\c\bin;C:\Strawberry\perl\site\bin;C:\Strawberry\perl\bin
    PERL5LIB = C:\home\flower\perl5\lib\perl5
    PERL5OPT = 
    PERL5_CPANPLUS_IS_RUNNING = 4768
    PERL5_CPAN_IS_RUNNING = 4768
    PERL_LOCAL_LIB_ROOT = C:\home\flower\perl5
    PERL_MB_OPT = --install_base "C:\\home\\flower\\perl5"
    PERL_MM_OPT = INSTALL_BASE=C:\\home\\flower\\perl5
    PERL_MM_USE_DEFAULT = 1
    PROCESSOR_IDENTIFIER = x86 Family 6 Model 37 Stepping 5, GenuineIntel
    TEMP = C:\Users\user\AppData\Local\Temp
    TERM = dumb

Perl special variables (and OS-specific diagnostics, for MSWin32):

    $^X = C:\Strawberry\perl\bin\perl.exe
    $UID/$EUID = 0 / 0
    $GID = 0
    $EGID = 0
    Win32::GetOSName = Win7
    Win32::GetOSVersion = Service Pack 1, 6, 1, 7601, 2, 1, 0, 256, 1
    Win32::FsType = NTFS
    Win32::IsAdminUser = 0

Perl module toolchain versions installed:

    Module              Have    
    ------------------- --------
    CPAN                2.16    
    CPAN::Meta          2.150010
    Cwd                 3.62    
    ExtUtils::CBuilder  0.280236
    ExtUtils::Command   7.70    
    ExtUtils::Install   2.22    
    ExtUtils::MakeMaker 7.70    
    ExtUtils::Manifest  1.75    
    ExtUtils::ParseXS   3.51    
    File::Spec          3.62    
    JSON                4.10    
    JSON::PP            4.17_01 
    Module::Build       0.4232  
    Module::Signature   0.88    
    Parse::CPAN::Meta   2.150010
    Test::Harness       3.47    
    Test::More          1.302195
    YAML                1.26    
    YAML::Syck          1.29    
    version             0.9930  


--

Summary of my perl5 (revision 5 version 8 subversion 9) configuration:
  Platform:
    osname=MSWin32, osvers=5.1, archname=MSWin32-x86-multi-thread
    uname='Win32 strawberryperl 5.8.9.5 #1 Wed Apr 28 11:51:06 2010 i386'
    config_args='undef'
    hint=recommended, useposix=true, d_sigaction=undef
    usethreads=define use5005threads=undef useithreads=define usemultiplicity=define
    useperlio=define d_sfio=undef uselargefiles=define usesocks=undef
    use64bitint=undef use64bitall=undef uselongdouble=undef
    usemymalloc=n, bincompat5005=undef
  Compiler:
    cc='gcc', ccflags =' -s -O2 -DWIN32 -DHAVE_DES_FCRYPT  -DUSE_SITECUSTOMIZE -DPERL_IMPLICIT_CONTEXT -DPERL_IMPLICIT_SYS -fno-strict-aliasing -DPERL_MSVCRT_READFIX',
    optimize='-s -O2',
    cppflags='-DWIN32'
    ccversion='', gccversion='3.4.5', gccosandvers=''
    intsize=4, longsize=4, ptrsize=4, doublesize=8, byteorder=1234
    d_longlong=undef, longlongsize=8, d_longdbl=define, longdblsize=12
    ivtype='long', ivsize=4, nvtype='double', nvsize=8, Off_t='long long', lseeksize=8
    alignbytes=8, prototype=define
  Linker and Libraries:
    ld='g++', ldflags ='-s -L"C:\strawberry\perl\lib\CORE" -L"C:\strawberry\c\lib"'
    libpth=C:\strawberry\c\lib
    libs= -lmsvcrt -lmoldname -lkernel32 -luser32 -lgdi32 -lwinspool -lcomdlg32 -ladvapi32 -lshell32 -lole32 -loleaut32 -lnetapi32 -luuid -lws2_32 -lmpr -lwinmm -lversion -lodbc32 -lodbccp32
    perllibs= -lmsvcrt -lmoldname -lkernel32 -luser32 -lgdi32 -lwinspool -lcomdlg32 -ladvapi32 -lshell32 -lole32 -loleaut32 -lnetapi32 -luuid -lws2_32 -lmpr -lwinmm -lversion -lodbc32 -lodbccp32
    libc=-lmsvcrt, so=dll, useshrplib=true, libperl=libperl58.a
    gnulibc_version=''
  Dynamic Linking:
    dlsrc=dl_win32.xs, dlext=dll, d_dlsymun=undef, ccdlflags=' '
    cccdlflags=' ', lddlflags='-mdll -s -L"C:\strawberry\perl\lib\CORE" -L"C:\strawberry\c\lib"'


Characteristics of this binary (from libperl): 
  Compile-time options: MULTIPLICITY PERL_IMPLICIT_CONTEXT PERL_IMPLICIT_SYS
                        PERL_MALLOC_WRAP PL_OP_SLAB_ALLOC USE_FAST_STDIO
                        USE_ITHREADS USE_LARGE_FILES USE_PERLIO
                        USE_SITECUSTOMIZE
  Built under MSWin32
  Compiled at Apr 28 2010 11:57:55
  %ENV:
    PERL5LIB="C:\home\flower\perl5\lib\perl5"
    PERL5_CPANPLUS_IS_RUNNING="4768"
    PERL5_CPAN_IS_RUNNING="4768"
    PERL_LOCAL_LIB_ROOT="C:\home\flower\perl5"
    PERL_MB_OPT="--install_base "C:\\home\\flower\\perl5""
    PERL_MM_OPT="INSTALL_BASE=C:\\home\\flower\\perl5"
    PERL_MM_USE_DEFAULT="1"
  @INC:
    C:\home\flower\perl5\lib\perl5/5.8.9/MSWin32-x86-multi-thread
    C:\home\flower\perl5\lib\perl5/5.8.9
    C:\home\flower\perl5\lib\perl5/MSWin32-x86-multi-thread
    C:\home\flower\perl5\lib\perl5
    C:/Strawberry/perl/lib
    C:/Strawberry/perl/site/lib
    C:\strawberry\perl\vendor\lib
    .