Net-APNs-Extended v0.14 Perl 5 v5.24.2 i386-freebsd

Status
Pass
From
Chris Williams (BINGOS)
Dist
Net-APNs-Extended v0.14
Platform
Perl 5 v5.24.2 i386-freebsd
Date
2019-03-24T15:19:33
ID
3a909820-4e48-11e9-86e3-404589cf513b
This distribution has been tested as part of the CPAN Testers
project, supporting the Perl programming language.  See
http://wiki.cpantesters.org/ for more information or email
questions to cpan-testers-discuss@perl.org


--

Dear OMOHAYUI,

This is a computer-generated error report created automatically by
CPANPLUS, version 0.9176. Testers personal comments may appear
at the end of this report.


Thank you for uploading your work to CPAN.  Congratulations!
All tests were successful.

TEST RESULTS:

Below is the error stack from stage 'make test':

t/00_compile.t .................... ok
t/01_new.t ........................ ok
t/02_send.t ....................... ok
t/03_send_multi.t ................. ok
t/04_create_send_data.t ........... ok
t/05_retrieve_error.t ............. ok
t/06_constants.t .................. ok
t/base/00_compile.t ............... ok
t/base/01_new.t ................... ok
t/base/02_accessors.t ............. ok
t/base/03_hostname.t .............. ok
t/feedback/01_new.t ............... ok
t/feedback/02_retrive_feedback.t .. ok
All tests successful.
Files=13, Tests=69,  2 wallclock secs ( 0.05 usr  0.02 sys +  1.41 cusr  0.38 csys =  1.85 CPU)
Result: PASS


PREREQUISITES:

Here is a list of prerequisites you specified and versions we
managed to load:

	  Module Name                        Have     Want
	  Class::Accessor::Lite              0.08        0
	  JSON::XS                           4.02        0
	  Net::SSLeay                        1.85        0
	  Test::Mock::Guard                  0.10     0.08
	  Test::More                     1.302156     0.98
	  parent                            0.234        0

Perl module toolchain versions installed:
	Module Name                        Have
	CPANPLUS                         0.9176
	CPANPLUS::Dist::Build              0.90
	Cwd                                3.75
	ExtUtils::CBuilder             0.280230
	ExtUtils::Command                  7.34
	ExtUtils::Install                  2.14
	ExtUtils::MakeMaker                7.34
	ExtUtils::Manifest                 1.71
	ExtUtils::ParseXS                  3.35
	File::Spec                         3.75
	Module::Build                    0.4224
	Pod::Parser                        1.63
	Pod::Simple                        3.32
	Test2                          1.302156
	Test::Harness                      3.42
	Test::More                     1.302156
	version                          0.9924

******************************** NOTE ********************************
The comments above are created mechanically, possibly without manual
checking by the sender.  As there are many people performing automatic
tests on each upload to CPAN, it is likely that you will receive
identical messages about the same problem.

If you believe that the message is mistaken, please reply to the first
one with correction and/or additional informations, and do not take
it personally.  We appreciate your patience. :)
**********************************************************************

Additional comments:


This report was machine-generated by CPANPLUS::Dist::YACSmoke 1.06.
Powered by minismokebox version 0.68

------------------------------
ENVIRONMENT AND OTHER CONTEXT
------------------------------

Environment variables:

    AUTOMATED_TESTING = 1
    NONINTERACTIVE_TESTING = 1
    PATH = /sbin:/bin:/usr/sbin:/usr/bin:/usr/local/sbin:/usr/local/bin:/home/cpan/bin
    PERL5LIB = /usr/home/cpan/pit/jail/_8yv4CMp9D/lib/perl5:/usr/home/cpan/pit/bare/conf/perl-5.24.2/.cpanplus/5.24.2/build/D6xHMcgy1r/Test-Mock-Guard-0.10/blib/lib:/usr/home/cpan/pit/bare/conf/perl-5.24.2/.cpanplus/5.24.2/build/D6xHMcgy1r/Test-Mock-Guard-0.10/blib/arch:/usr/home/cpan/pit/bare/conf/perl-5.24.2/.cpanplus/5.24.2/build/pLFJuWnZ7p/Net-APNs-Extended-0.14/blib/lib:/usr/home/cpan/pit/bare/conf/perl-5.24.2/.cpanplus/5.24.2/build/pLFJuWnZ7p/Net-APNs-Extended-0.14/blib/arch
    PERL5_CPANPLUS_IS_RUNNING = 82489
    PERL5_CPANPLUS_IS_VERSION = 0.9176
    PERL5_MINISMOKEBOX = 0.68
    PERL5_YACSMOKE_BASE = /usr/home/cpan/pit/bare/conf/perl-5.24.2
    PERL_EXTUTILS_AUTOINSTALL = --defaultdeps
    PERL_LOCAL_LIB_ROOT = /usr/home/cpan/pit/jail/_8yv4CMp9D
    PERL_MB_OPT = --install_base "/usr/home/cpan/pit/jail/_8yv4CMp9D"
    PERL_MM_OPT = INSTALL_BASE=/usr/home/cpan/pit/jail/_8yv4CMp9D
    PERL_MM_USE_DEFAULT = 1
    SHELL = /usr/local/bin/bash
    TERM = screen

Perl special variables (and OS-specific diagnostics, for MSWin32):

    Perl: $^X = /usr/home/cpan/pit/bare/perl-5.24.2/bin/perl
    UID:  $<  = 1002
    EUID: $>  = 1002
    GID:  $(  = 1002 1002
    EGID: $)  = 1002 1002


-------------------------------


--

Summary of my perl5 (revision 5 version 24 subversion 2) configuration:
   
  Platform:
    osname=freebsd, osvers=11.2-release-p8, archname=i386-freebsd
    uname='freebsd froggle 11.2-release-p8 freebsd 11.2-release-p8 #0: tue jan 8 21:31:23 utc 2019 root@amd64-builder.daemonology.net:usrobjusrsrcsysgeneric i386 '
    config_args='-des -Dprefix=/usr/home/cpan/pit/bare/perl-5.24.2'
    hint=recommended, useposix=true, d_sigaction=define
    useithreads=undef, usemultiplicity=undef
    use64bitint=undef, use64bitall=undef, uselongdouble=undef
    usemymalloc=n, bincompat5005=undef
  Compiler:
    cc='cc', ccflags ='-DHAS_FPSETMASK -DHAS_FLOATINGPOINT_H -fno-strict-aliasing -pipe -fstack-protector-strong -I/usr/local/include -D_FORTIFY_SOURCE=2',
    optimize='-O2',
    cppflags='-DHAS_FPSETMASK -DHAS_FLOATINGPOINT_H -fno-strict-aliasing -pipe -fstack-protector-strong -I/usr/local/include'
    ccversion='', gccversion='4.2.1 Compatible FreeBSD Clang 6.0.0 (tags/RELEASE_600/final 326565)', gccosandvers=''
    intsize=4, longsize=4, ptrsize=4, doublesize=8, byteorder=1234, doublekind=3
    d_longlong=define, longlongsize=8, d_longdbl=define, longdblsize=12, longdblkind=3
    ivtype='long', ivsize=4, nvtype='double', nvsize=8, Off_t='off_t', lseeksize=8
    alignbytes=4, prototype=define
  Linker and Libraries:
    ld='cc', ldflags ='-Wl,-E  -fstack-protector-strong -L/usr/local/lib'
    libpth=/usr/lib /usr/local/lib /usr/lib/clang/6.0.0/lib /usr/lib
    libs=-lpthread -lgdbm -ldl -lm -lcrypt -lutil -lc
    perllibs=-lpthread -ldl -lm -lcrypt -lutil -lc
    libc=, so=so, useshrplib=false, libperl=libperl.a
    gnulibc_version=''
  Dynamic Linking:
    dlsrc=dl_dlopen.xs, dlext=so, d_dlsymun=undef, ccdlflags=' '
    cccdlflags='-DPIC -fPIC', lddlflags='-shared  -L/usr/local/lib -fstack-protector-strong'


Characteristics of this binary (from libperl): 
  Compile-time options: HAS_TIMES PERLIO_LAYERS PERL_COPY_ON_WRITE
                        PERL_DONT_CREATE_GVSV
                        PERL_HASH_FUNC_ONE_AT_A_TIME_HARD PERL_MALLOC_WRAP
                        PERL_PRESERVE_IVUV USE_LARGE_FILES USE_LOCALE
                        USE_LOCALE_COLLATE USE_LOCALE_CTYPE
                        USE_LOCALE_NUMERIC USE_LOCALE_TIME USE_PERLIO
                        USE_PERL_ATOF
  Locally applied patches:
	Devel::PatchPerl 1.52
  Built under freebsd
  Compiled at Jan 15 2019 19:50:05
  %ENV:
    PERL5LIB="/usr/home/cpan/pit/jail/_8yv4CMp9D/lib/perl5:/usr/home/cpan/pit/bare/conf/perl-5.24.2/.cpanplus/5.24.2/build/D6xHMcgy1r/Test-Mock-Guard-0.10/blib/lib:/usr/home/cpan/pit/bare/conf/perl-5.24.2/.cpanplus/5.24.2/build/D6xHMcgy1r/Test-Mock-Guard-0.10/blib/arch:/usr/home/cpan/pit/bare/conf/perl-5.24.2/.cpanplus/5.24.2/build/pLFJuWnZ7p/Net-APNs-Extended-0.14/blib/lib:/usr/home/cpan/pit/bare/conf/perl-5.24.2/.cpanplus/5.24.2/build/pLFJuWnZ7p/Net-APNs-Extended-0.14/blib/arch"
    PERL5_CPANPLUS_IS_RUNNING="82489"
    PERL5_CPANPLUS_IS_VERSION="0.9176"
    PERL5_MINISMOKEBOX="0.68"
    PERL5_YACSMOKE_BASE="/usr/home/cpan/pit/bare/conf/perl-5.24.2"
    PERL_EXTUTILS_AUTOINSTALL="--defaultdeps"
    PERL_LOCAL_LIB_ROOT="/usr/home/cpan/pit/jail/_8yv4CMp9D"
    PERL_MB_OPT="--install_base "/usr/home/cpan/pit/jail/_8yv4CMp9D""
    PERL_MM_OPT="INSTALL_BASE=/usr/home/cpan/pit/jail/_8yv4CMp9D"
    PERL_MM_USE_DEFAULT="1"
  @INC:
    /usr/home/cpan/pit/jail/_8yv4CMp9D/lib/perl5/5.24.2/i386-freebsd
    /usr/home/cpan/pit/jail/_8yv4CMp9D/lib/perl5/5.24.2
    /usr/home/cpan/pit/jail/_8yv4CMp9D/lib/perl5/i386-freebsd
    /usr/home/cpan/pit/jail/_8yv4CMp9D/lib/perl5
    /usr/home/cpan/pit/bare/conf/perl-5.24.2/.cpanplus/5.24.2/build/D6xHMcgy1r/Test-Mock-Guard-0.10/blib/lib
    /usr/home/cpan/pit/bare/conf/perl-5.24.2/.cpanplus/5.24.2/build/D6xHMcgy1r/Test-Mock-Guard-0.10/blib/arch
    /usr/home/cpan/pit/bare/conf/perl-5.24.2/.cpanplus/5.24.2/build/pLFJuWnZ7p/Net-APNs-Extended-0.14/blib/lib
    /usr/home/cpan/pit/bare/conf/perl-5.24.2/.cpanplus/5.24.2/build/pLFJuWnZ7p/Net-APNs-Extended-0.14/blib/arch
    /usr/home/cpan/pit/bare/perl-5.24.2/lib/site_perl/5.24.2/i386-freebsd
    /usr/home/cpan/pit/bare/perl-5.24.2/lib/site_perl/5.24.2
    /usr/home/cpan/pit/bare/perl-5.24.2/lib/5.24.2/i386-freebsd
    /usr/home/cpan/pit/bare/perl-5.24.2/lib/5.24.2
    .