Task-Git-Repository v1.004 Perl 5 v5.24.3 amd64-freebsd

Status
Pass
From
Chris Williams (BINGOS)
Dist
Task-Git-Repository v1.004
Platform
Perl 5 v5.24.3 amd64-freebsd
Date
2021-01-12T23:16:42
ID
3b62419e-552c-11eb-84bc-edd243e66a77
This distribution has been tested as part of the CPAN Testers
project, supporting the Perl programming language.  See
http://wiki.cpantesters.org/ for more information or email
questions to cpan-testers-discuss@perl.org


--

Dear BOOK,

This is a computer-generated error report created automatically by
CPANPLUS, version 0.9908. Testers personal comments may appear
at the end of this report.


Thank you for uploading your work to CPAN.  Congratulations!
All tests were successful.

TEST RESULTS:

Below is the error stack from stage 'make test':

PERL_DL_NONLAZY=1 "/usr/home/cpan/pit/bare/perl-5.24.3/bin/perl" "-MExtUtils::Command::MM" "-MTest::Harness" "-e" "undef *Test::Harness::Switches; test_harness(0, 'blib/lib', 'blib/arch')" t/*.t
t/author-pod-syntax.t .. skipped: these tests are for testing by the author
t/git-repository.t ..... skipped: these tests are for release candidate testing
t/release-distmeta.t ... skipped: these tests are for release candidate testing
Files=3, Tests=0,  1 wallclock secs ( 0.05 usr  0.01 sys +  0.12 cusr  0.08 csys =  0.25 CPU)
Result: NOTESTS


PREREQUISITES:

Here is a list of prerequisites you specified and versions we
managed to load:

	  Module Name                        Have     Want
	  ExtUtils::MakeMaker                7.50        0
	  File::Path                         2.17        0
	  File::Spec                         3.75        0
	  Git::Repository                   1.324    1.309
	  Git::Repository::Plugin::AUTOLOAD    1.003    1.000
	  Git::Repository::Plugin::Blame    1.4.0        0
	  Git::Repository::Plugin::Diff      0.01        0
	  Git::Repository::Plugin::Dirty     0.01        0
	  Git::Repository::Plugin::FileHistory     0.06        0
	  Git::Repository::Plugin::Gerrit     0.05        0
	  Git::Repository::Plugin::GitHooks    3.0.0        0
	  Git::Repository::Plugin::Hooks     0.04        0
	  Git::Repository::Plugin::Info      0.04        0
	  Git::Repository::Plugin::Log      1.314    1.309
	  Git::Repository::Plugin::Status     0.03        0
	  Test::More                     1.302183        0
	  strict                             1.11        0
	  warnings                           1.36        0

Perl module toolchain versions installed:
	Module Name                        Have
	CPANPLUS                         0.9908
	CPANPLUS::Dist::Build              0.90
	Cwd                                3.75
	ExtUtils::CBuilder             0.280234
	ExtUtils::Command                  7.50
	ExtUtils::Install                  2.18
	ExtUtils::MakeMaker                7.50
	ExtUtils::Manifest                 1.72
	ExtUtils::ParseXS                  3.35
	File::Spec                         3.75
	Module::Build                    0.4231
	Pod::Parser                        1.63
	Pod::Simple                        3.32
	Test2                          1.302183
	Test::Harness                      3.42
	Test::More                     1.302183
	version                          0.9928

******************************** NOTE ********************************
The comments above are created mechanically, possibly without manual
checking by the sender.  As there are many people performing automatic
tests on each upload to CPAN, it is likely that you will receive
identical messages about the same problem.

If you believe that the message is mistaken, please reply to the first
one with correction and/or additional informations, and do not take
it personally.  We appreciate your patience. :)
**********************************************************************

Additional comments:


This report was machine-generated by CPANPLUS::Dist::YACSmoke 1.08.
Powered by minismokebox version 0.68

CPANPLUS is prefering Build.PL

------------------------------
ENVIRONMENT AND OTHER CONTEXT
------------------------------

Environment variables:

    AUTOMATED_TESTING = 1
    NONINTERACTIVE_TESTING = 1
    PATH = /sbin:/bin:/usr/sbin:/usr/bin:/usr/local/sbin:/usr/local/bin:/home/cpan/bin
    PERL5LIB = /usr/home/cpan/pit/jail/P_V19VzO6W/lib/perl5:/usr/home/cpan/pit/bare/conf/perl-5.24.3/.cpanplus/5.24.3/build/r2Cz72DlLN/Git-Repository-Plugin-Hooks-0.04/blib/lib:/usr/home/cpan/pit/bare/conf/perl-5.24.3/.cpanplus/5.24.3/build/r2Cz72DlLN/Git-Repository-Plugin-Hooks-0.04/blib/arch:/usr/home/cpan/pit/bare/conf/perl-5.24.3/.cpanplus/5.24.3/build/R8ccshmDMF/Git-Repository-Plugin-Info-0.04/blib/lib:/usr/home/cpan/pit/bare/conf/perl-5.24.3/.cpanplus/5.24.3/build/R8ccshmDMF/Git-Repository-Plugin-Info-0.04/blib/arch:/usr/home/cpan/pit/bare/conf/perl-5.24.3/.cpanplus/5.24.3/build/zqFNtvW3ud/Git-Repository-Plugin-Status-0.03/blib/lib:/usr/home/cpan/pit/bare/conf/perl-5.24.3/.cpanplus/5.24.3/build/zqFNtvW3ud/Git-Repository-Plugin-Status-0.03/blib/arch:/usr/home/cpan/pit/bare/conf/perl-5.24.3/.cpanplus/5.24.3/build/IuGvmyXLHF/Task-Git-Repository-1.004/blib/lib:/usr/home/cpan/pit/bare/conf/perl-5.24.3/.cpanplus/5.24.3/build/IuGvmyXLHF/Task-Git-Repository-1.004/blib/arch
    PERL5_CPANPLUS_IS_RUNNING = 90943
    PERL5_CPANPLUS_IS_VERSION = 0.9908
    PERL5_MINISMOKEBOX = 0.68
    PERL5_YACSMOKE_BASE = /usr/home/cpan/pit/bare/conf/perl-5.24.3
    PERL_EXTUTILS_AUTOINSTALL = --defaultdeps
    PERL_LOCAL_LIB_ROOT = /usr/home/cpan/pit/jail/P_V19VzO6W
    PERL_MB_OPT = --install_base "/usr/home/cpan/pit/jail/P_V19VzO6W"
    PERL_MM_OPT = INSTALL_BASE=/usr/home/cpan/pit/jail/P_V19VzO6W
    PERL_MM_USE_DEFAULT = 1
    SHELL = /usr/local/bin/bash
    TERM = screen

Perl special variables (and OS-specific diagnostics, for MSWin32):

    Perl: $^X = /usr/home/cpan/pit/bare/perl-5.24.3/bin/perl
    UID:  $<  = 1002
    EUID: $>  = 1002
    GID:  $(  = 1002 1002
    EGID: $)  = 1002 1002


-------------------------------


--

Summary of my perl5 (revision 5 version 24 subversion 3) configuration:
   
  Platform:
    osname=freebsd, osvers=12.2-release, archname=amd64-freebsd
    uname='freebsd fforc 12.2-release freebsd 12.2-release r366954 generic amd64 '
    config_args='-des -Dprefix=/usr/home/cpan/pit/bare/perl-5.24.3'
    hint=recommended, useposix=true, d_sigaction=define
    useithreads=undef, usemultiplicity=undef
    use64bitint=define, use64bitall=define, uselongdouble=undef
    usemymalloc=n, bincompat5005=undef
  Compiler:
    cc='cc', ccflags ='-DHAS_FPSETMASK -DHAS_FLOATINGPOINT_H -fno-strict-aliasing -pipe -fstack-protector-strong -I/usr/local/include',
    optimize='-O2',
    cppflags='-DHAS_FPSETMASK -DHAS_FLOATINGPOINT_H -fno-strict-aliasing -pipe -fstack-protector-strong -I/usr/local/include'
    ccversion='', gccversion='FreeBSD Clang 10.0.1 (git@github.com:llvm/llvm-project.git llvmorg-10.0.1-0-gef32c611aa2)', gccosandvers=''
    intsize=4, longsize=8, ptrsize=8, doublesize=8, byteorder=12345678, doublekind=3
    d_longlong=define, longlongsize=8, d_longdbl=define, longdblsize=16, longdblkind=3
    ivtype='long', ivsize=8, nvtype='double', nvsize=8, Off_t='off_t', lseeksize=8
    alignbytes=8, prototype=define
  Linker and Libraries:
    ld='cc', ldflags ='-Wl,-E  -fstack-protector-strong -L/usr/local/lib'
    libpth=/usr/lib /usr/local/lib /usr/lib/clang/10.0.1/lib /usr/lib
    libs=-lpthread -lgdbm -ldl -lm -lcrypt -lutil -lc
    perllibs=-lpthread -ldl -lm -lcrypt -lutil -lc
    libc=, so=so, useshrplib=false, libperl=libperl.a
    gnulibc_version=''
  Dynamic Linking:
    dlsrc=dl_dlopen.xs, dlext=so, d_dlsymun=undef, ccdlflags=' '
    cccdlflags='-DPIC -fPIC', lddlflags='-shared  -L/usr/local/lib -fstack-protector-strong'


Characteristics of this binary (from libperl): 
  Compile-time options: HAS_TIMES PERLIO_LAYERS PERL_COPY_ON_WRITE
                        PERL_DONT_CREATE_GVSV
                        PERL_HASH_FUNC_ONE_AT_A_TIME_HARD PERL_MALLOC_WRAP
                        PERL_PRESERVE_IVUV USE_64_BIT_ALL USE_64_BIT_INT
                        USE_LARGE_FILES USE_LOCALE USE_LOCALE_COLLATE
                        USE_LOCALE_CTYPE USE_LOCALE_NUMERIC USE_LOCALE_TIME
                        USE_PERLIO USE_PERL_ATOF
  Locally applied patches:
	Devel::PatchPerl 2.00
  Built under freebsd
  Compiled at Oct 30 2020 02:36:46
  %ENV:
    PERL5LIB="/usr/home/cpan/pit/jail/P_V19VzO6W/lib/perl5:/usr/home/cpan/pit/bare/conf/perl-5.24.3/.cpanplus/5.24.3/build/r2Cz72DlLN/Git-Repository-Plugin-Hooks-0.04/blib/lib:/usr/home/cpan/pit/bare/conf/perl-5.24.3/.cpanplus/5.24.3/build/r2Cz72DlLN/Git-Repository-Plugin-Hooks-0.04/blib/arch:/usr/home/cpan/pit/bare/conf/perl-5.24.3/.cpanplus/5.24.3/build/R8ccshmDMF/Git-Repository-Plugin-Info-0.04/blib/lib:/usr/home/cpan/pit/bare/conf/perl-5.24.3/.cpanplus/5.24.3/build/R8ccshmDMF/Git-Repository-Plugin-Info-0.04/blib/arch:/usr/home/cpan/pit/bare/conf/perl-5.24.3/.cpanplus/5.24.3/build/zqFNtvW3ud/Git-Repository-Plugin-Status-0.03/blib/lib:/usr/home/cpan/pit/bare/conf/perl-5.24.3/.cpanplus/5.24.3/build/zqFNtvW3ud/Git-Repository-Plugin-Status-0.03/blib/arch:/usr/home/cpan/pit/bare/conf/perl-5.24.3/.cpanplus/5.24.3/build/IuGvmyXLHF/Task-Git-Repository-1.004/blib/lib:/usr/home/cpan/pit/bare/conf/perl-5.24.3/.cpanplus/5.24.3/build/IuGvmyXLHF/Task-Git-Repository-1.004/blib/arch"
    PERL5_CPANPLUS_IS_RUNNING="90943"
    PERL5_CPANPLUS_IS_VERSION="0.9908"
    PERL5_MINISMOKEBOX="0.68"
    PERL5_YACSMOKE_BASE="/usr/home/cpan/pit/bare/conf/perl-5.24.3"
    PERL_EXTUTILS_AUTOINSTALL="--defaultdeps"
    PERL_LOCAL_LIB_ROOT="/usr/home/cpan/pit/jail/P_V19VzO6W"
    PERL_MB_OPT="--install_base "/usr/home/cpan/pit/jail/P_V19VzO6W""
    PERL_MM_OPT="INSTALL_BASE=/usr/home/cpan/pit/jail/P_V19VzO6W"
    PERL_MM_USE_DEFAULT="1"
  @INC:
    /usr/home/cpan/pit/jail/P_V19VzO6W/lib/perl5/5.24.3/amd64-freebsd
    /usr/home/cpan/pit/jail/P_V19VzO6W/lib/perl5/5.24.3
    /usr/home/cpan/pit/jail/P_V19VzO6W/lib/perl5/amd64-freebsd
    /usr/home/cpan/pit/jail/P_V19VzO6W/lib/perl5
    /usr/home/cpan/pit/bare/conf/perl-5.24.3/.cpanplus/5.24.3/build/r2Cz72DlLN/Git-Repository-Plugin-Hooks-0.04/blib/lib
    /usr/home/cpan/pit/bare/conf/perl-5.24.3/.cpanplus/5.24.3/build/r2Cz72DlLN/Git-Repository-Plugin-Hooks-0.04/blib/arch
    /usr/home/cpan/pit/bare/conf/perl-5.24.3/.cpanplus/5.24.3/build/R8ccshmDMF/Git-Repository-Plugin-Info-0.04/blib/lib
    /usr/home/cpan/pit/bare/conf/perl-5.24.3/.cpanplus/5.24.3/build/R8ccshmDMF/Git-Repository-Plugin-Info-0.04/blib/arch
    /usr/home/cpan/pit/bare/conf/perl-5.24.3/.cpanplus/5.24.3/build/zqFNtvW3ud/Git-Repository-Plugin-Status-0.03/blib/lib
    /usr/home/cpan/pit/bare/conf/perl-5.24.3/.cpanplus/5.24.3/build/zqFNtvW3ud/Git-Repository-Plugin-Status-0.03/blib/arch
    /usr/home/cpan/pit/bare/conf/perl-5.24.3/.cpanplus/5.24.3/build/IuGvmyXLHF/Task-Git-Repository-1.004/blib/lib
    /usr/home/cpan/pit/bare/conf/perl-5.24.3/.cpanplus/5.24.3/build/IuGvmyXLHF/Task-Git-Repository-1.004/blib/arch
    /usr/home/cpan/pit/bare/perl-5.24.3/lib/site_perl/5.24.3/amd64-freebsd
    /usr/home/cpan/pit/bare/perl-5.24.3/lib/site_perl/5.24.3
    /usr/home/cpan/pit/bare/perl-5.24.3/lib/5.24.3/amd64-freebsd
    /usr/home/cpan/pit/bare/perl-5.24.3/lib/5.24.3
    .