Mojolicious v9.37 Perl 5 v5.38.2 darwin-thread-multi-2level
- Status
- Pass
- From
- Stanislaw Pusep
- Dist
-
Mojolicious v9.37
- Platform
- Perl 5 v5.38.2 darwin-thread-multi-2level
- Date
- 2024-05-16 06:33:43
- ID
- 3d672ec6-134e-11ef-94fa-98c2f37b498f
This distribution has been tested as part of the CPAN Testers
project, supporting the Perl programming language. See
http://wiki.cpantesters.org/ for more information or email
questions to cpan-testers-discuss@perl.org
--
Dear SRI,
This is a computer-generated report for Mojolicious-9.37
on perl 5.38.2, created by App::cpanminus::reporter 0.21 (1.7047).
Thank you for uploading your work to CPAN. Congratulations!
All tests were successful.
Sections of this report:
* Tester comments
* Program output
* Prerequisites
* Environment and other context
------------------------------
TESTER COMMENTS
------------------------------
Additional comments from tester:
none provided
------------------------------
PROGRAM OUTPUT
------------------------------
Output from '':
Building and testing Mojolicious-9.37
cp lib/Mojolicious/Types.pm blib/lib/Mojolicious/Types.pm
cp lib/Mojo/Reactor.pm blib/lib/Mojo/Reactor.pm
cp lib/Mojolicious/resources/public/mojo/highlight.js/mojolicious.min.js blib/lib/Mojolicious/resources/public/mojo/highlight.js/mojolicious.min.js
cp lib/Mojo/WebSocket.pm blib/lib/Mojo/WebSocket.pm
cp lib/Mojolicious/resources/public/mojo/logo-white.png blib/lib/Mojolicious/resources/public/mojo/logo-white.png
cp lib/Mojolicious/resources/public/mojo/popper/popper.js blib/lib/Mojolicious/resources/public/mojo/popper/popper.js
cp lib/Mojolicious/resources/public/mojo/bootstrap/bootstrap.js blib/lib/Mojolicious/resources/public/mojo/bootstrap/bootstrap.js
cp lib/Mojo/Cookie.pm blib/lib/Mojo/Cookie.pm
cp lib/Mojolicious/Plugin/Mount.pm blib/lib/Mojolicious/Plugin/Mount.pm
cp lib/Mojolicious/Command/Author/inflate.pm blib/lib/Mojolicious/Command/Author/inflate.pm
cp lib/Mojo/IOLoop/Client.pm blib/lib/Mojo/IOLoop/Client.pm
cp lib/Mojolicious/Plugin/NotYAMLConfig.pm blib/lib/Mojolicious/Plugin/NotYAMLConfig.pm
cp lib/Mojo/Reactor/Poll.pm blib/lib/Mojo/Reactor/Poll.pm
cp lib/Mojolicious/Command/Author/generate/plugin.pm blib/lib/Mojolicious/Command/Author/generate/plugin.pm
cp lib/Mojo/IOLoop.pm blib/lib/Mojo/IOLoop.pm
cp lib/Mojo/Server/Hypnotoad.pm blib/lib/Mojo/Server/Hypnotoad.pm
cp lib/Mojo/JSON/Pointer.pm blib/lib/Mojo/JSON/Pointer.pm
cp lib/Mojo/DOM.pm blib/lib/Mojo/DOM.pm
cp lib/Mojolicious/Plugin/HeaderCondition.pm blib/lib/Mojolicious/Plugin/HeaderCondition.pm
cp lib/Mojo/Cookie/Response.pm blib/lib/Mojo/Cookie/Response.pm
cp lib/Mojolicious/Guides/Routing.pod blib/lib/Mojolicious/Guides/Routing.pod
cp lib/Mojolicious/Plugin/TagHelpers.pm blib/lib/Mojolicious/Plugin/TagHelpers.pm
cp lib/Mojolicious/resources/templates/mojo/debug.html.ep blib/lib/Mojolicious/resources/templates/mojo/debug.html.ep
cp lib/Mojo/Log.pm blib/lib/Mojo/Log.pm
cp lib/Mojolicious/Guides/Testing.pod blib/lib/Mojolicious/Guides/Testing.pod
cp lib/Mojo/Loader.pm blib/lib/Mojo/Loader.pm
cp lib/Mojo/DOM/CSS.pm blib/lib/Mojo/DOM/CSS.pm
cp lib/Mojo/Server.pm blib/lib/Mojo/Server.pm
cp lib/Mojo/Server/Morbo.pm blib/lib/Mojo/Server/Morbo.pm
cp lib/Mojolicious/Routes/Match.pm blib/lib/Mojolicious/Routes/Match.pm
cp lib/Mojolicious/resources/public/mojo/highlight.js/highlight-mojo-dark.css blib/lib/Mojolicious/resources/public/mojo/highlight.js/highlight-mojo-dark.css
cp lib/Mojo/Message/Request.pm blib/lib/Mojo/Message/Request.pm
cp lib/Mojolicious/resources/templates/mojo/exception.html.ep blib/lib/Mojolicious/resources/templates/mojo/exception.html.ep
cp lib/Mojolicious/Commands.pm blib/lib/Mojolicious/Commands.pm
cp lib/Mojolicious/Command/version.pm blib/lib/Mojolicious/Command/version.pm
cp lib/Mojo/UserAgent.pm blib/lib/Mojo/UserAgent.pm
cp lib/Mojo/Content/Single.pm blib/lib/Mojo/Content/Single.pm
cp lib/Mojolicious/Plugins.pm blib/lib/Mojolicious/Plugins.pm
cp lib/Mojolicious/resources/public/mojo/mojo.css blib/lib/Mojolicious/resources/public/mojo/mojo.css
cp lib/Mojo/UserAgent/Server.pm blib/lib/Mojo/UserAgent/Server.pm
cp lib/Mojolicious/resources/templates/mojo/not_found.html.ep blib/lib/Mojolicious/resources/templates/mojo/not_found.html.ep
cp lib/Mojolicious/Guides/Cookbook.pod blib/lib/Mojolicious/Guides/Cookbook.pod
cp lib/Mojo/UserAgent/CookieJar.pm blib/lib/Mojo/UserAgent/CookieJar.pm
cp lib/Mojolicious/Plugin/JSONConfig.pm blib/lib/Mojolicious/Plugin/JSONConfig.pm
cp lib/Mojo/IOLoop/Stream.pm blib/lib/Mojo/IOLoop/Stream.pm
cp lib/Mojo/Server/PSGI.pm blib/lib/Mojo/Server/PSGI.pm
cp lib/Mojolicious/resources/public/mojo/pinstripe-dark.png blib/lib/Mojolicious/resources/public/mojo/pinstripe-dark.png
cp lib/Mojolicious/Command/daemon.pm blib/lib/Mojolicious/Command/daemon.pm
cp lib/Mojo/Promise.pm blib/lib/Mojo/Promise.pm
cp lib/Mojo/IOLoop/resources/server.crt blib/lib/Mojo/IOLoop/resources/server.crt
cp lib/Mojo/ByteStream.pm blib/lib/Mojo/ByteStream.pm
cp lib/Mojolicious.pm blib/lib/Mojolicious.pm
cp lib/Mojolicious/Static.pm blib/lib/Mojolicious/Static.pm
cp lib/Mojo/File.pm blib/lib/Mojo/File.pm
cp lib/Mojo/Server/Daemon.pm blib/lib/Mojo/Server/Daemon.pm
cp lib/Mojolicious/resources/public/mojo/pinstripe-light.png blib/lib/Mojolicious/resources/public/mojo/pinstripe-light.png
cp lib/Mojo/URL.pm blib/lib/Mojo/URL.pm
cp lib/Mojolicious/Command/psgi.pm blib/lib/Mojolicious/Command/psgi.pm
cp lib/Mojolicious/Controller.pm blib/lib/Mojolicious/Controller.pm
cp lib/Mojolicious/Routes/Route.pm blib/lib/Mojolicious/Routes/Route.pm
cp lib/Test/Mojo.pm blib/lib/Test/Mojo.pm
cp lib/Mojolicious/resources/public/mojo/bootstrap/bootstrap.css blib/lib/Mojolicious/resources/public/mojo/bootstrap/bootstrap.css
cp lib/Mojo/Content.pm blib/lib/Mojo/Content.pm
cp lib/Mojo/UserAgent/Transactor.pm blib/lib/Mojo/UserAgent/Transactor.pm
cp lib/Mojo/DynamicMethods.pm blib/lib/Mojo/DynamicMethods.pm
cp lib/Mojolicious/Guides/Growing.pod blib/lib/Mojolicious/Guides/Growing.pod
cp lib/ojo.pm blib/lib/ojo.pm
cp lib/Mojolicious/Command/get.pm blib/lib/Mojolicious/Command/get.pm
cp lib/Mojo/HelloWorld.pm blib/lib/Mojo/HelloWorld.pm
cp lib/Mojolicious/Plugin.pm blib/lib/Mojolicious/Plugin.pm
cp lib/Mojolicious/resources/public/mojo/logo.png blib/lib/Mojolicious/resources/public/mojo/logo.png
cp lib/Mojolicious/resources/public/mojo/highlight.js/highlight.min.js blib/lib/Mojolicious/resources/public/mojo/highlight.js/highlight.min.js
cp lib/Mojolicious/resources/public/mojo/bootstrap/bootstrap.min.css.map blib/lib/Mojolicious/resources/public/mojo/bootstrap/bootstrap.min.css.map
cp lib/Mojo/Server/Prefork.pm blib/lib/Mojo/Server/Prefork.pm
cp lib/Mojo/Message/Response.pm blib/lib/Mojo/Message/Response.pm
cp lib/Mojolicious/Validator/Validation.pm blib/lib/Mojolicious/Validator/Validation.pm
cp lib/Mojo/BaseUtil.pm blib/lib/Mojo/BaseUtil.pm
cp lib/Mojolicious/Command/Author/generate.pm blib/lib/Mojolicious/Command/Author/generate.pm
cp lib/Mojolicious/Command/Author/generate/makefile.pm blib/lib/Mojolicious/Command/Author/generate/makefile.pm
cp lib/Mojolicious/Command.pm blib/lib/Mojolicious/Command.pm
cp lib/Mojo/Date.pm blib/lib/Mojo/Date.pm
cp lib/Mojolicious/Plugin/EPLRenderer.pm blib/lib/Mojolicious/Plugin/EPLRenderer.pm
cp lib/Mojolicious/resources/public/mojo/noraptor.png blib/lib/Mojolicious/resources/public/mojo/noraptor.png
cp lib/Mojolicious/Command/Author/generate/app.pm blib/lib/Mojolicious/Command/Author/generate/app.pm
cp lib/Mojo/Base.pm blib/lib/Mojo/Base.pm
cp lib/Mojo/resources/html_entities.txt blib/lib/Mojo/resources/html_entities.txt
cp lib/Mojolicious/Lite.pm blib/lib/Mojolicious/Lite.pm
cp lib/Mojolicious/Guides/Rendering.pod blib/lib/Mojolicious/Guides/Rendering.pod
cp lib/Mojolicious/resources/public/mojo/logo-white-2x.png blib/lib/Mojolicious/resources/public/mojo/logo-white-2x.png
cp lib/Mojo/Home.pm blib/lib/Mojo/Home.pm
cp lib/Mojolicious/Guides/FAQ.pod blib/lib/Mojolicious/Guides/FAQ.pod
cp lib/Mojo/Transaction.pm blib/lib/Mojo/Transaction.pm
cp lib/Mojo/IOLoop/TLS.pm blib/lib/Mojo/IOLoop/TLS.pm
cp lib/Mojo/Util.pm blib/lib/Mojo/Util.pm
cp lib/Mojo/Asset.pm blib/lib/Mojo/Asset.pm
cp lib/Mojolicious/Validator.pm blib/lib/Mojolicious/Validator.pm
cp lib/Mojo/Server/CGI.pm blib/lib/Mojo/Server/CGI.pm
cp lib/Mojolicious/resources/public/mojo/failraptor.png blib/lib/Mojolicious/resources/public/mojo/failraptor.png
cp lib/Mojo/Exception.pm blib/lib/Mojo/Exception.pm
cp lib/Mojo/Asset/Memory.pm blib/lib/Mojo/Asset/Memory.pm
cp lib/Mojo/Asset/File.pm blib/lib/Mojo/Asset/File.pm
cp lib/Mojolicious/Command/cgi.pm blib/lib/Mojolicious/Command/cgi.pm
cp lib/Mojolicious/Routes.pm blib/lib/Mojolicious/Routes.pm
cp lib/Mojo/Cache.pm blib/lib/Mojo/Cache.pm
cp lib/Mojolicious/Routes/Pattern.pm blib/lib/Mojolicious/Routes/Pattern.pm
cp lib/Mojolicious/resources/public/mojo/notfound.png blib/lib/Mojolicious/resources/public/mojo/notfound.png
cp lib/Mojo/DOM/HTML.pm blib/lib/Mojo/DOM/HTML.pm
cp lib/Mojo/Template.pm blib/lib/Mojo/Template.pm
cp lib/Mojo/Server/Morbo/Backend.pm blib/lib/Mojo/Server/Morbo/Backend.pm
cp lib/Mojolicious/Command/Author/generate/lite_app.pm blib/lib/Mojolicious/Command/Author/generate/lite_app.pm
cp lib/Mojo/UserAgent/Proxy.pm blib/lib/Mojo/UserAgent/Proxy.pm
cp lib/Mojolicious/Guides/Contributing.pod blib/lib/Mojolicious/Guides/Contributing.pod
cp lib/Mojo/Message.pm blib/lib/Mojo/Message.pm
cp lib/Mojo/Transaction/HTTP.pm blib/lib/Mojo/Transaction/HTTP.pm
cp lib/Mojolicious/Guides/Tutorial.pod blib/lib/Mojolicious/Guides/Tutorial.pod
cp lib/Mojo/Path.pm blib/lib/Mojo/Path.pm
cp lib/Mojo/Upload.pm blib/lib/Mojo/Upload.pm
cp lib/Mojo/Cookie/Request.pm blib/lib/Mojo/Cookie/Request.pm
cp lib/Mojolicious/Command/eval.pm blib/lib/Mojolicious/Command/eval.pm
cp lib/Mojo.pm blib/lib/Mojo.pm
cp lib/Mojo/Collection.pm blib/lib/Mojo/Collection.pm
cp lib/Mojo/EventEmitter.pm blib/lib/Mojo/EventEmitter.pm
cp lib/Mojo/JSON.pm blib/lib/Mojo/JSON.pm
cp lib/Mojo/IOLoop/resources/server.key blib/lib/Mojo/IOLoop/resources/server.key
cp lib/Mojolicious/resources/public/favicon.ico blib/lib/Mojolicious/resources/public/favicon.ico
cp lib/Mojo/Headers.pm blib/lib/Mojo/Headers.pm
cp lib/Mojolicious/Command/routes.pm blib/lib/Mojolicious/Command/routes.pm
cp lib/Mojo/Transaction/WebSocket.pm blib/lib/Mojo/Transaction/WebSocket.pm
cp lib/Mojo/IOLoop/Subprocess.pm blib/lib/Mojo/IOLoop/Subprocess.pm
cp lib/Mojolicious/Command/Author/cpanify.pm blib/lib/Mojolicious/Command/Author/cpanify.pm
cp lib/Mojolicious/Guides.pod blib/lib/Mojolicious/Guides.pod
cp lib/Mojolicious/Plugin/Config.pm blib/lib/Mojolicious/Plugin/Config.pm
cp lib/Mojolicious/Plugin/EPRenderer.pm blib/lib/Mojolicious/Plugin/EPRenderer.pm
cp lib/Mojolicious/Command/Author/generate/dockerfile.pm blib/lib/Mojolicious/Command/Author/generate/dockerfile.pm
cp lib/Mojo/Parameters.pm blib/lib/Mojo/Parameters.pm
cp lib/Mojolicious/Renderer.pm blib/lib/Mojolicious/Renderer.pm
cp lib/Mojolicious/Sessions.pm blib/lib/Mojolicious/Sessions.pm
cp lib/Mojolicious/Command/prefork.pm blib/lib/Mojolicious/Command/prefork.pm
cp lib/Mojolicious/Plugin/DefaultHelpers.pm blib/lib/Mojolicious/Plugin/DefaultHelpers.pm
cp lib/Mojo/IOLoop/Server.pm blib/lib/Mojo/IOLoop/Server.pm
cp lib/Mojo/Server/Morbo/Backend/Poll.pm blib/lib/Mojo/Server/Morbo/Backend/Poll.pm
cp lib/Mojo/Content/MultiPart.pm blib/lib/Mojo/Content/MultiPart.pm
cp lib/Mojo/Reactor/EV.pm blib/lib/Mojo/Reactor/EV.pm
cp script/hypnotoad blib/script/hypnotoad
"/opt/homebrew/Cellar/perl/5.38.2_1/bin/perl" -MExtUtils::MY -e 'MY->fixin(shift)' -- blib/script/hypnotoad
cp script/mojo blib/script/mojo
"/opt/homebrew/Cellar/perl/5.38.2_1/bin/perl" -MExtUtils::MY -e 'MY->fixin(shift)' -- blib/script/mojo
cp script/morbo blib/script/morbo
"/opt/homebrew/Cellar/perl/5.38.2_1/bin/perl" -MExtUtils::MY -e 'MY->fixin(shift)' -- blib/script/morbo
Manifying 3 pod documents
Manifying 120 pod documents
PERL_DL_NONLAZY=1 "/opt/homebrew/Cellar/perl/5.38.2_1/bin/perl" "-MExtUtils::Command::MM" "-MTest::Harness" "-e" "undef *Test::Harness::Switches; test_harness(0, 'blib/lib', 'blib/arch')" t/*.t t/*/*.t
t/mojo/asset.t ............................. ok
t/mojo/base.t .............................. ok
t/mojo/base_util.t ......................... ok
t/mojo/bytestream.t ........................ ok
t/mojo/cache.t ............................. ok
t/mojo/cgi.t ............................... ok
t/mojo/collection.t ........................ ok
t/mojo/content.t ........................... ok
t/mojo/cookie.t ............................ ok
t/mojo/cookiejar.t ......................... ok
t/mojo/daemon.t ............................ ok
t/mojo/daemon_ipv6_tls.t ................... skipped: set TEST_IPV6 to enable this test (developer only!)
t/mojo/date.t .............................. ok
t/mojo/dom.t ............................... ok
t/mojo/dynamic_methods.t ................... ok
t/mojo/eventemitter.t ...................... ok
t/mojo/exception.t ......................... ok
t/mojo/file.t .............................. ok
t/mojo/headers.t ........................... ok
t/mojo/home.t .............................. ok
t/mojo/hypnotoad.t ......................... skipped: set TEST_HYPNOTOAD to enable this test (developer only!)
t/mojo/ioloop.t ............................ ok
t/mojo/ioloop_ipv6.t ....................... skipped: set TEST_IPV6 to enable this test (developer only!)
t/mojo/ioloop_tls.t ........................ skipped: set TEST_TLS to enable this test (developer only!)
t/mojo/json.t .............................. ok
t/mojo/json_pointer.t ...................... ok
t/mojo/json_xs.t ........................... ok
Old package separator "'" deprecated at (eval 68) line 1.
t/mojo/loader.t ............................ ok
t/mojo/log.t ............................... ok
t/mojo/morbo.t ............................. skipped: set TEST_MORBO to enable this test (developer only!)
t/mojo/parameters.t ........................ ok
t/mojo/path.t .............................. ok
t/mojo/prefork.t ........................... skipped: set TEST_PREFORK to enable this test (developer only!)
t/mojo/promise.t ........................... ok
t/mojo/promise_async_await.t ............... skipped: set TEST_ASYNC_AWAIT to enable this test (developer only!)
t/mojo/proxy.t ............................. ok
t/mojo/psgi.t .............................. ok
t/mojo/reactor_detect.t .................... ok
t/mojo/reactor_ev.t ........................ skipped: set TEST_EV to enable this test (developer only!)
t/mojo/reactor_poll.t ...................... ok
t/mojo/request.t ........................... ok
t/mojo/request_cgi.t ....................... ok
t/mojo/response.t .......................... ok
t/mojo/roles.t ............................. ok
t/mojo/signatures.t ........................ ok
t/mojo/subprocess.t ........................ skipped: set TEST_SUBPROCESS to enable this test (developer only!)
t/mojo/subprocess_ev.t ..................... skipped: set TEST_SUBPROCESS to enable this test (developer only!)
t/mojo/template.t .......................... ok
t/mojo/tls.t ............................... skipped: set TEST_TLS to enable this test (developer only!)
t/mojo/transactor.t ........................ ok
t/mojo/url.t ............................... ok
t/mojo/user_agent.t ........................ ok
t/mojo/user_agent_online.t ................. skipped: set TEST_ONLINE to enable this test (developer only!)
t/mojo/user_agent_socks.t .................. skipped: set TEST_SOCKS to enable this test (developer only!)
t/mojo/user_agent_tls.t .................... skipped: set TEST_TLS to enable this test (developer only!)
t/mojo/user_agent_unix.t ................... skipped: set TEST_UNIX to enable this test (developer only!)
t/mojo/util.t .............................. ok
t/mojo/websocket.t ......................... ok
t/mojo/websocket_frames.t .................. ok
t/mojo/websocket_proxy.t ................... ok
t/mojo/websocket_proxy_tls.t ............... skipped: set TEST_TLS to enable this test (developer only!)
t/mojolicious/app.t ........................ ok
t/mojolicious/charset_lite_app.t ........... ok
t/mojolicious/command.t .................... ok
t/mojolicious/commands.t ................... ok
t/mojolicious/dispatch.t ................... ok
t/mojolicious/dispatcher_lite_app.t ........ ok
t/mojolicious/embedded_app.t ............... ok
t/mojolicious/embedded_lite_app.t .......... ok
t/mojolicious/exception_lite_app.t ......... ok
t/mojolicious/external_app.t ............... ok
t/mojolicious/external_lite_app.t .......... ok
t/mojolicious/group_lite_app.t ............. ok
t/mojolicious/json_config_lite_app.t ....... ok
t/mojolicious/json_config_mode_lite_app.t .. ok
t/mojolicious/layouted_lite_app.t .......... ok
t/mojolicious/lite_app.t ................... ok
t/mojolicious/log_lite_app.t ............... ok
t/mojolicious/longpolling_lite_app.t ....... ok
t/mojolicious/multipath_lite_app.t ......... ok
t/mojolicious/ojo.t ........................ ok
t/mojolicious/ojo_signatures.t ............. ok
t/mojolicious/pattern.t .................... ok
t/mojolicious/production_app.t ............. ok
t/mojolicious/proxy_app.t .................. ok
t/mojolicious/rebased_lite_app.t ........... ok
t/mojolicious/renderer.t ................... ok
t/mojolicious/restful_lite_app.t ........... ok
t/mojolicious/routes.t ..................... ok
t/mojolicious/signatures_lite_app.t ........ ok
t/mojolicious/static_lite_app.t ............ ok
t/mojolicious/static_prefix_lite_app.t ..... ok
t/mojolicious/tag_helper_lite_app.t ........ ok
t/mojolicious/testing_app.t ................ ok
t/mojolicious/tls_lite_app.t ............... skipped: set TEST_TLS to enable this test (developer only!)
t/mojolicious/twinkle_lite_app.t ........... ok
t/mojolicious/types.t ...................... ok
t/mojolicious/upload_lite_app.t ............ ok
t/mojolicious/upload_stream_lite_app.t ..... ok
t/mojolicious/validation_lite_app.t ........ ok
t/mojolicious/websocket_lite_app.t ......... ok
t/mojolicious/yaml_config_lite_app.t ....... ok
t/pod.t .................................... skipped: set TEST_POD to enable this test (developer only!)
t/pod_coverage.t ........................... skipped: set TEST_POD to enable this test (developer only!)
t/test/mojo.t .............................. ok
All tests successful.
Files=105, Tests=4292, 27 wallclock secs ( 0.34 usr 0.14 sys + 16.21 cusr 2.16 csys = 18.85 CPU)
Result: PASS
------------------------------
PREREQUISITES
------------------------------
Prerequisite modules loaded:
runtime:
Module Need Have
------------------- ----- --------
IO::Socket::IP 0.37 0.42
perl 5.016 5.038002
Sub::Util 1.41 1.63
build:
Module Need Have
------------------- ----- --------
ExtUtils::MakeMaker 0 7.70
configure:
Module Need Have
------------------- ----- --------
ExtUtils::MakeMaker 0 7.70
------------------------------
ENVIRONMENT AND OTHER CONTEXT
------------------------------
Environment variables:
LANG = en_US.UTF-8
LC_ALL = en_US.UTF-8
LDFLAGS = -L/opt/homebrew/opt/curl/lib
PATH = /opt/homebrew/opt/node@18/bin:/opt/homebrew/Cellar/perl/5.36.1/bin:/opt/homebrew/opt/curl/bin:/opt/homebrew/bin:/opt/homebrew/sbin:/usr/local/bin:/System/Cryptexes/App/usr/bin:/usr/bin:/bin:/usr/sbin:/sbin:/var/run/com.apple.security.cryptexd/codex.system/bootstrap/usr/local/bin:/var/run/com.apple.security.cryptexd/codex.system/bootstrap/usr/bin:/var/run/com.apple.security.cryptexd/codex.system/bootstrap/usr/appleinternal/bin:/Applications/Little Snitch.app/Contents/Components:/Users/stanislawpusep/.vim/bin:/Users/stanislawpusep/bin:/Users/stanislawpusep/node_modules/.bin:/usr/local/sbin:/opt/homebrew/opt/node@18/bin:/opt/homebrew/Cellar/perl/5.36.1/bin:/Users/stanislawpusep/perl5/bin:/opt/homebrew/opt/curl/bin:/opt/homebrew/bin:/opt/homebrew/sbin:/Applications/kitty.app/Contents/MacOS
PERL5LIB = /Users/stanislawpusep/perl5/lib/perl5
PERL_LOCAL_LIB_ROOT = /Users/stanislawpusep/perl5
PERL_MB_OPT = --install_base "/Users/stanislawpusep/perl5"
PERL_MM_OPT = INSTALL_BASE=/Users/stanislawpusep/perl5
PERL_MM_USE_DEFAULT = 1
SHELL = /bin/zsh
TERM = screen-256color
TMPDIR = /var/folders/w1/125w8syj3fx4505hrl72wjjm0000gp/T/
Perl special variables (and OS-specific diagnostics, for MSWin32):
EGID = 20 20 12 61 79 80 81 98 701 33 100 204 250 395 398 399 400
EUID = 502
EXECUTABLE_NAME = /opt/homebrew/Cellar/perl/5.38.2_1/bin/perl
GID = 20 20 12 61 79 80 81 98 701 33 100 204 250 395 398 399 400
UID = 502
Perl module toolchain versions installed:
Module Have
------------------- --------
CPAN 2.36
CPAN::Meta 2.150010
Cwd 3.89
ExtUtils::CBuilder 0.280238
ExtUtils::Command 7.70
ExtUtils::Install 2.22
ExtUtils::MakeMaker 7.70
ExtUtils::Manifest 1.75
ExtUtils::ParseXS 3.51
File::Spec 3.88
JSON 4.10
JSON::PP 4.16
Module::Build 0.4234
Module::Signature n/a
Parse::CPAN::Meta 2.150010
Test::Harness 3.48
Test::More 1.302199
YAML 1.31
YAML::Syck n/a
version 0.9932
--
Summary of my perl5 (revision 5 version 38 subversion 2) configuration:
Platform:
osname=darwin
osvers=23.2.0
archname=darwin-thread-multi-2level
uname='darwin sonoma-arm64.local 23.2.0 darwin kernel version 23.2.0: wed nov 15 21:54:25 pst 2023; root:xnu-10002.61.3~2release_arm64_vmapple arm64 '
config_args='-des -Dinstallstyle=lib/perl5 -Dinstallprefix=/opt/homebrew/Cellar/perl/5.38.2_1 -Dprefix=/opt/homebrew/opt/perl -Dprivlib=/opt/homebrew/opt/perl/lib/perl5/5.38 -Dsitelib=/opt/homebrew/opt/perl/lib/perl5/site_perl/5.38 -Dotherlibdirs=/opt/homebrew/lib/perl5/site_perl/5.38 -Dperlpath=/opt/homebrew/opt/perl/bin/perl -Dstartperl=#!/opt/homebrew/opt/perl/bin/perl -Dman1dir=/opt/homebrew/opt/perl/share/man/man1 -Dman3dir=/opt/homebrew/opt/perl/share/man/man3 -Duseshrplib -Duselargefiles -Dusethreads'
hint=recommended
useposix=true
d_sigaction=define
useithreads=define
usemultiplicity=define
use64bitint=define
use64bitall=define
uselongdouble=undef
usemymalloc=n
default_inc_excludes_dot=define
Compiler:
cc='cc'
ccflags ='-fno-common -DPERL_DARWIN -mmacosx-version-min=14.2 -DNO_POSIX_2008_LOCALE -fno-strict-aliasing -pipe -fstack-protector-strong'
optimize='-O3'
cppflags='-fno-common -DPERL_DARWIN -mmacosx-version-min=14.2 -DNO_POSIX_2008_LOCALE -fno-strict-aliasing -pipe -fstack-protector-strong'
ccversion=''
gccversion='Apple LLVM 15.0.0 (clang-1500.1.0.2.5)'
gccosandvers=''
intsize=4
longsize=8
ptrsize=8
doublesize=8
byteorder=12345678
doublekind=3
d_longlong=define
longlongsize=8
d_longdbl=define
longdblsize=8
longdblkind=0
ivtype='long'
ivsize=8
nvtype='double'
nvsize=8
Off_t='off_t'
lseeksize=8
alignbytes=8
prototype=define
Linker and Libraries:
ld='cc'
ldflags =' -mmacosx-version-min=14.2 -fstack-protector-strong'
libpth=/opt/homebrew/Cellar/berkeley-db@5/5.3.28_1/lib /opt/homebrew/lib /Applications/Xcode.app/Contents/Developer/Toolchains/XcodeDefault.xctoolchain/usr/lib/clang/15.0.0/lib /Library/Developer/CommandLineTools/SDKs/MacOSX14.2.sdk/usr/lib /Applications/Xcode.app/Contents/Developer/Toolchains/XcodeDefault.xctoolchain/usr/lib /usr/lib
libs=-lgdbm -ldb
perllibs=
libc=
so=dylib
useshrplib=true
libperl=libperl.dylib
gnulibc_version=''
Dynamic Linking:
dlsrc=dl_dlopen.xs
dlext=bundle
d_dlsymun=undef
ccdlflags=' '
cccdlflags=' '
lddlflags=' -mmacosx-version-min=14.2 -bundle -undefined dynamic_lookup -fstack-protector-strong'
Characteristics of this binary (from libperl):
Compile-time options:
HAS_LONG_DOUBLE
HAS_STRTOLD
HAS_TIMES
MULTIPLICITY
PERLIO_LAYERS
PERL_COPY_ON_WRITE
PERL_DONT_CREATE_GVSV
PERL_HASH_FUNC_SIPHASH13
PERL_HASH_USE_SBOX32
PERL_MALLOC_WRAP
PERL_OP_PARENT
PERL_PRESERVE_IVUV
PERL_USE_SAFE_PUTENV
USE_64_BIT_ALL
USE_64_BIT_INT
USE_ITHREADS
USE_LARGE_FILES
USE_LOCALE
USE_LOCALE_COLLATE
USE_LOCALE_CTYPE
USE_LOCALE_NUMERIC
USE_LOCALE_TIME
USE_PERLIO
USE_PERL_ATOF
USE_REENTRANT_API
Built under darwin
Compiled at Nov 28 2023 14:04:47
%ENV:
PERL5LIB="/Users/stanislawpusep/perl5/lib/perl5"
PERL_LOCAL_LIB_ROOT="/Users/stanislawpusep/perl5"
PERL_MB_OPT="--install_base "/Users/stanislawpusep/perl5""
PERL_MM_OPT="INSTALL_BASE=/Users/stanislawpusep/perl5"
PERL_MM_USE_DEFAULT="1"
@INC:
/Users/stanislawpusep/perl5/lib/perl5/5.38.2/darwin-thread-multi-2level
/Users/stanislawpusep/perl5/lib/perl5/5.38.2
/Users/stanislawpusep/perl5/lib/perl5/darwin-thread-multi-2level
/Users/stanislawpusep/perl5/lib/perl5
/opt/homebrew/opt/perl/lib/perl5/site_perl/5.38/darwin-thread-multi-2level
/opt/homebrew/opt/perl/lib/perl5/site_perl/5.38
/opt/homebrew/opt/perl/lib/perl5/5.38/darwin-thread-multi-2level
/opt/homebrew/opt/perl/lib/perl5/5.38
/opt/homebrew/lib/perl5/site_perl/5.38