Task-Sites-ShlomiFish v0.0215 Perl 5 v5.16.3 amd64-freebsd-thread-multi

Status
Pass
From
Slaven Rezić
Dist
Task-Sites-ShlomiFish v0.0215
Platform
Perl 5 v5.16.3 amd64-freebsd-thread-multi
Date
2023-11-29T15:23:27
ID
3ee862f4-8ecb-11ee-9341-8f006e8775ea
This distribution has been tested as part of the CPAN Testers
project, supporting the Perl programming language.  See
http://wiki.cpantesters.org/ for more information or email
questions to cpan-testers-discuss@perl.org


--
Dear Shlomi Fish,

This is a computer-generated report for Task-Sites-ShlomiFish-0.0215
on perl 5.16.3, created by CPAN-Reporter-1.2019.

Thank you for uploading your work to CPAN.  Congratulations!
All tests were successful.

Sections of this report:

    * Tester comments
    * Program output
    * Prerequisites
    * Environment and other context

------------------------------
TESTER COMMENTS
------------------------------

Additional comments from tester:

none provided

------------------------------
PROGRAM OUTPUT
------------------------------

Output from './Build test':

t/00-load.t ............... ok
t/cpan-changes.t .......... ok
t/pod-coverage.t .......... ok
t/pod.t ................... ok
t/style-trailing-space.t .. ok
All tests successful.
Files=5, Tests=8,  0 wallclock secs ( 0.02 usr  0.00 sys +  0.36 cusr  0.08 csys =  0.45 CPU)
Result: PASS

------------------------------
PREREQUISITES
------------------------------

Prerequisite modules loaded:

requires:

    Module                                                 Need   Have    
    ------------------------------------------------------ ------ --------
    App::XML::DocBook::Builder                             0      0.1004  
    base                                                   0      2.18    
    Carp                                                   0      1.50    
    Carp::Always                                           0      0.16    
    CGI                                                    0      4.59    
    CGI::Minimal                                           0      1.30    
    Class::Accessor                                        0      0.51    
    Config::IniFiles                                       0      3.000000
    Cwd                                                    0      3.75    
    DateTime                                               0      1.65    
    DateTime::Format::Strptime                             0      1.79    
    DBD::SQLite                                            0      1.72    
    DBI                                                    0      1.643   
    Encode                                                 0      3.20    
    Exporter                                               0      5.77    
    Fcntl                                                  0      1.11    
    File::Basename                                         0      2.84    
    File::Copy                                             0      2.23    
    File::Find                                             0      1.20    
    File::Find::Object                                     0      0.3.7   
    File::Find::Object::Rule                               0      0.0313  
    File::Path                                             0      2.18    
    File::Spec                                             0      3.75    
    File::Spec::Functions                                  0      3.75    
    File::Which                                            0      1.27    
    Games::Solitaire::Verify::Base                         0      0.2403  
    HTML::Acronyms                                         0      0.0.4   
    HTML::Links::Localize                                  0      0.2.11  
    HTML::Selector::XPath                                  0      0.26    
    HTML::T5                                               0      0.011   
    HTML::TextToHTML                                       0      2.5201  
    HTML::TokeParser::Simple                               0      3.16    
    HTML::TreeBuilder::LibXML                              0      0.26    
    HTML::Widgets::NavMenu::ToJSON                         0      0.0.8   
    HTML::Widgets::NavMenu::ToJSON::Data_Persistence::YAML 0      0.0.8   
    Imager                                                 0      1.019   
    IO::All                                                0      0.87    
    JSON                                                   0      4.10    
    MIME::Types                                            0      2.20    
    Moose                                                  0      2.2206  
    Parallel::ForkManager                                  0      2.02    
    Parallel::Map::Segmented                               0      0.4.0   
    perl                                                   5.014  5.016003
    Proc::ProcessTable                                     0      0.635   
    QuadPres                                               0      0.30.0  
    Set::CSS                                               0      0.2.0   
    Spork::Shlomify                                        0.0200 0.0403  
    strict                                                 0      1.07    
    String::ShellQuote                                     0      1.04    
    SVG                                                    0      2.87    
    Task::Latemp                                           0      0.0107  
    Template::Preprocessor::TTML                           0      0.0105  
    Test::Count                                            0      0.1105  
    Test::Count::Filter                                    0      0.1105  
    Test::HTML::Tidy::Recursive                            0      0.4.0   
    Test::More                                             0      1.302197
    Test::Perl::Critic                                     0      1.04    
    Test::TrailingSpace                                    0      0.0601  
    Text::Hunspell                                         0      2.16    
    Text::VimColor                                         0      0.28    
    URI::Find                                              0      20160806
    utf8                                                   0      1.09    
    vars                                                   0      1.02    
    warnings                                               0      1.13    
    XML::Amazon                                            0      0.12    
    XML::Feed                                              0      0.62    
    XML::Grammar::Fiction                                  v0.7.0 0.30.0  
    XML::Grammar::Fortune                                  0.0107 0.0900  
    XML::Grammar::Fortune::Synd::App                       0      0.0215  
    XML::Grammar::Fortune::ToText                          0      0.0900  
    XML::Grammar::ProductsSyndication                      0.0302 0.0406  
    XML::Grammar::Screenplay                               v0.7.0 0.30.0  
    XML::Grammar::Vered                                    0      0.2.1   
    XML::LibXML::XPathContext                              0      2.0209  
    XML::LibXSLT                                           0      2.002001
    XML::Parser                                            0      2.46    
    XML::Writer                                            0      0.900   

configure_requires:

    Module                                                 Need   Have    
    ------------------------------------------------------ ------ --------
    Module::Build                                          0.36   0.4234  


------------------------------
ENVIRONMENT AND OTHER CONTEXT
------------------------------

Environment variables:

    LC_ALL = de_DE.ISO8859-1
    PATH = /usr/local/bin:/usr/bin:/bin:/usr/local/sbin:/usr/sbin:/sbin:/home/cpansand/bin/freebsd9.3:/home/cpansand/bin/sh:/home/cpansand/bin:/usr/games:/home/cpansand/devel:/usr/home/eserte/src/srezic-misc/scripts
    PERL5LIB = /home/cpansand/.cpan/build/2023112916/Set-CSS-0.2.0-2/blib/arch:/home/cpansand/.cpan/build/2023112916/Set-CSS-0.2.0-2/blib/lib
    PERL5OPT = 
    PERL5_CPANPLUS_IS_RUNNING = 72667
    PERL5_CPAN_IS_RUNNING = 72667
    PERL5_CPAN_IS_RUNNING_IN_RECURSION = 52324,72667
    PERLDOC = -MPod::Perldoc::ToTextOverstrike
    PERL_BATCH = yes
    PERL_CANARY_STABILITY_NOPROMPT = 1
    PERL_CPAN_REPORTER_CONFIG = /var/tmp/cpansmoker-1023/2023112914/cpanreporter_000_config.ini
    PERL_EXTUTILS_AUTOINSTALL = --defaultdeps
    PERL_USE_UNSAFE_INC = 1
    SHELL = /usr/local/bin/zsh
    TERM = screen
    TMPDIR = /var/tmp/cpansmoker-1023/2023112914

Perl special variables (and OS-specific diagnostics, for MSWin32):

    $^X = /usr/perl5.16.3t/bin/perl
    $UID/$EUID = 1023 / 1023
    $GID = 1023 1023
    $EGID = 1023 1023

Perl module toolchain versions installed:

    Module              Have    
    ------------------- --------
    CPAN                2.36    
    CPAN::Meta          2.150010
    Cwd                 3.75    
    ExtUtils::CBuilder  0.280236
    ExtUtils::Command   7.70    
    ExtUtils::Install   2.22    
    ExtUtils::MakeMaker 7.70    
    ExtUtils::Manifest  1.75    
    ExtUtils::ParseXS   3.51    
    File::Spec          3.75    
    JSON                4.10    
    JSON::PP            4.16    
    Module::Build       0.4234  
    Module::Signature   0.88    
    Parse::CPAN::Meta   2.150010
    Test2               1.302197
    Test::Harness       3.47    
    Test::More          1.302197
    YAML                1.30    
    YAML::Syck          1.34    
    version             0.9929  


--

Summary of my perl5 (revision 5 version 16 subversion 3) configuration:
   
  Platform:
    osname=freebsd, osvers=9.2-release-p4, archname=amd64-freebsd-thread-multi
    uname='freebsd cvrsnica-freebsd-92 9.2-release-p4 freebsd 9.2-release-p4 #0: tue apr 8 18:08:22 utc 2014 root@amd64-builder.daemonology.net:usrobjusrsrcsysgeneric amd64 '
    config_args='-ds -e -Dprefix=/usr/perl5.16.3t -Dusethreads'
    hint=recommended, useposix=true, d_sigaction=define
    useithreads=define, usemultiplicity=define
    useperlio=define, d_sfio=undef, uselargefiles=define, usesocks=undef
    use64bitint=define, use64bitall=define, uselongdouble=undef
    usemymalloc=n, bincompat5005=undef
  Compiler:
    cc='cc', ccflags ='-DHAS_FPSETMASK -DHAS_FLOATINGPOINT_H -fno-strict-aliasing -pipe -fstack-protector -I/usr/local/include',
    optimize='-O',
    cppflags='-DHAS_FPSETMASK -DHAS_FLOATINGPOINT_H -fno-strict-aliasing -pipe -fstack-protector -I/usr/local/include'
    ccversion='', gccversion='4.2.1 20070831 patched [FreeBSD]', gccosandvers=''
    intsize=4, longsize=8, ptrsize=8, doublesize=8, byteorder=12345678
    d_longlong=define, longlongsize=8, d_longdbl=define, longdblsize=16
    ivtype='long', ivsize=8, nvtype='double', nvsize=8, Off_t='off_t', lseeksize=8
    alignbytes=8, prototype=define
  Linker and Libraries:
    ld='cc', ldflags ='-pthread -Wl,-E  -fstack-protector -L/usr/local/lib'
    libpth=/usr/lib /usr/local/lib
    libs=-lgdbm -lm -lcrypt
    perllibs=-lm -lcrypt
    libc=, so=so, useshrplib=false, libperl=libperl.a
    gnulibc_version=''
  Dynamic Linking:
    dlsrc=dl_dlopen.xs, dlext=so, d_dlsymun=undef, ccdlflags=' '
    cccdlflags='-DPIC -fPIC', lddlflags='-shared  -L/usr/local/lib -fstack-protector'


Characteristics of this binary (from libperl): 
  Compile-time options: HAS_TIMES MULTIPLICITY PERLIO_LAYERS
                        PERL_DONT_CREATE_GVSV PERL_IMPLICIT_CONTEXT
                        PERL_MALLOC_WRAP PERL_PRESERVE_IVUV USE_64_BIT_ALL
                        USE_64_BIT_INT USE_ITHREADS USE_LARGE_FILES
                        USE_LOCALE USE_LOCALE_COLLATE USE_LOCALE_CTYPE
                        USE_LOCALE_NUMERIC USE_PERLIO USE_PERL_ATOF
                        USE_REENTRANT_API
  Built under freebsd
  Compiled at May 16 2014 07:49:48
  %ENV:
    PERL5LIB="/home/cpansand/.cpan/build/2023112916/Set-CSS-0.2.0-2/blib/arch:/home/cpansand/.cpan/build/2023112916/Set-CSS-0.2.0-2/blib/lib"
    PERL5OPT=""
    PERL5_CPANPLUS_IS_RUNNING="72667"
    PERL5_CPAN_IS_RUNNING="72667"
    PERL5_CPAN_IS_RUNNING_IN_RECURSION="52324,72667"
    PERLDOC="-MPod::Perldoc::ToTextOverstrike"
    PERL_BATCH="yes"
    PERL_CANARY_STABILITY_NOPROMPT="1"
    PERL_CPAN_REPORTER_CONFIG="/var/tmp/cpansmoker-1023/2023112914/cpanreporter_000_config.ini"
    PERL_EXTUTILS_AUTOINSTALL="--defaultdeps"
    PERL_USE_UNSAFE_INC="1"
  @INC:
    /home/cpansand/.cpan/build/2023112916/Set-CSS-0.2.0-2/blib/arch
    /home/cpansand/.cpan/build/2023112916/Set-CSS-0.2.0-2/blib/lib
    /usr/perl5.16.3t/lib/site_perl/5.16.3/amd64-freebsd-thread-multi
    /usr/perl5.16.3t/lib/site_perl/5.16.3
    /usr/perl5.16.3t/lib/5.16.3/amd64-freebsd-thread-multi
    /usr/perl5.16.3t/lib/5.16.3
    .