Net-RabbitMQ v0.1.5 Perl 5 v5.8.9 x86_64-linux

Status
Pass
From
Apocalypse (APOCAL)
Dist
Net-RabbitMQ v0.1.5
Platform
Perl 5 v5.8.9 x86_64-linux
Date
2010-04-25T10:49:41
ID
40b45036-5058-11df-9e93-570f7b45d684
This distribution has been tested as part of the CPAN Testers
project, supporting the Perl programming language.  See
http://wiki.cpantesters.org/ for more information or email
questions to cpan-testers-discuss@perl.org


--

Dear JESUS,
    
This is a computer-generated error report created automatically by
CPANPLUS, version 0.9003. Testers personal comments may appear 
at the end of this report.

MAKE TEST passed: PERL_DL_NONLAZY=1 /home/cpan/perls/perl_5.8.9_default/bin/perl "-MExtUtils::Command::MM" "-e" "test_harness(0, 'blib/lib', 'blib/arch')" t/*.t
t/001_declare_exchange.t .. ok
t/002_publish.t ........... ok
t/003_consume.t ........... ok
t/004_selfconsume.t ....... ok
t/005_noack.t ............. ok
t/006_txn.t ............... ok
t/007_get.t ............... ok
t/008_queue_declare.t ..... ok
All tests successful.
Files=8, Tests=77, 22 wallclock secs ( 0.07 usr  0.06 sys +  0.17 cusr  0.11 csys =  0.41 CPU)
Result: PASS

[MSG] [Sun Apr 25 03:49:41 2010] Sending test report for 'Net-RabbitMQ-0.1.5'

This report was machine-generated by CPANPLUS::Dist::YACSmoke 0.54.

------------------------------
ENVIRONMENT AND OTHER CONTEXT
------------------------------

Environment variables:

    AUTOMATED_TESTING = 1
    LANG = en_US.UTF-8
    PATH = /usr/local/sbin:/usr/local/bin:/usr/sbin:/usr/bin:/sbin:/bin:/usr/games
    PERL5LIB = :/home/cpan/cpanp_conf/perl_5.8.9_default/.cpanplus/5.8.9/build/Net-RabbitMQ-0.1.5/blib/lib:/home/cpan/cpanp_conf/perl_5.8.9_default/.cpanplus/5.8.9/build/Net-RabbitMQ-0.1.5/blib/arch
    PERL5_CPANIDX_URL = http://192.168.0.200:11110/CPANIDX/
    PERL5_CPANPLUS_IS_RUNNING = 13423
    PERL5_CPANPLUS_IS_VERSION = 0.9003
    PERL5_YACSMOKE_BASE = /home/cpan/cpanp_conf/perl_5.8.9_default
    PERL_CPANSMOKER_HOST = perl_5.8.9_default / Ubuntu 9.10 server 64bit (192.168.0.202)
    PERL_EXTUTILS_AUTOINSTALL = --defaultdeps
    PERL_MM_USE_DEFAULT = 1
    SHELL = /bin/bash
    TERM = xterm

Perl special variables (and OS-specific diagnostics, for MSWin32):

    Perl: $^X = /home/cpan/perls/perl_5.8.9_default/bin/perl
    UID:  $<  = 1001
    EUID: $>  = 1001
    GID:  $(  = 1002 1002
    EGID: $)  = 1002 1002


-------------------------------


--

Summary of my perl5 (revision 5 version 8 subversion 9) configuration:
  Platform:
    osname=linux, osvers=2.6.31-14-server, archname=x86_64-linux
    uname='linux ubuntu-server64 2.6.31-14-server #48-ubuntu smp fri oct 16 15:07:34 utc 2009 x86_64 gnulinux '
    config_args='-des -Dprefix=/home/cpan/perls/perl_5.8.9_default -Ui_db'
    hint=recommended, useposix=true, d_sigaction=define
    usethreads=undef use5005threads=undef useithreads=undef usemultiplicity=undef
    useperlio=define d_sfio=undef uselargefiles=define usesocks=undef
    use64bitint=define use64bitall=define uselongdouble=undef
    usemymalloc=n, bincompat5005=undef
  Compiler:
    cc='cc', ccflags ='-fno-strict-aliasing -pipe -I/usr/local/include -D_LARGEFILE_SOURCE -D_FILE_OFFSET_BITS=64',
    optimize='-O2',
    cppflags='-fno-strict-aliasing -pipe -I/usr/local/include'
    ccversion='', gccversion='4.4.1', gccosandvers=''
    intsize=4, longsize=8, ptrsize=8, doublesize=8, byteorder=12345678
    d_longlong=define, longlongsize=8, d_longdbl=define, longdblsize=16
    ivtype='long', ivsize=8, nvtype='double', nvsize=8, Off_t='off_t', lseeksize=8
    alignbytes=8, prototype=define
  Linker and Libraries:
    ld='cc', ldflags =' -L/usr/local/lib'
    libpth=/usr/local/lib /lib /usr/lib /lib64 /usr/lib64
    libs=-lnsl -ldl -lm -lcrypt -lutil -lc
    perllibs=-lnsl -ldl -lm -lcrypt -lutil -lc
    libc=/lib/libc-2.10.1.so, so=so, useshrplib=false, libperl=libperl.a
    gnulibc_version='2.10.1'
  Dynamic Linking:
    dlsrc=dl_dlopen.xs, dlext=so, d_dlsymun=undef, ccdlflags='-Wl,-E'
    cccdlflags='-fPIC', lddlflags='-shared -O2 -L/usr/local/lib'


Characteristics of this binary (from libperl): 
  Compile-time options: PERL_MALLOC_WRAP USE_64_BIT_ALL USE_64_BIT_INT
                        USE_FAST_STDIO USE_LARGE_FILES USE_PERLIO
  Built under linux
  Compiled at Apr  1 2010 18:54:08
  %ENV:
    PERL5LIB=":/home/cpan/cpanp_conf/perl_5.8.9_default/.cpanplus/5.8.9/build/Net-RabbitMQ-0.1.5/blib/lib:/home/cpan/cpanp_conf/perl_5.8.9_default/.cpanplus/5.8.9/build/Net-RabbitMQ-0.1.5/blib/arch"
    PERL5_CPANIDX_URL="http://192.168.0.200:11110/CPANIDX/"
    PERL5_CPANPLUS_IS_RUNNING="13423"
    PERL5_CPANPLUS_IS_VERSION="0.9003"
    PERL5_YACSMOKE_BASE="/home/cpan/cpanp_conf/perl_5.8.9_default"
    PERL_CPANSMOKER_HOST="perl_5.8.9_default / Ubuntu 9.10 server 64bit (192.168.0.202)"
    PERL_EXTUTILS_AUTOINSTALL="--defaultdeps"
    PERL_MM_USE_DEFAULT="1"
  @INC:
    /home/cpan/cpanp_conf/perl_5.8.9_default/.cpanplus/5.8.9/build/Net-RabbitMQ-0.1.5/blib/lib
    /home/cpan/cpanp_conf/perl_5.8.9_default/.cpanplus/5.8.9/build/Net-RabbitMQ-0.1.5/blib/arch
    /home/cpan/perls/perl_5.8.9_default/lib/5.8.9/x86_64-linux
    /home/cpan/perls/perl_5.8.9_default/lib/5.8.9
    /home/cpan/perls/perl_5.8.9_default/lib/site_perl/5.8.9/x86_64-linux
    /home/cpan/perls/perl_5.8.9_default/lib/site_perl/5.8.9
    .