Mojo-Promise-Limitter v0.001 Perl 5 v5.26.3 x86_64-linux-thread-multi

Status
Pass
From
Andreas J. K├Ânig (ANDK)
Dist
Mojo-Promise-Limitter v0.001
Platform
Perl 5 v5.26.3 x86_64-linux-thread-multi
Date
2020-05-07T02:41:31
ID
42734c8e-900c-11ea-820f-d8177fb42a2f
This distribution has been tested as part of the CPAN Testers
project, supporting the Perl programming language.  See
http://wiki.cpantesters.org/ for more information or email
questions to cpan-testers-discuss@perl.org


--
Dear Shoichi Kaji,

This is a computer-generated report for Mojo-Promise-Limitter-0.001
on perl 5.26.3, created by CPAN-Reporter-1.2018.

Thank you for uploading your work to CPAN.  Congratulations!
All tests were successful.

Sections of this report:

    * Tester comments
    * Program output
    * Prerequisites
    * Environment and other context

------------------------------
TESTER COMMENTS
------------------------------

Additional comments from tester:

this report is from an automated smoke testing program
and was not reviewed by a human for accuracy

------------------------------
PROGRAM OUTPUT
------------------------------

Output from './Build test':

t/00_use.t ............. ok
t/01_basic.t ........... ok
t/02_basic.t ........... ok
t/author-pod-syntax.t .. skipped: these tests are for testing by the author
All tests successful.
Files=4, Tests=7,  2 wallclock secs ( 0.01 usr  0.04 sys +  0.59 cusr  0.16 csys =  0.80 CPU)
Result: PASS

------------------------------
PREREQUISITES
------------------------------

Prerequisite modules loaded:

requires:

    Module              Need    Have    
    ------------------- ------- --------
    Mojolicious         8.42    8.42    
    perl                v5.10.1 5.026003

configure_requires:

    Module              Need    Have    
    ------------------- ------- --------
    Module::Build::Tiny 0.034   0.039   


------------------------------
ENVIRONMENT AND OTHER CONTEXT
------------------------------

Environment variables:

    AUTOMATED_TESTING = 1
    LANG = C
    PATH = /home/sand/bin:/usr/local/bin:/usr/bin:/bin:/usr/games:/usr/local/perl/bin:/usr/X11/bin:/sbin:/usr/sbin
    PERL5LIB = /tmp/loop_over_bdir-31753-FbStwB/Mojolicious-8.42-0/blib/arch:/tmp/loop_over_bdir-31753-FbStwB/Mojolicious-8.42-0/blib/lib:/tmp/loop_over_bdir-31753-FbStwB/Module-Build-Tiny-0.039-0/blib/arch:/tmp/loop_over_bdir-31753-FbStwB/Module-Build-Tiny-0.039-0/blib/lib:/tmp/loop_over_bdir-31753-FbStwB/ExtUtils-InstallPaths-0.012-0/blib/arch:/tmp/loop_over_bdir-31753-FbStwB/ExtUtils-InstallPaths-0.012-0/blib/lib:/tmp/loop_over_bdir-31753-FbStwB/ExtUtils-Helpers-0.026-0/blib/arch:/tmp/loop_over_bdir-31753-FbStwB/ExtUtils-Helpers-0.026-0/blib/lib:/tmp/loop_over_bdir-31753-FbStwB/ExtUtils-Config-0.008-0/blib/arch:/tmp/loop_over_bdir-31753-FbStwB/ExtUtils-Config-0.008-0/blib/lib
    PERL5OPT = 
    PERL5_CPANPLUS_IS_RUNNING = 29016
    PERL5_CPAN_IS_RUNNING = 29016
    PERL_CANARY_STABILITY_NOPROMPT = 1
    PERL_MM_USE_DEFAULT = 1
    PERL_USE_UNSAFE_INC = 1
    SHELL = /usr/bin/zsh
    TERM = screen

Perl special variables (and OS-specific diagnostics, for MSWin32):

    $^X = /home/sand/src/perl/repoperls/installed-perls/host/k93buster/v5.26.3/ba24/bin/perl
    $UID/$EUID = 1005 / 1005
    $GID = 1005 1005
    $EGID = 1005 1005

Perl module toolchain versions installed:

    Module              Have      
    ------------------- ----------
    CPAN                2.27      
    CPAN::Meta          2.150010  
    Cwd                 3.75      
    ExtUtils::CBuilder  0.280231  
    ExtUtils::Command   7.42      
    ExtUtils::Install   2.06      
    ExtUtils::MakeMaker 7.42      
    ExtUtils::Manifest  1.70      
    ExtUtils::ParseXS   3.34      
    File::Spec          3.75      
    JSON                4.02      
    JSON::PP            2.27400_02
    Module::Build       0.4229    
    Module::Signature   0.83      
    Parse::CPAN::Meta   2.150010  
    Test::Harness       3.42      
    Test::More          1.302170  
    YAML                1.29      
    YAML::Syck          1.31      
    version             0.9924    


--

Summary of my perl5 (revision 5 version 26 subversion 3) configuration:
  Derived from: 92583df5dc9b9edbcd4a9649f753e180b9729590
  Platform:
    osname=linux
    osvers=4.14.0-3-amd64
    archname=x86_64-linux-thread-multi
    uname='linux k93buster 4.14.0-3-amd64 #1 smp debian 4.14.12-2 (2018-01-06) x86_64 gnulinux '
    config_args='-Dprefix=/home/sand/src/perl/repoperls/installed-perls/host/k93buster/v5.26.3/ba24 -Dmyhostname=k93buster -Dinstallusrbinperl=n -Uversiononly -Dusedevel -des -Ui_db -Dlibswanted=cl pthread socket inet nsl gdbm dbm malloc dl ld sun m crypt sec util c cposix posix ucb BSD gdbm_compat -Duseithreads -Uuselongdouble -DEBUGGING=-g'
    hint=recommended
    useposix=true
    d_sigaction=define
    useithreads=define
    usemultiplicity=define
    use64bitint=define
    use64bitall=define
    uselongdouble=undef
    usemymalloc=n
    default_inc_excludes_dot=define
    bincompat5005=undef
  Compiler:
    cc='cc'
    ccflags ='-D_REENTRANT -D_GNU_SOURCE -fwrapv -fno-strict-aliasing -pipe -fstack-protector-strong -I/usr/local/include -D_LARGEFILE_SOURCE -D_FILE_OFFSET_BITS=64'
    optimize='-O2 -g'
    cppflags='-D_REENTRANT -D_GNU_SOURCE -fwrapv -fno-strict-aliasing -pipe -fstack-protector-strong -I/usr/local/include'
    ccversion=''
    gccversion='8.3.0'
    gccosandvers=''
    intsize=4
    longsize=8
    ptrsize=8
    doublesize=8
    byteorder=12345678
    doublekind=3
    d_longlong=define
    longlongsize=8
    d_longdbl=define
    longdblsize=16
    longdblkind=3
    ivtype='long'
    ivsize=8
    nvtype='double'
    nvsize=8
    Off_t='off_t'
    lseeksize=8
    alignbytes=8
    prototype=define
  Linker and Libraries:
    ld='cc'
    ldflags =' -fstack-protector-strong -L/usr/local/lib'
    libpth=/usr/local/lib /usr/lib/gcc/x86_64-linux-gnu/8/include-fixed /usr/include/x86_64-linux-gnu /usr/lib /lib/x86_64-linux-gnu /lib/../lib /usr/lib/x86_64-linux-gnu /usr/lib/../lib /lib
    libs=-lpthread -lnsl -ldl -lm -lcrypt -lutil -lc
    perllibs=-lpthread -lnsl -ldl -lm -lcrypt -lutil -lc
    libc=libc-2.28.so
    so=so
    useshrplib=false
    libperl=libperl.a
    gnulibc_version='2.28'
  Dynamic Linking:
    dlsrc=dl_dlopen.xs
    dlext=so
    d_dlsymun=undef
    ccdlflags='-Wl,-E'
    cccdlflags='-fPIC'
    lddlflags='-shared -O2 -g -L/usr/local/lib -fstack-protector-strong'


Characteristics of this binary (from libperl): 
  Compile-time options:
    HAS_TIMES
    MULTIPLICITY
    PERLIO_LAYERS
    PERL_COPY_ON_WRITE
    PERL_DONT_CREATE_GVSV
    PERL_IMPLICIT_CONTEXT
    PERL_MALLOC_WRAP
    PERL_OP_PARENT
    PERL_PRESERVE_IVUV
    PERL_USE_DEVEL
    USE_64_BIT_ALL
    USE_64_BIT_INT
    USE_ITHREADS
    USE_LARGE_FILES
    USE_LOCALE
    USE_LOCALE_COLLATE
    USE_LOCALE_CTYPE
    USE_LOCALE_NUMERIC
    USE_LOCALE_TIME
    USE_PERLIO
    USE_PERL_ATOF
    USE_REENTRANT_API
  Locally applied patches:
    uncommitted-changes
  Built under linux
  Compiled at Dec 25 2019 14:04:18
  %ENV:
    PERL5LIB="/tmp/loop_over_bdir-31753-FbStwB/Mojolicious-8.42-0/blib/arch:/tmp/loop_over_bdir-31753-FbStwB/Mojolicious-8.42-0/blib/lib:/tmp/loop_over_bdir-31753-FbStwB/Module-Build-Tiny-0.039-0/blib/arch:/tmp/loop_over_bdir-31753-FbStwB/Module-Build-Tiny-0.039-0/blib/lib:/tmp/loop_over_bdir-31753-FbStwB/ExtUtils-InstallPaths-0.012-0/blib/arch:/tmp/loop_over_bdir-31753-FbStwB/ExtUtils-InstallPaths-0.012-0/blib/lib:/tmp/loop_over_bdir-31753-FbStwB/ExtUtils-Helpers-0.026-0/blib/arch:/tmp/loop_over_bdir-31753-FbStwB/ExtUtils-Helpers-0.026-0/blib/lib:/tmp/loop_over_bdir-31753-FbStwB/ExtUtils-Config-0.008-0/blib/arch:/tmp/loop_over_bdir-31753-FbStwB/ExtUtils-Config-0.008-0/blib/lib"
    PERL5OPT=""
    PERL5_CPANPLUS_IS_RUNNING="29016"
    PERL5_CPAN_IS_RUNNING="29016"
    PERL_CANARY_STABILITY_NOPROMPT="1"
    PERL_MM_USE_DEFAULT="1"
    PERL_USE_UNSAFE_INC="1"
  @INC:
    /tmp/loop_over_bdir-31753-FbStwB/Mojolicious-8.42-0/blib/arch
    /tmp/loop_over_bdir-31753-FbStwB/Mojolicious-8.42-0/blib/lib
    /tmp/loop_over_bdir-31753-FbStwB/Module-Build-Tiny-0.039-0/blib/arch
    /tmp/loop_over_bdir-31753-FbStwB/Module-Build-Tiny-0.039-0/blib/lib
    /tmp/loop_over_bdir-31753-FbStwB/ExtUtils-InstallPaths-0.012-0/blib/arch
    /tmp/loop_over_bdir-31753-FbStwB/ExtUtils-InstallPaths-0.012-0/blib/lib
    /tmp/loop_over_bdir-31753-FbStwB/ExtUtils-Helpers-0.026-0/blib/arch
    /tmp/loop_over_bdir-31753-FbStwB/ExtUtils-Helpers-0.026-0/blib/lib
    /tmp/loop_over_bdir-31753-FbStwB/ExtUtils-Config-0.008-0/blib/arch
    /tmp/loop_over_bdir-31753-FbStwB/ExtUtils-Config-0.008-0/blib/lib
    /home/sand/src/perl/repoperls/installed-perls/host/k93buster/v5.26.3/ba24/lib/site_perl/5.26.3/x86_64-linux-thread-multi
    /home/sand/src/perl/repoperls/installed-perls/host/k93buster/v5.26.3/ba24/lib/site_perl/5.26.3
    /home/sand/src/perl/repoperls/installed-perls/host/k93buster/v5.26.3/ba24/lib/5.26.3/x86_64-linux-thread-multi
    /home/sand/src/perl/repoperls/installed-perls/host/k93buster/v5.26.3/ba24/lib/5.26.3
    .