Test-HadoopSingleNode v0.02_04 Perl 5 v5.18.0 x86_64-linux-ld

Status
Pass
From
Andreas J. K├Ânig (ANDK)
Dist
Test-HadoopSingleNode v0.02_04
Platform
Perl 5 v5.18.0 x86_64-linux-ld
Date
2017-12-17T03:35:00
ID
4288860c-e2db-11e7-ad08-06301b9bfa2c
This distribution has been tested as part of the CPAN Testers
project, supporting the Perl programming language.  See
http://wiki.cpantesters.org/ for more information or email
questions to cpan-testers-discuss@perl.org


--
Dear Yohei Yamamoto,

This is a computer-generated report for Test-HadoopSingleNode-0.02_04
on perl 5.18.0, created by CPAN-Reporter-1.2018.

Thank you for uploading your work to CPAN.  Congratulations!
All tests were successful.

Sections of this report:

    * Tester comments
    * Program output
    * Prerequisites
    * Environment and other context

------------------------------
TESTER COMMENTS
------------------------------

Additional comments from tester:

this report is from an automated smoke testing program
and was not reviewed by a human for accuracy

------------------------------
PROGRAM OUTPUT
------------------------------

Output from '/usr/bin/make test':

PERL_DL_NONLAZY=1 "/home/sand/src/perl/repoperls/installed-perls/host/k93msid/v5.18.0/2d7c/bin/perl" "-MExtUtils::Command::MM" "-MTest::Harness" "-e" "undef *Test::Harness::Switches; test_harness(0, 'inc', 'blib/lib', 'blib/arch')" t/*.t
t/00_compile.t .... ok
t/03-not-found.t .. ok
t/10_basic.t ...... skipped: not found hadoop bin
t/11_cmd.t ........ skipped: not found hadoop bin
All tests successful.
Files=4, Tests=2,  4 wallclock secs ( 0.03 usr  0.01 sys +  0.49 cusr  0.16 csys =  0.69 CPU)
Result: PASS

------------------------------
PREREQUISITES
------------------------------

Prerequisite modules loaded:

requires:

    Module              Need  Have    
    ------------------- ----- --------
    Carp                0     1.38    
    Data::Dumper        0     2.161   
    Data::Rmap          0     0.65    
    File::Copy          0     2.26    
    File::Temp          0     0.2304  
    File::Which         0     1.22    
    IO::Handle          0     1.34    
    IO::Select          0     1.21    
    IPC::Open3          0     1.13    
    IPC::Open3::Simple  0     0.04    
    IPC::Run            0     0.96    
    Path::Class         0     0.37    
    perl                5.008 5.018000
    Proc::Guard         0     0.07    
    Symbol              0     1.07    
    Test::TCP           0     2.19    
    XML::Simple         0     2.24    

build_requires:

    Module              Need  Have    
    ------------------- ----- --------
    ExtUtils::MakeMaker 6.42  7.30    
    Path::Class         0     0.37    
    Test::More          0     1.302120

configure_requires:

    Module              Need  Have    
    ------------------- ----- --------
    ExtUtils::MakeMaker 6.42  7.30    


------------------------------
ENVIRONMENT AND OTHER CONTEXT
------------------------------

Environment variables:

    AUTOMATED_TESTING = 1
    LANG = en_US.UTF-8
    PATH = /home/sand/bin:/usr/local/bin:/usr/bin:/bin:/usr/games:/usr/local/perl/bin:/usr/X11/bin:/sbin:/usr/sbin
    PERL5LIB = /tmp/loop_over_bdir-29780-scrPyG/Proc-Guard-0.07-0/blib/arch:/tmp/loop_over_bdir-29780-scrPyG/Proc-Guard-0.07-0/blib/lib:/tmp/loop_over_bdir-29780-scrPyG/IPC-Open3-Simple-0.04-0/blib/arch:/tmp/loop_over_bdir-29780-scrPyG/IPC-Open3-Simple-0.04-0/blib/lib:/tmp/loop_over_bdir-29780-scrPyG/Data-Rmap-0.65-0/blib/arch:/tmp/loop_over_bdir-29780-scrPyG/Data-Rmap-0.65-0/blib/lib
    PERL5OPT = 
    PERL5_CPANPLUS_IS_RUNNING = 29808
    PERL5_CPAN_IS_RUNNING = 29808
    PERL5_CPAN_IS_RUNNING_IN_RECURSION = 22402,29808
    PERL_CANARY_STABILITY_NOPROMPT = 1
    PERL_MM_USE_DEFAULT = 1
    PERL_USE_UNSAFE_INC = 1
    SHELL = /usr/bin/zsh
    TERM = screen

Perl special variables (and OS-specific diagnostics, for MSWin32):

    $^X = /home/sand/src/perl/repoperls/installed-perls/host/k93msid/v5.18.0/2d7c/bin/perl
    $UID/$EUID = 1005 / 1005
    $GID = 1005 1005
    $EGID = 1005 1005

Perl module toolchain versions installed:

    Module              Have    
    ------------------- --------
    CPAN                2.20    
    CPAN::Meta          2.150010
    Cwd                 3.62    
    ExtUtils::CBuilder  0.280226
    ExtUtils::Command   7.30    
    ExtUtils::Install   2.06    
    ExtUtils::MakeMaker 7.30    
    ExtUtils::Manifest  1.70    
    ExtUtils::ParseXS   3.35    
    File::Spec          3.62    
    JSON                2.97000 
    JSON::PP            2.97000 
    Module::Build       0.42_26 
    Module::Signature   0.81    
    Parse::CPAN::Meta   2.150010
    Test::Harness       3.39    
    Test::More          1.302120
    YAML                1.24    
    YAML::Syck          1.30    
    version             0.9918  


--

Summary of my perl5 (revision 5 version 18 subversion 0) configuration:
  Derived from: a9acda3b5f74585852a57b51b724804ac586cb0b
  Platform:
    osname=linux, osvers=4.12.0-2-amd64, archname=x86_64-linux-ld
    uname='linux k93msid 4.12.0-2-amd64 #1 smp debian 4.12.13-1 (2017-09-19) x86_64 gnulinux '
    config_args='-Dprefix=/home/sand/src/perl/repoperls/installed-perls/host/k93msid/v5.18.0/2d7c -Dmyhostname=k93msid -Dinstallusrbinperl=n -Uversiononly -Dusedevel -des -Ui_db -Dlibswanted=cl pthread socket inet nsl gdbm dbm malloc dl ld sun m crypt sec util c cposix posix ucb BSD gdbm_compat -Uuseithreads -Duselongdouble -DDEBUGGING=-g'
    hint=recommended, useposix=true, d_sigaction=define
    useithreads=undef, usemultiplicity=undef
    useperlio=define, d_sfio=undef, uselargefiles=define, usesocks=undef
    use64bitint=define, use64bitall=define, uselongdouble=define
    usemymalloc=n, bincompat5005=undef
  Compiler:
    cc='cc', ccflags ='-fno-strict-aliasing -pipe -fstack-protector -I/usr/local/include -D_LARGEFILE_SOURCE -D_FILE_OFFSET_BITS=64',
    optimize='-O2 -g',
    cppflags='-fno-strict-aliasing -pipe -fstack-protector -I/usr/local/include'
    ccversion='', gccversion='7.2.0', gccosandvers=''
    intsize=4, longsize=8, ptrsize=8, doublesize=8, byteorder=12345678
    d_longlong=define, longlongsize=8, d_longdbl=define, longdblsize=16
    ivtype='long', ivsize=8, nvtype='long double', nvsize=16, Off_t='off_t', lseeksize=8
    alignbytes=16, prototype=define
  Linker and Libraries:
    ld='cc', ldflags =' -fstack-protector -L/usr/local/lib'
    libpth=/usr/local/lib /lib/x86_64-linux-gnu /lib/../lib /usr/lib/x86_64-linux-gnu /usr/lib/../lib /lib /usr/lib
    libs=-lpthread -lnsl -ldl -lm -lcrypt -lutil -lc
    perllibs=-lpthread -lnsl -ldl -lm -lcrypt -lutil -lc
    libc=libc-2.24.so, so=so, useshrplib=false, libperl=libperl.a
    gnulibc_version='2.24'
  Dynamic Linking:
    dlsrc=dl_dlopen.xs, dlext=so, d_dlsymun=undef, ccdlflags='-Wl,-E'
    cccdlflags='-fPIC', lddlflags='-shared -O2 -g -L/usr/local/lib -fstack-protector'


Characteristics of this binary (from libperl): 
  Compile-time options: HAS_TIMES PERLIO_LAYERS PERL_DONT_CREATE_GVSV
                        PERL_HASH_FUNC_ONE_AT_A_TIME_HARD PERL_MALLOC_WRAP
                        PERL_PRESERVE_IVUV PERL_SAWAMPERSAND PERL_USE_DEVEL
                        USE_64_BIT_ALL USE_64_BIT_INT USE_LARGE_FILES
                        USE_LOCALE USE_LOCALE_COLLATE USE_LOCALE_CTYPE
                        USE_LOCALE_NUMERIC USE_LONG_DOUBLE USE_PERLIO
                        USE_PERL_ATOF
  Locally applied patches:
	uncommitted-changes
  Built under linux
  Compiled at Oct  4 2017 06:24:09
  %ENV:
    PERL5LIB="/tmp/loop_over_bdir-29780-scrPyG/Proc-Guard-0.07-0/blib/arch:/tmp/loop_over_bdir-29780-scrPyG/Proc-Guard-0.07-0/blib/lib:/tmp/loop_over_bdir-29780-scrPyG/IPC-Open3-Simple-0.04-0/blib/arch:/tmp/loop_over_bdir-29780-scrPyG/IPC-Open3-Simple-0.04-0/blib/lib:/tmp/loop_over_bdir-29780-scrPyG/Data-Rmap-0.65-0/blib/arch:/tmp/loop_over_bdir-29780-scrPyG/Data-Rmap-0.65-0/blib/lib"
    PERL5OPT=""
    PERL5_CPANPLUS_IS_RUNNING="29808"
    PERL5_CPAN_IS_RUNNING="29808"
    PERL5_CPAN_IS_RUNNING_IN_RECURSION="22402,29808"
    PERL_CANARY_STABILITY_NOPROMPT="1"
    PERL_MM_USE_DEFAULT="1"
    PERL_USE_UNSAFE_INC="1"
  @INC:
    /tmp/loop_over_bdir-29780-scrPyG/Proc-Guard-0.07-0/blib/arch
    /tmp/loop_over_bdir-29780-scrPyG/Proc-Guard-0.07-0/blib/lib
    /tmp/loop_over_bdir-29780-scrPyG/IPC-Open3-Simple-0.04-0/blib/arch
    /tmp/loop_over_bdir-29780-scrPyG/IPC-Open3-Simple-0.04-0/blib/lib
    /tmp/loop_over_bdir-29780-scrPyG/Data-Rmap-0.65-0/blib/arch
    /tmp/loop_over_bdir-29780-scrPyG/Data-Rmap-0.65-0/blib/lib
    /home/sand/src/perl/repoperls/installed-perls/host/k93msid/v5.18.0/2d7c/lib/site_perl/5.18.0/x86_64-linux-ld
    /home/sand/src/perl/repoperls/installed-perls/host/k93msid/v5.18.0/2d7c/lib/site_perl/5.18.0
    /home/sand/src/perl/repoperls/installed-perls/host/k93msid/v5.18.0/2d7c/lib/5.18.0/x86_64-linux-ld
    /home/sand/src/perl/repoperls/installed-perls/host/k93msid/v5.18.0/2d7c/lib/5.18.0
    .