Test-WWW-Mechanize-Catalyst v0.62 Perl 5 v5.40.1 armv6l-linux

Status
Pass
From
gregor herrmann
Dist
Test-WWW-Mechanize-Catalyst v0.62
Platform
Perl 5 v5.40.1 armv6l-linux
Date
2025-02-13 05:56:26
ID
435cbcb2-e9cf-11ef-9261-a7ac01ee5fc1
This distribution has been tested as part of the CPAN Testers
project, supporting the Perl programming language.  See
http://wiki.cpantesters.org/ for more information or email
questions to cpan-testers-discuss@perl.org


--
Dear MSTROUT,

This is a computer-generated report for Test-WWW-Mechanize-Catalyst-0.62
on perl 5.40.1, created by App::cpanminus::reporter 0.22 (1.7048).

Thank you for uploading your work to CPAN.  Congratulations!
All tests were successful.

Sections of this report:

    * Tester comments
    * Program output
    * Prerequisites
    * Environment and other context

------------------------------
TESTER COMMENTS
------------------------------

Additional comments from tester:

none provided

------------------------------
PROGRAM OUTPUT
------------------------------

Output from '':

Building and testing Test-WWW-Mechanize-Catalyst-0.62
cp lib/Test/WWW/Mechanize/Catalyst.pm blib/lib/Test/WWW/Mechanize/Catalyst.pm
Manifying 1 pod document
PERL_DL_NONLAZY=1 "/srv/smoker/perl5/perlbrew/perls/perl-5.40.1/bin/perl" "-MExtUtils::Command::MM" "-MTest::Harness" "-e" "undef *Test::Harness::Switches; test_harness(0, 'inc', 'blib/lib', 'blib/arch')" t/*.t
t/auth-test.t ........... ok
t/cookies.t ............. ok
t/decoded_content.t ..... ok
# 
# ###################################################################
# Starting an external Catalyst HTTP server on port 7357
# To change the port, please set the TWMC_TEST_PORT env variable.
# (The server will be automatically shut-down right after the tests).
# ###################################################################
HTTP::Server::PSGI: Accepting connections at http://0:7357/
t/multi_content_type.t .. ok
t/pod.t ................. ok
t/redirect.t ............ ok
t/simple.t .............. ok
t/two_app.t ............. ok
t/useragent.t ........... ok
t/utf8.t ................ ok
t/white_label.t ......... ok
All tests successful.
Files=11, Tests=109, 405 wallclock secs ( 1.12 usr  0.11 sys + 239.50 cusr  8.95 csys = 249.68 CPU)
Result: PASS

------------------------------
PREREQUISITES
------------------------------

Prerequisite modules loaded:

runtime:

    Module                                   Need     Have    
    ---------------------------------------- -------- --------
    Catalyst                                 5.90     5.90132 
    Class::Load                              0.19     0.25    
    LWP                                      5.816    6.77    
    Moose                                    0.67     2.2207  
    namespace::clean                         0.09     0.27    
    perl                                     5.008004 5.040001
    Test::WWW::Mechanize                     1.14     1.60    
    WWW::Mechanize                           1.54     2.19    

build:

    Module                                   Need     Have    
    ---------------------------------------- -------- --------
    Catalyst::Plugin::Session::State::Cookie 0        0.18    
    Catalyst::Plugin::Session::Store::Dummy  0        0.43    
    ExtUtils::MakeMaker                      6.59     7.70    
    Test::Exception                          0        0.43    
    Test::More                               0.88     1.302199
    Test::utf8                               0        1.03    

configure:

    Module                                   Need     Have    
    ---------------------------------------- -------- --------
    ExtUtils::MakeMaker                      0        7.70    


------------------------------
ENVIRONMENT AND OTHER CONTEXT
------------------------------

Environment variables:

    LC_CTYPE = de_AT.utf8
    PATH = /srv/smoker/bin:/usr/lib/ccache:/srv/smoker/perl5/perlbrew/bin:/srv/smoker/perl5/perlbrew/perls/perl-5.40.1/bin:/usr/local/bin:/usr/bin:/bin:/usr/local/games:/usr/games
    PERLBREW_HOME = /srv/smoker/.perlbrew
    PERLBREW_MANPATH = /srv/smoker/perl5/perlbrew/perls/perl-5.40.1/man
    PERLBREW_PATH = /srv/smoker/perl5/perlbrew/bin:/srv/smoker/perl5/perlbrew/perls/perl-5.40.1/bin
    PERLBREW_PERL = perl-5.40.1
    PERLBREW_ROOT = /srv/smoker/perl5/perlbrew
    PERLBREW_SHELLRC_VERSION = 1.01
    PERLBREW_VERSION = 1.01
    PERL_CPANM_OPT = --prompt  --configure-timeout 300 --build-timeout 18000 --test-timeout 18000 --from https://www.cpan.org
    PERL_TEST_TIME_OUT_FACTOR = 3
    SHELL = /bin/bash
    TERM = screen-256color

Perl special variables (and OS-specific diagnostics, for MSWin32):

    EGID = 65534 65534
    EUID = 1111
    EXECUTABLE_NAME = /srv/smoker/perl5/perlbrew/perls/perl-5.40.1/bin/perl
    GID = 65534 65534
    UID = 1111

Perl module toolchain versions installed:

    Module              Have    
    ------------------- --------
    CPAN                2.38    
    CPAN::Meta          2.150010
    Cwd                 3.91    
    ExtUtils::CBuilder  0.280240
    ExtUtils::Command   7.70    
    ExtUtils::Install   2.22    
    ExtUtils::MakeMaker 7.70    
    ExtUtils::Manifest  1.75    
    ExtUtils::ParseXS   3.51    
    File::Spec          3.91    
    JSON                4.10    
    JSON::PP            4.16    
    Module::Build       0.4234  
    Module::Signature   n/a     
    Parse::CPAN::Meta   2.150010
    Test::Harness       3.48    
    Test::More          1.302199
    YAML                1.31    
    YAML::Syck          1.34    
    version             0.9930  


--

Summary of my perl5 (revision 5 version 40 subversion 1) configuration:
   
  Platform:
    osname=linux
    osvers=5.10.103+
    archname=armv6l-linux
    uname='linux smoker 5.10.103+ #1529 tue mar 8 12:19:18 gmt 2022 armv6l gnulinux '
    config_args='-de -Dprefix=/srv/smoker/perl5/perlbrew/perls/perl-5.40.1 -Aeval:scriptdir=/srv/smoker/perl5/perlbrew/perls/perl-5.40.1/bin'
    hint=recommended
    useposix=true
    d_sigaction=define
    useithreads=undef
    usemultiplicity=undef
    use64bitint=undef
    use64bitall=undef
    uselongdouble=undef
    usemymalloc=n
    default_inc_excludes_dot=define
  Compiler:
    cc='cc'
    ccflags ='-fwrapv -fno-strict-aliasing -pipe -fstack-protector-strong -I/usr/local/include -D_LARGEFILE_SOURCE -D_FILE_OFFSET_BITS=64 -D_FORTIFY_SOURCE=2'
    optimize='-O2'
    cppflags='-fwrapv -fno-strict-aliasing -pipe -fstack-protector-strong -I/usr/local/include'
    ccversion=''
    gccversion='14.2.0'
    gccosandvers=''
    intsize=4
    longsize=4
    ptrsize=4
    doublesize=8
    byteorder=1234
    doublekind=3
    d_longlong=define
    longlongsize=8
    d_longdbl=define
    longdblsize=8
    longdblkind=0
    ivtype='long'
    ivsize=4
    nvtype='double'
    nvsize=8
    Off_t='off_t'
    lseeksize=8
    alignbytes=8
    prototype=define
  Linker and Libraries:
    ld='cc'
    ldflags =' -fstack-protector-strong -L/usr/local/lib'
    libpth=/usr/local/lib /usr/lib/arm-linux-gnueabihf /usr/lib
    libs=-lpthread -ldb -ldl -lm -lcrypt -lutil -lc
    perllibs=-lpthread -ldl -lm -lcrypt -lutil -lc
    libc=/lib/arm-linux-gnueabihf/libc.so.6
    so=so
    useshrplib=false
    libperl=libperl.a
    gnulibc_version='2.40'
  Dynamic Linking:
    dlsrc=dl_dlopen.xs
    dlext=so
    d_dlsymun=undef
    ccdlflags='-Wl,-E'
    cccdlflags='-fPIC'
    lddlflags='-shared -O2 -L/usr/local/lib -fstack-protector-strong'


Characteristics of this binary (from libperl): 
  Compile-time options:
    HAS_LONG_DOUBLE
    HAS_STRTOLD
    HAS_TIMES
    PERLIO_LAYERS
    PERL_COPY_ON_WRITE
    PERL_DONT_CREATE_GVSV
    PERL_HASH_FUNC_ZAPHOD32
    PERL_HASH_USE_SBOX32
    PERL_MALLOC_WRAP
    PERL_OP_PARENT
    PERL_PRESERVE_IVUV
    PERL_USE_SAFE_PUTENV
    USE_LARGE_FILES
    USE_LOCALE
    USE_LOCALE_COLLATE
    USE_LOCALE_CTYPE
    USE_LOCALE_NUMERIC
    USE_LOCALE_TIME
    USE_PERLIO
    USE_PERL_ATOF
  Built under linux
  Compiled at Jan 19 2025 17:55:30
  %ENV:
    PERLBREW_HOME="/srv/smoker/.perlbrew"
    PERLBREW_MANPATH="/srv/smoker/perl5/perlbrew/perls/perl-5.40.1/man"
    PERLBREW_PATH="/srv/smoker/perl5/perlbrew/bin:/srv/smoker/perl5/perlbrew/perls/perl-5.40.1/bin"
    PERLBREW_PERL="perl-5.40.1"
    PERLBREW_ROOT="/srv/smoker/perl5/perlbrew"
    PERLBREW_SHELLRC_VERSION="1.01"
    PERLBREW_VERSION="1.01"
    PERL_CPANM_OPT="--prompt  --configure-timeout 300 --build-timeout 18000 --test-timeout 18000 --from https://www.cpan.org"
    PERL_TEST_TIME_OUT_FACTOR="3"
  @INC:
    /srv/smoker/perl5/perlbrew/perls/perl-5.40.1/lib/site_perl/5.40.1/armv6l-linux
    /srv/smoker/perl5/perlbrew/perls/perl-5.40.1/lib/site_perl/5.40.1
    /srv/smoker/perl5/perlbrew/perls/perl-5.40.1/lib/5.40.1/armv6l-linux
    /srv/smoker/perl5/perlbrew/perls/perl-5.40.1/lib/5.40.1