Back
From: metabase:user:320bfe00-2aae-11df-837a-5e0a49663a4f
Subject: PASS MooseX-App-Cmd-0.27 v5.8.9 GNU/Linux
Date: 2013-12-31T14:38:57Z
This distribution has been tested as part of the CPAN Testers
project, supporting the Perl programming language. See
http://wiki.cpantesters.org/ for more information or email
questions to cpan-testers-discuss@perl.org
--
Dear Mark Gardner,
This is a computer-generated report for MooseX-App-Cmd-0.27
on perl 5.8.9, created by CPAN-Reporter-1.2010.
Thank you for uploading your work to CPAN. Congratulations!
All tests were successful.
Sections of this report:
* Tester comments
* Program output
* Prerequisites
* Environment and other context
------------------------------
TESTER COMMENTS
------------------------------
Additional comments from tester:
this report is from an automated smoke testing program
and was not reviewed by a human for accuracy
------------------------------
PROGRAM OUTPUT
------------------------------
Output from '/usr/bin/make test':
PERL_DL_NONLAZY=1 /home/sand/src/perl/repoperls/installed-perls/perl/perl-5.8.9/5da8/bin/perl "-MExtUtils::Command::MM" "-MTest::Harness" "-e" "undef *Test::Harness::Switches; test_harness(0, 'blib/lib', 'blib/arch')" t/*.t
t/00-compile.t .......................... ok
# Testing with Perl 5.008009, /home/sand/src/perl/repoperls/installed-perls/perl/perl-5.8.9/5da8/bin/perl
# Any::Moose version is 0.21
# App::Cmd version is 0.323
# App::Cmd::Command version is 0.323
# Carp version is 1.32
# Data::Dumper version is 2.145
# English version is 1.03
# ExtUtils::MakeMaker version is 6.8506
# File::Basename version is 2.77
# File::Spec version is 3.40
# Getopt::Long::Descriptive version is 0.096
# IO::Handle version is 1.28
# IPC::Open3 version is 1.03
# MouseX::Getopt version is 0.34
# Scalar::Util version is 1.35
# Test::More version is 1.001002
# Test::Output version is 1.02_01
# Test::use::ok version is 0.11
# YAML version is 0.88
# base version is 2.18
# lib version is 0.61
# namespace::clean version is 0.24
# strict version is 1.03
# warnings version is 1.05_01
t/000-report-versions.t ................. ok
t/author-critic.t ....................... skipped: these tests are for testing by the author
t/author-test-eol.t ..................... skipped: these tests are for testing by the author
t/basic.t ............................... ok
t/build_emulates_new.t .................. ok
t/configfile.t .......................... skipped: These tests require Mo(o|u)seX::ConfigFromFile and YAML
t/moose.t ............................... ok
t/mouse.t ............................... ok
t/release-changes_has_content.t ......... skipped: these tests are for release candidate testing
t/release-cpan-changes.t ................ skipped: these tests are for release candidate testing
t/release-dist-manifest.t ............... skipped: these tests are for release candidate testing
t/release-distmeta.t .................... skipped: these tests are for release candidate testing
t/release-kwalitee.t .................... skipped: these tests are for release candidate testing
t/release-localbrew-perl-latest-TEST.t .. skipped: these tests are for release candidate testing
t/release-meta-json.t ................... skipped: these tests are for release candidate testing
t/release-minimum-version.t ............. skipped: these tests are for release candidate testing
t/release-mojibake.t .................... skipped: these tests are for release candidate testing
t/release-no-tabs.t ..................... skipped: these tests are for release candidate testing
t/release-pod-coverage.t ................ skipped: these tests are for release candidate testing
t/release-pod-linkcheck.t ............... skipped: these tests are for release candidate testing
t/release-pod-syntax.t .................. skipped: these tests are for release candidate testing
t/release-portability.t ................. skipped: these tests are for release candidate testing
t/release-synopsis.t .................... skipped: these tests are for release candidate testing
t/release-test-version.t ................ skipped: these tests are for release candidate testing
t/release-unused-vars.t ................. skipped: these tests are for release candidate testing
All tests successful.
Files=26, Tests=44, 7 wallclock secs ( 0.05 usr 0.05 sys + 1.34 cusr 0.24 csys = 1.68 CPU)
Result: PASS
------------------------------
PREREQUISITES
------------------------------
Prerequisite modules loaded:
requires:
Module Need Have
------------------------- ----- --------
Any::Moose 0 0.21
App::Cmd 0.321 0.323
App::Cmd::Command 0 0.323
English 0 1.03
File::Basename 0 2.77
Getopt::Long::Descriptive 0.091 0.096
MouseX::Getopt 0 0.34
namespace::clean 0 0.24
Test::use::ok 0 0.11
build_requires:
Module Need Have
------------------------- ----- --------
base 0 2.18
Carp 0 1.32
Data::Dumper 0 2.145
ExtUtils::MakeMaker 0 6.85_06
File::Spec 0 3.40
IO::Handle 0 1.28
IPC::Open3 0 1.03
lib 0 0.61
Scalar::Util 0 1.35
strict 0 1.03
Test::More 0.94 1.001002
Test::Output 0 1.02_01
warnings 0 1.05_01
YAML 0 0.88
configure_requires:
Module Need Have
------------------------- ----- --------
ExtUtils::MakeMaker 6.30 6.85_06
------------------------------
ENVIRONMENT AND OTHER CONTEXT
------------------------------
Environment variables:
AUTOMATED_TESTING = 1
LANG = en_US.UTF-8
LANGUAGE = en_US:en
PATH = /usr/lib/ccache:/home/sand/bin:/usr/local/bin:/usr/bin:/bin:/usr/bin/X11:/usr/games:/usr/local/perl/bin:/usr/X11/bin:/sbin:/usr/sbin
PERL5LIB =
PERL5OPT =
PERL5_CPANPLUS_IS_RUNNING = 5927
PERL5_CPAN_IS_RUNNING = 5927
PERL_MM_USE_DEFAULT = 1
SHELL = /usr/bin/zsh
TERM = screen
Perl special variables (and OS-specific diagnostics, for MSWin32):
$^X = /home/sand/src/perl/repoperls/installed-perls/perl/perl-5.8.9/5da8/bin/perl
$UID/$EUID = 1005 / 1005
$GID = 1005 1005
$EGID = 1005 1005
Perl module toolchain versions installed:
Module Have
------------------- --------
CPAN 2.00
CPAN::Meta 2.133380
Cwd 3.40
ExtUtils::CBuilder 0.280212
ExtUtils::Command 1.16
ExtUtils::Install 1.54
ExtUtils::MakeMaker 6.85_06
ExtUtils::Manifest 1.60
ExtUtils::ParseXS 3.22
File::Spec 3.40
JSON 2.90
JSON::PP 2.27203
Module::Build 0.4203
Module::Signature 0.73
Parse::CPAN::Meta 1.4409
Test::Harness 3.30
Test::More 1.001002
YAML 0.88
YAML::Syck 1.27
version 0.88
--
Summary of my perl5 (revision 5 version 8 subversion 9) configuration:
Platform:
osname=linux, osvers=3.11-2-amd64, archname=x86_64-linux
uname='linux k83 3.11-2-amd64 #1 smp debian 3.11.10-1 (2013-12-04) x86_64 gnulinux '
config_args='-Dprefix=/home/sand/src/perl/repoperls/installed-perls/perl/perl-5.8.9/5da8 -Dmyhostname=k83 -Dinstallusrbinperl=n -Uversiononly -Dusedevel -des -Ui_db -Uuseithreads -Uuselongdouble -DDEBUGGING=-g -Dusedl -Ddlsrc=dl_dlopen.xs -Dlibs=-lnsl -ldb -ldl -lm -lcrypt -lutil -lc -Dlibpth=/usr/lib/x86_64-linux-gnu /usr/local/lib /lib /usr/lib'
hint=recommended, useposix=true, d_sigaction=define
usethreads=undef use5005threads=undef useithreads=undef usemultiplicity=undef
useperlio=define d_sfio=undef uselargefiles=define usesocks=undef
use64bitint=define use64bitall=define uselongdouble=undef
usemymalloc=n, bincompat5005=undef
Compiler:
cc='cc', ccflags ='-fno-strict-aliasing -pipe -I/usr/local/include -D_LARGEFILE_SOURCE -D_FILE_OFFSET_BITS=64',
optimize='-O2 -g',
cppflags='-fno-strict-aliasing -pipe -I/usr/local/include'
ccversion='', gccversion='4.8.2', gccosandvers=''
intsize=4, longsize=8, ptrsize=8, doublesize=8, byteorder=12345678
d_longlong=define, longlongsize=8, d_longdbl=define, longdblsize=16
ivtype='long', ivsize=8, nvtype='double', nvsize=8, Off_t='off_t', lseeksize=8
alignbytes=8, prototype=define
Linker and Libraries:
ld='cc', ldflags =' -L/usr/local/lib'
libpth=/usr/lib/x86_64-linux-gnu /usr/local/lib /lib /usr/lib
libs=-lnsl -ldb -ldl -lm -lcrypt -lutil -lc
perllibs=-lnsl -ldl -lm -lcrypt -lutil -lc
libc=, so=so, useshrplib=false, libperl=libperl.a
gnulibc_version='2.17'
Dynamic Linking:
dlsrc=dl_dlopen.xs, dlext=so, d_dlsymun=undef, ccdlflags='-Wl,-E'
cccdlflags='-fPIC', lddlflags='-shared -O2 -g -L/usr/local/lib'
Characteristics of this binary (from libperl):
Compile-time options: PERL_MALLOC_WRAP USE_64_BIT_ALL USE_64_BIT_INT
USE_FAST_STDIO USE_LARGE_FILES USE_PERLIO
Built under linux
Compiled at Dec 12 2013 08:54:22
%ENV:
PERL5LIB=""
PERL5OPT=""
PERL5_CPANPLUS_IS_RUNNING="5927"
PERL5_CPAN_IS_RUNNING="5927"
PERL_MM_USE_DEFAULT="1"
@INC:
/home/sand/src/perl/repoperls/installed-perls/perl/perl-5.8.9/5da8/lib/5.8.9/x86_64-linux
/home/sand/src/perl/repoperls/installed-perls/perl/perl-5.8.9/5da8/lib/5.8.9
/home/sand/src/perl/repoperls/installed-perls/perl/perl-5.8.9/5da8/lib/site_perl/5.8.9/x86_64-linux
/home/sand/src/perl/repoperls/installed-perls/perl/perl-5.8.9/5da8/lib/site_perl/5.8.9
.