Mojolicious v9.40 Perl 5 v5.24.0 x86_64-linux

Status
Pass
From
Slaven Rezić
Dist
Mojolicious v9.40
Platform
Perl 5 v5.24.0 x86_64-linux
Date
2025-05-12 13:23:24
ID
482ef20a-2f34-11f0-a0e2-f0e96d8775ea
This distribution has been tested as part of the CPAN Testers
project, supporting the Perl programming language.  See
http://wiki.cpantesters.org/ for more information or email
questions to cpan-testers-discuss@perl.org


--
Dear Sebastian Riedel,

This is a computer-generated report for Mojolicious-9.40
on perl 5.24.0, created by CPAN-Reporter-1.2018.

Thank you for uploading your work to CPAN.  Congratulations!
All tests were successful.

Sections of this report:

    * Tester comments
    * Program output
    * Prerequisites
    * Environment and other context

------------------------------
TESTER COMMENTS
------------------------------

Additional comments from tester:

none provided

------------------------------
PROGRAM OUTPUT
------------------------------

Output from '/usr/bin/make test':

PERL_DL_NONLAZY=1 "/opt/perl-5.24.0/bin/perl" "-MExtUtils::Command::MM" "-MTest::Harness" "-e" "undef *Test::Harness::Switches; test_harness(0, 'blib/lib', 'blib/arch')" t/*.t t/*/*.t
t/mojo/asset.t ............................. ok
t/mojo/base.t .............................. ok
t/mojo/base_util.t ......................... ok
t/mojo/bytestream.t ........................ ok
t/mojo/cache.t ............................. ok
t/mojo/cgi.t ............................... ok
t/mojo/collection.t ........................ ok
t/mojo/content.t ........................... ok
t/mojo/cookie.t ............................ ok
t/mojo/cookiejar.t ......................... ok
t/mojo/daemon.t ............................ ok
t/mojo/daemon_ipv6_tls.t ................... skipped: set TEST_IPV6 to enable this test (developer only!)
t/mojo/date.t .............................. ok
t/mojo/dom.t ............................... ok
t/mojo/dynamic_methods.t ................... ok
t/mojo/eventemitter.t ...................... ok
t/mojo/exception.t ......................... ok
t/mojo/file.t .............................. ok
t/mojo/file_download.t ..................... ok
t/mojo/headers.t ........................... ok
t/mojo/home.t .............................. ok
t/mojo/hypnotoad.t ......................... skipped: set TEST_HYPNOTOAD to enable this test (developer only!)
t/mojo/ioloop.t ............................ ok
t/mojo/ioloop_ipv6.t ....................... skipped: set TEST_IPV6 to enable this test (developer only!)
t/mojo/ioloop_tls.t ........................ skipped: set TEST_TLS to enable this test (developer only!)
t/mojo/json.t .............................. ok
t/mojo/json_pointer.t ...................... ok
t/mojo/json_xs.t ........................... skipped: Cpanel::JSON::XS 4.09+ required for this test!
t/mojo/loader.t ............................ ok
t/mojo/log.t ............................... ok
t/mojo/morbo.t ............................. skipped: set TEST_MORBO to enable this test (developer only!)
t/mojo/parameters.t ........................ ok
t/mojo/path.t .............................. ok
t/mojo/prefork.t ........................... skipped: set TEST_PREFORK to enable this test (developer only!)
t/mojo/promise.t ........................... ok
t/mojo/promise_async_await.t ............... skipped: set TEST_ASYNC_AWAIT to enable this test (developer only!)
t/mojo/proxy.t ............................. ok
t/mojo/psgi.t .............................. ok
t/mojo/reactor_detect.t .................... ok
t/mojo/reactor_ev.t ........................ skipped: set TEST_EV to enable this test (developer only!)
t/mojo/reactor_poll.t ...................... ok
t/mojo/request.t ........................... ok
t/mojo/request_cgi.t ....................... ok
t/mojo/response.t .......................... ok
t/mojo/roles.t ............................. ok
t/mojo/signatures.t ........................ ok
t/mojo/subprocess.t ........................ skipped: set TEST_SUBPROCESS to enable this test (developer only!)
t/mojo/subprocess_ev.t ..................... skipped: set TEST_SUBPROCESS to enable this test (developer only!)
t/mojo/template.t .......................... ok
t/mojo/tls.t ............................... skipped: set TEST_TLS to enable this test (developer only!)
t/mojo/transactor.t ........................ ok
t/mojo/url.t ............................... ok
t/mojo/user_agent.t ........................ ok
t/mojo/user_agent_online.t ................. skipped: set TEST_ONLINE to enable this test (developer only!)
t/mojo/user_agent_socks.t .................. skipped: set TEST_SOCKS to enable this test (developer only!)
t/mojo/user_agent_tls.t .................... skipped: set TEST_TLS to enable this test (developer only!)
t/mojo/user_agent_unix.t ................... skipped: set TEST_UNIX to enable this test (developer only!)
t/mojo/util.t .............................. ok
t/mojo/websocket.t ......................... ok
t/mojo/websocket_frames.t .................. ok
t/mojo/websocket_proxy.t ................... ok
t/mojo/websocket_proxy_tls.t ............... skipped: set TEST_TLS to enable this test (developer only!)
t/mojolicious/app.t ........................ ok
t/mojolicious/charset_lite_app.t ........... ok
t/mojolicious/command.t .................... ok
t/mojolicious/commands.t ................... ok
t/mojolicious/dispatch.t ................... ok
t/mojolicious/dispatcher_lite_app.t ........ ok
t/mojolicious/embedded_app.t ............... ok
t/mojolicious/embedded_lite_app.t .......... ok
t/mojolicious/exception_lite_app.t ......... ok
t/mojolicious/external_app.t ............... ok
t/mojolicious/external_lite_app.t .......... ok
t/mojolicious/group_lite_app.t ............. ok
t/mojolicious/json_config_lite_app.t ....... ok
t/mojolicious/json_config_mode_lite_app.t .. ok
t/mojolicious/layouted_lite_app.t .......... ok
t/mojolicious/lite_app.t ................... ok
t/mojolicious/log_lite_app.t ............... ok
t/mojolicious/longpolling_lite_app.t ....... ok
t/mojolicious/multipath_lite_app.t ......... ok
t/mojolicious/ojo.t ........................ ok
t/mojolicious/ojo_signatures.t ............. ok
t/mojolicious/pattern.t .................... ok
t/mojolicious/production_app.t ............. ok
t/mojolicious/proxy_app.t .................. ok
t/mojolicious/rebased_lite_app.t ........... ok
t/mojolicious/renderer.t ................... ok
t/mojolicious/restful_lite_app.t ........... ok
t/mojolicious/routes.t ..................... ok
t/mojolicious/session_lite_app.t ........... ok
t/mojolicious/signatures_lite_app.t ........ ok
t/mojolicious/static_lite_app.t ............ ok
t/mojolicious/static_prefix_lite_app.t ..... ok
t/mojolicious/tag_helper_lite_app.t ........ ok
t/mojolicious/testing_app.t ................ ok
t/mojolicious/tls_lite_app.t ............... skipped: set TEST_TLS to enable this test (developer only!)
t/mojolicious/twinkle_lite_app.t ........... ok
t/mojolicious/types.t ...................... ok
t/mojolicious/upload_lite_app.t ............ ok
t/mojolicious/upload_stream_lite_app.t ..... ok
t/mojolicious/validation_lite_app.t ........ ok
t/mojolicious/websocket_lite_app.t ......... ok
t/mojolicious/yaml_config_lite_app.t ....... ok
t/pod.t .................................... skipped: set TEST_POD to enable this test (developer only!)
t/pod_coverage.t ........................... skipped: set TEST_POD to enable this test (developer only!)
t/test/mojo.t .............................. ok
All tests successful.
Files=107, Tests=4286, 38 wallclock secs ( 0.46 usr  0.10 sys + 25.42 cusr  2.62 csys = 28.60 CPU)
Result: PASS

------------------------------
PREREQUISITES
------------------------------

Prerequisite modules loaded:

requires:

    Module              Need  Have    
    ------------------- ----- --------
    IO::Socket::IP      0.37  0.38    
    perl                5.016 5.024000
    Sub::Util           1.41  1.45    

build_requires:

    Module              Need  Have    
    ------------------- ----- --------
    ExtUtils::MakeMaker 0     7.24    

configure_requires:

    Module              Need  Have    
    ------------------- ----- --------
    ExtUtils::MakeMaker 0     7.24    


------------------------------
ENVIRONMENT AND OTHER CONTEXT
------------------------------

Environment variables:

    LANG = en_US.UTF-8
    LANGUAGE = en_US:en
    LC_ALL = en_US.UTF-8
    PATH = /usr/local/bin:/usr/bin:/bin:/usr/local/sbin:/usr/sbin:/sbin:/home/cpansand/bin/linux-gnu:/home/cpansand/bin/sh:/home/cpansand/bin:/usr/games:/home/cpansand/devel:/home/eserte/src/srezic-misc/scripts
    PERL5LIB = 
    PERL5OPT = 
    PERL5_CPANPLUS_IS_RUNNING = 347
    PERL5_CPAN_IS_RUNNING = 347
    PERL5_CPAN_IS_RUNNING_IN_RECURSION = 31020,347
    PERLDOC = -MPod::Perldoc::ToTextOverstrike
    PERL_BATCH = yes
    PERL_CANARY_STABILITY_NOPROMPT = 1
    PERL_CPAN_REPORTER_CONFIG = /var/tmp/cpansmoker-1023/2025051215/cpanreporter_000_config.ini
    PERL_EXTUTILS_AUTOINSTALL = --defaultdeps
    PERL_USE_UNSAFE_INC = 1
    SHELL = /bin/zsh
    TERM = screen
    TMPDIR = /var/tmp/cpansmoker-1023/2025051215

Perl special variables (and OS-specific diagnostics, for MSWin32):

    $^X = /opt/perl-5.24.0/bin/perl
    $UID/$EUID = 1023 / 1023
    $GID = 1023 1023
    $EGID = 1023 1023

Perl module toolchain versions installed:

    Module              Have    
    ------------------- --------
    CPAN                2.28    
    CPAN::Meta          2.150010
    Cwd                 3.63    
    ExtUtils::CBuilder  0.280225
    ExtUtils::Command   7.24    
    ExtUtils::Install   2.04    
    ExtUtils::MakeMaker 7.24    
    ExtUtils::Manifest  1.70    
    ExtUtils::ParseXS   3.31    
    File::Spec          3.63    
    JSON                2.90    
    JSON::PP            2.27300 
    Module::Build       0.4220  
    Module::Signature   0.80    
    Parse::CPAN::Meta   2.150010
    Test::Harness       3.36    
    Test::More          1.302052
    YAML                1.17    
    YAML::Syck          1.29    
    version             0.9916  


--

Summary of my perl5 (revision 5 version 24 subversion 0) configuration:
   
  Platform:
    osname=linux, osvers=3.2.0-4-amd64, archname=x86_64-linux
    uname='linux cvrsnica-wheezy 3.2.0-4-amd64 #1 smp debian 3.2.54-2 x86_64 gnulinux '
    config_args='-ds -e -Dprefix=/opt/perl-5.24.0 -Dcf_email=srezic@cpan.org'
    hint=recommended, useposix=true, d_sigaction=define
    useithreads=undef, usemultiplicity=undef
    use64bitint=define, use64bitall=define, uselongdouble=undef
    usemymalloc=n, bincompat5005=undef
  Compiler:
    cc='cc', ccflags ='-fwrapv -fno-strict-aliasing -pipe -fstack-protector -I/usr/local/include -D_LARGEFILE_SOURCE -D_FILE_OFFSET_BITS=64 -D_FORTIFY_SOURCE=2',
    optimize='-O2',
    cppflags='-fwrapv -fno-strict-aliasing -pipe -fstack-protector -I/usr/local/include'
    ccversion='', gccversion='4.7.2', gccosandvers=''
    intsize=4, longsize=8, ptrsize=8, doublesize=8, byteorder=12345678, doublekind=3
    d_longlong=define, longlongsize=8, d_longdbl=define, longdblsize=16, longdblkind=3
    ivtype='long', ivsize=8, nvtype='double', nvsize=8, Off_t='off_t', lseeksize=8
    alignbytes=8, prototype=define
  Linker and Libraries:
    ld='cc', ldflags =' -fstack-protector -L/usr/local/lib'
    libpth=/usr/local/lib /usr/lib/gcc/x86_64-linux-gnu/4.7/include-fixed /usr/include/x86_64-linux-gnu /usr/lib /lib/x86_64-linux-gnu /lib/../lib /usr/lib/x86_64-linux-gnu /usr/lib/../lib /lib
    libs=-lpthread -lnsl -ldb -ldl -lm -lcrypt -lutil -lc
    perllibs=-lpthread -lnsl -ldl -lm -lcrypt -lutil -lc
    libc=libc-2.13.so, so=so, useshrplib=false, libperl=libperl.a
    gnulibc_version='2.13'
  Dynamic Linking:
    dlsrc=dl_dlopen.xs, dlext=so, d_dlsymun=undef, ccdlflags='-Wl,-E'
    cccdlflags='-fPIC', lddlflags='-shared -O2 -L/usr/local/lib -fstack-protector'


Characteristics of this binary (from libperl): 
  Compile-time options: HAS_TIMES PERLIO_LAYERS PERL_COPY_ON_WRITE
                        PERL_DONT_CREATE_GVSV
                        PERL_HASH_FUNC_ONE_AT_A_TIME_HARD PERL_MALLOC_WRAP
                        PERL_PRESERVE_IVUV USE_64_BIT_ALL USE_64_BIT_INT
                        USE_LARGE_FILES USE_LOCALE USE_LOCALE_COLLATE
                        USE_LOCALE_CTYPE USE_LOCALE_NUMERIC USE_LOCALE_TIME
                        USE_PERLIO USE_PERL_ATOF
  Built under linux
  Compiled at May 30 2016 08:43:25
  %ENV:
    PERL5LIB=""
    PERL5OPT=""
    PERL5_CPANPLUS_IS_RUNNING="347"
    PERL5_CPAN_IS_RUNNING="347"
    PERL5_CPAN_IS_RUNNING_IN_RECURSION="31020,347"
    PERLDOC="-MPod::Perldoc::ToTextOverstrike"
    PERL_BATCH="yes"
    PERL_CANARY_STABILITY_NOPROMPT="1"
    PERL_CPAN_REPORTER_CONFIG="/var/tmp/cpansmoker-1023/2025051215/cpanreporter_000_config.ini"
    PERL_EXTUTILS_AUTOINSTALL="--defaultdeps"
    PERL_USE_UNSAFE_INC="1"
  @INC:
    /opt/perl-5.24.0/lib/site_perl/5.24.0/x86_64-linux
    /opt/perl-5.24.0/lib/site_perl/5.24.0
    /opt/perl-5.24.0/lib/5.24.0/x86_64-linux
    /opt/perl-5.24.0/lib/5.24.0
    .