Jifty-Plugin-Media v0.01 Perl 5 v5.12.1 i686-linux

Status
Pass
From
Graham Crookham (GRAHAMC)
Dist
Jifty-Plugin-Media v0.01
Platform
Perl 5 v5.12.1 i686-linux
Date
2010-07-29T13:22:11
ID
4b960092-9b14-11df-9281-77780e8d2b73
This distribution has been tested as part of the CPAN Testers
project, supporting the Perl programming language.  See
http://wiki.cpantesters.org/ for more information or email
questions to cpan-testers-discuss@perl.org


--
Dear Yves Agostini,

This is a computer-generated report for Jifty-Plugin-Media-0.01
on perl 5.12.1, created by CPAN-Reporter-1.18.

Thank you for uploading your work to CPAN.  Congratulations!
All tests were successful.

Sections of this report:

    * Tester comments
    * Program output
    * Prerequisites
    * Environment and other context

------------------------------
TESTER COMMENTS
------------------------------

Additional comments from tester:

this report is from an automated smoke testing program
and was not reviewed by a human for accuracy

------------------------------
PROGRAM OUTPUT
------------------------------

Output from 'make test':

PERL_DL_NONLAZY=1 /home/graham/perltest/perl5121/perl/bin/perl "-MExtUtils::Command::MM" "-e" "test_harness(0, 'inc', 'blib/lib', 'blib/arch')" t/*.t t/*/t/*.t
t/00-load.t ............. ok
t/00-main.t ............. ok
t/pod.t ................. ok
Use of uninitialized value in subroutine dereference at /home/graham/perltest/perl5121/perl/lib/site_perl/5.12.1/Jifty/View/Declare.pm line 49.
t/pod_coverage.t ........ ok
WARN - Name "Win32::Locale::Lexicon" used only once: possible typo at /home/graham/perltest/perl5121/perl/lib/5.12.1/I18N/LangTags/Detect.pm line 140.
Behavior 'merge_params' was already defined. Please take another name at /home/graham/perltest/perl5121/perl/lib/site_perl/5.12.1/Jifty/Param/Schema.pm line 205
Behavior 'merge_params' was already defined. Please take another name at /home/graham/perltest/perl5121/perl/lib/site_perl/5.12.1/Jifty/Param/Schema.pm line 205
Behavior 'merge_params' was already defined. Please take another name at /home/graham/perltest/perl5121/perl/lib/site_perl/5.12.1/Jifty/Param/Schema.pm line 205
Behavior 'merge_params' was already defined. Please take another name at /home/graham/perltest/perl5121/perl/lib/site_perl/5.12.1/Jifty/Param/Schema.pm line 205
Behavior 'merge_params' was already defined. Please take another name at /home/graham/perltest/perl5121/perl/lib/site_perl/5.12.1/Jifty/Param/Schema.pm line 205
Behavior 'merge_params' was already defined. Please take another name at /home/graham/perltest/perl5121/perl/lib/site_perl/5.12.1/Jifty/Param/Schema.pm line 205
Behavior 'merge_params' was already defined. Please take another name at /home/graham/perltest/perl5121/perl/lib/site_perl/5.12.1/Jifty/Param/Schema.pm line 205
Behavior 'merge_params' was already defined. Please take another name at /home/graham/perltest/perl5121/perl/lib/site_perl/5.12.1/Jifty/Param/Schema.pm line 205
Behavior 'merge_params' was already defined. Please take another name at /home/graham/perltest/perl5121/perl/lib/site_perl/5.12.1/Jifty/Param/Schema.pm line 205
Behavior 'merge_params' was already defined. Please take another name at /home/graham/perltest/perl5121/perl/lib/site_perl/5.12.1/Jifty/Param/Schema.pm line 205
Behavior 'merge_params' was already defined. Please take another name at /home/graham/perltest/perl5121/perl/lib/site_perl/5.12.1/Jifty/Param/Schema.pm line 205
Behavior 'merge_params' was already defined. Please take another name at /home/graham/perltest/perl5121/perl/lib/site_perl/5.12.1/Jifty/Param/Schema.pm line 205
# Uncaught warning: Can't find region fmediadir
# Uncaught warning: Can't find region fmediadir
# Uncaught warning: Can't find region fmediadir
# Uncaught warning: Can't find region fmediadir
# Uncaught warning: Can't find region fmediadir
# Uncaught warning: Can't find region fmediadir
# Uncaught warning: Can't find region fmediadir
# Uncaught warning: Can't find region fmediadir
t/TestApp/t/00-media.t .. ok
All tests successful.
Files=5, Tests=21,  7 wallclock secs ( 0.08 usr  0.02 sys +  4.06 cusr  0.46 csys =  4.62 CPU)
Result: PASS

------------------------------
PREREQUISITES
------------------------------

Prerequisite modules loaded:

requires:

    Module              Need    Have   
    ------------------- ------- -------
    ExtUtils::MakeMaker 6.42    6.56   
    File::Basename      0       2.78   
    File::Path          0       2.08_01
    Jifty               0.91117 0.91117
    Text::Unaccent      0       1.08   

configure_requires:

    Module              Need    Have   
    ------------------- ------- -------
    ExtUtils::MakeMaker 6.42    6.56   


------------------------------
ENVIRONMENT AND OTHER CONTEXT
------------------------------

Environment variables:

    AUTOMATED_TESTING = 1
    LANG = C
    PATH = /home/graham/perltest/perl5121/perl/bin:/bin:/usr/bin:/sbin:/usr/sbin:/opt/java/bin:/opt/java/jre/bin:/opt/kde/bin:/usr/bin/perlbin/site:/usr/bin/perlbin/vendor:/usr/bin/perlbin/core:/opt/qt/bin
    PERL5LIB = 
    PERL5OPT = 
    PERL5_CPANPLUS_IS_RUNNING = 30371
    PERL5_CPAN_IS_RUNNING = 30371
    PERL5_CPAN_IS_RUNNING_IN_RECURSION = 3792,30371
    PERL_CR_SMOKER_CURRENT = Jifty-Plugin-Media-0.01
    PERL_EXTUTILS_AUTOINSTALL = --defaultdeps
    PERL_MM_USE_DEFAULT = 1
    SHELL = /bin/bash
    TERM = xterm

Perl special variables (and OS-specific diagnostics, for MSWin32):

    $^X = /home/graham/perltest/perl5121/perl/bin/perl
    $UID/$EUID = 1000 / 1000
    $GID = 1000 7 10 91 92 93 95 98 100 108 1000 1001
    $EGID = 1000 7 10 91 92 93 95 98 100 108 1000 1001

Perl module toolchain versions installed:

    Module              Have   
    ------------------- -------
    CPAN                1.94_58
    Cwd                 3.31_02
    ExtUtils::CBuilder  0.27_05
    ExtUtils::Command   1.16   
    ExtUtils::Install   1.55   
    ExtUtils::MakeMaker 6.56   
    ExtUtils::Manifest  1.57   
    ExtUtils::ParseXS   2.2206 
    File::Spec          3.31_02
    Module::Build       0.36_13
    Module::Signature   0.64   
    Test::Harness       3.21   
    Test::More          0.95_02
    YAML                0.71   
    YAML::Syck          1.10_05
    version             0.82   


--

Summary of my perl5 (revision 5 version 12 subversion 1) configuration:
   
  Platform:
    osname=linux, osvers=2.6.33-arch, archname=i686-linux
    uname='linux lorant 2.6.33-arch #1 smp preempt thu may 13 12:06:25 cest 2010 i686 intel(r) pentium(r) 4 cpu 2.80ghz genuineintel gnulinux '
    config_args=''
    hint=recommended, useposix=true, d_sigaction=define
    useithreads=undef, usemultiplicity=undef
    useperlio=define, d_sfio=undef, uselargefiles=define, usesocks=undef
    use64bitint=undef, use64bitall=undef, uselongdouble=undef
    usemymalloc=n, bincompat5005=undef
  Compiler:
    cc='cc', ccflags ='-fno-strict-aliasing -pipe -fstack-protector -I/usr/local/include -D_LARGEFILE_SOURCE -D_FILE_OFFSET_BITS=64',
    optimize='-O2',
    cppflags='-fno-strict-aliasing -pipe -fstack-protector -I/usr/local/include'
    ccversion='', gccversion='4.5.0 20100520 (prerelease)', gccosandvers=''
    intsize=4, longsize=4, ptrsize=4, doublesize=8, byteorder=1234
    d_longlong=define, longlongsize=8, d_longdbl=define, longdblsize=12
    ivtype='long', ivsize=4, nvtype='double', nvsize=8, Off_t='off_t', lseeksize=8
    alignbytes=4, prototype=define
  Linker and Libraries:
    ld='cc', ldflags =' -fstack-protector -L/usr/local/lib'
    libpth=/usr/local/lib /lib /usr/lib
    libs=-lnsl -lgdbm -ldb -ldl -lm -lcrypt -lutil -lc -lgdbm_compat
    perllibs=-lnsl -ldl -lm -lcrypt -lutil -lc
    libc=/lib/libc-2.12.so, so=so, useshrplib=true, libperl=libperl.so
    gnulibc_version='2.12'
  Dynamic Linking:
    dlsrc=dl_dlopen.xs, dlext=so, d_dlsymun=undef, ccdlflags='-Wl,-E -Wl,-rpath,/home/graham/perltest/perl5121/perl/lib/5.12.1/i686-linux/CORE'
    cccdlflags='-fPIC', lddlflags='-shared -O2 -L/usr/local/lib -fstack-protector'


Characteristics of this binary (from libperl): 
  Compile-time options: PERL_DONT_CREATE_GVSV PERL_MALLOC_WRAP
                        USE_LARGE_FILES USE_PERLIO USE_PERL_ATOF
  Built under linux
  Compiled at Jul 20 2010 13:38:07
  %ENV:
    PERL5LIB=""
    PERL5OPT=""
    PERL5_CPANPLUS_IS_RUNNING="30371"
    PERL5_CPAN_IS_RUNNING="30371"
    PERL5_CPAN_IS_RUNNING_IN_RECURSION="3792,30371"
    PERL_CR_SMOKER_CURRENT="Jifty-Plugin-Media-0.01"
    PERL_EXTUTILS_AUTOINSTALL="--defaultdeps"
    PERL_MM_USE_DEFAULT="1"
  @INC:
    /home/graham/perltest/perl5121/perl/lib/site_perl/5.12.1/i686-linux
    /home/graham/perltest/perl5121/perl/lib/site_perl/5.12.1
    /home/graham/perltest/perl5121/perl/lib/5.12.1/i686-linux
    /home/graham/perltest/perl5121/perl/lib/5.12.1
    .