Text-Hyphen v0.3 Perl 5 v5.32.1 amd64-openbsd
- Status
- Pass
- From
- David Solimano
- Dist
-
Text-Hyphen v0.3
- Platform
- Perl 5 v5.32.1 amd64-openbsd
- Date
- 2022-12-10 05:27:12
- ID
- 4d0f0f82-784b-11ed-b9d4-4baf48d6f9cd
This distribution has been tested as part of the CPAN Testers
project, supporting the Perl programming language. See
http://wiki.cpantesters.org/ for more information or email
questions to cpan-testers-discuss@perl.org
--
Dear Alex Kapranoff,
This is a computer-generated report for Text-Hyphen-0.3
on perl 5.32.1, created by CPAN-Reporter-1.2011.
Thank you for uploading your work to CPAN. Congratulations!
All tests were successful.
Sections of this report:
* Tester comments
* Program output
* Prerequisites
* Environment and other context
------------------------------
TESTER COMMENTS
------------------------------
Additional comments from tester:
this report is from an automated smoke testing program
and was not reviewed by a human for accuracy
------------------------------
PROGRAM OUTPUT
------------------------------
Output from './Build test':
# Testing Text::Hyphen 0.3, Perl 5.032001, /usr/bin/perl
t/00-load.t ....... ok
t/01-enhyphen.t ... ok
t/02-contexts.t ... ok
t/pod-coverage.t .. skipped: Test::Pod::Coverage 1.08 required for testing POD coverage
t/pod.t ........... skipped: Test::Pod 1.22 required for testing POD
All tests successful.
Files=5, Tests=20, 1 wallclock secs ( 0.07 usr 0.04 sys + 1.04 cusr 0.21 csys = 1.36 CPU)
Result: PASS
------------------------------
PREREQUISITES
------------------------------
Prerequisite modules loaded:
requires:
Module Need Have
------------------- --------- --------
perl 5.008_001 5.032001
build_requires:
Module Need Have
------------------- --------- --------
Test::More 0 1.302191
configure_requires:
Module Need Have
------------------- --------- --------
Module::Build 0 0.4231
Module::Build::Tiny 0.035 0.039
perl 5.008_001 5.032001
------------------------------
ENVIRONMENT AND OTHER CONTEXT
------------------------------
Environment variables:
AUTOMATED_TESTING = 1
PATH = /home/perluser/bin:/bin:/sbin:/usr/bin:/usr/sbin:/usr/X11R6/bin:/usr/local/bin:/usr/local/sbin:/usr/games:.
PERL5LIB = /home/perluser/.cpan/build/YAML-Syck-1.34-4/blib/arch:/home/perluser/.cpan/build/YAML-Syck-1.34-4/blib/lib:/home/perluser/.cpan/build/Devel-Leak-0.03-4/blib/arch:/home/perluser/.cpan/build/Devel-Leak-0.03-4/blib/lib:/home/perluser/.cpan/build/Class-Accessor-0.51-1/blib/arch:/home/perluser/.cpan/build/Class-Accessor-0.51-1/blib/lib
PERL5OPT =
PERL5_CPANPLUS_IS_RUNNING = 86968
PERL5_CPAN_IS_RUNNING = 86968
PERL5_CPAN_IS_RUNNING_IN_RECURSION = 28769,86968
PERL_CR_SMOKER_CURRENT = Text-KnuthPlass-1.07
PERL_EXTUTILS_AUTOINSTALL = --defaultdeps
PERL_MM_USE_DEFAULT = 1
PERL_USE_UNSAFE_INC = 1
SHELL = /bin/ksh
TERM = screen
Perl special variables (and OS-specific diagnostics, for MSWin32):
$^X = /usr/bin/perl
$UID/$EUID = 1000 / 1000
$GID = 1000 1000
$EGID = 1000 1000
Perl module toolchain versions installed:
Module Have
------------------- --------
CPAN 2.27
CPAN::Meta 2.150010
Cwd 3.78
ExtUtils::CBuilder 0.280234
ExtUtils::Command 7.44
ExtUtils::Install 2.14
ExtUtils::MakeMaker 7.44
ExtUtils::Manifest 1.72
ExtUtils::ParseXS 3.40
File::Spec 3.78
JSON 2.90
JSON::PP 4.04
Module::Build 0.4231
Module::Signature n/a
Parse::CPAN::Meta 2.150010
Test::Harness 3.42
Test::More 1.302191
YAML 1.30
YAML::Syck 1.34
version 0.9924
--
Summary of my perl5 (revision 5 version 32 subversion 1) configuration:
Platform:
osname=openbsd
osvers=7.2
archname=amd64-openbsd
uname='openbsd'
config_args='-dse -Dopenbsd_distribution=defined -Dmksymlinks'
hint=recommended
useposix=true
d_sigaction=define
useithreads=undef
usemultiplicity=undef
use64bitint=define
use64bitall=define
uselongdouble=undef
usemymalloc=n
default_inc_excludes_dot=define
bincompat5005=undef
Compiler:
cc='cc'
ccflags ='-DNO_LOCALE_NUMERIC -DNO_LOCALE_COLLATE -fno-strict-aliasing -fno-delete-null-pointer-checks -pipe -fstack-protector-strong -I/usr/local/include'
optimize='-O2'
cppflags='-DBIG_TIME -DNO_LOCALE_NUMERIC -DNO_LOCALE_COLLATE -fno-strict-aliasing -fno-delete-null-pointer-checks -pipe -fstack-protector-strong -I/usr/local/include'
ccversion=''
gccversion='OpenBSD Clang 13.0.0'
gccosandvers=''
intsize=4
longsize=8
ptrsize=8
doublesize=8
byteorder=12345678
doublekind=3
d_longlong=define
longlongsize=8
d_longdbl=define
longdblsize=16
longdblkind=3
ivtype='long'
ivsize=8
nvtype='double'
nvsize=8
Off_t='off_t'
lseeksize=8
alignbytes=8
prototype=define
Linker and Libraries:
ld='cc'
ldflags ='-Wl,-E -fstack-protector-strong -L/usr/local/lib'
libpth=/usr/lib /usr/lib/clang/13.0.0/lib /usr/lib
libs=-lm -lc
perllibs=-lm -lc
libc=/usr/lib/libc.so.96.2
so=so
useshrplib=true
libperl=libperl.so.22.0
gnulibc_version=''
Dynamic Linking:
dlsrc=dl_dlopen.xs
dlext=so
d_dlsymun=undef
ccdlflags='-Wl,-R/usr/libdata/perl5/amd64-openbsd/CORE'
cccdlflags='-DPIC -fpic '
lddlflags='-shared -fpic -fstack-protector-strong -L/usr/local/lib'
Characteristics of this binary (from libperl):
Compile-time options:
HAS_TIMES
PERLIO_LAYERS
PERL_COPY_ON_WRITE
PERL_DONT_CREATE_GVSV
PERL_MALLOC_WRAP
PERL_OP_PARENT
PERL_PRESERVE_IVUV
USE_64_BIT_ALL
USE_64_BIT_INT
USE_LARGE_FILES
USE_LOCALE
USE_LOCALE_CTYPE
USE_LOCALE_TIME
USE_PERLIO
USE_PERL_ATOF
Built under openbsd
%ENV:
PERL5LIB="/home/perluser/.cpan/build/YAML-Syck-1.34-4/blib/arch:/home/perluser/.cpan/build/YAML-Syck-1.34-4/blib/lib:/home/perluser/.cpan/build/Devel-Leak-0.03-4/blib/arch:/home/perluser/.cpan/build/Devel-Leak-0.03-4/blib/lib:/home/perluser/.cpan/build/Class-Accessor-0.51-1/blib/arch:/home/perluser/.cpan/build/Class-Accessor-0.51-1/blib/lib"
PERL5OPT=""
PERL5_CPANPLUS_IS_RUNNING="86968"
PERL5_CPAN_IS_RUNNING="86968"
PERL5_CPAN_IS_RUNNING_IN_RECURSION="28769,86968"
PERL_CR_SMOKER_CURRENT="Text-KnuthPlass-1.07"
PERL_EXTUTILS_AUTOINSTALL="--defaultdeps"
PERL_MM_USE_DEFAULT="1"
PERL_USE_UNSAFE_INC="1"
@INC:
/home/perluser/.cpan/build/YAML-Syck-1.34-4/blib/arch
/home/perluser/.cpan/build/YAML-Syck-1.34-4/blib/lib
/home/perluser/.cpan/build/Devel-Leak-0.03-4/blib/arch
/home/perluser/.cpan/build/Devel-Leak-0.03-4/blib/lib
/home/perluser/.cpan/build/Class-Accessor-0.51-1/blib/arch
/home/perluser/.cpan/build/Class-Accessor-0.51-1/blib/lib
/usr/local/libdata/perl5/site_perl/amd64-openbsd
/usr/local/libdata/perl5/site_perl
/usr/libdata/perl5/amd64-openbsd
/usr/libdata/perl5
.