Task-Git-Repository v1.004 Perl 5 v5.16.3 OpenBSD.amd64-openbsd

Status
Pass
From
Chris Williams (BINGOS)
Dist
Task-Git-Repository v1.004
Platform
Perl 5 v5.16.3 OpenBSD.amd64-openbsd
Date
2021-01-12T12:11:29
ID
4d573b6e-54cf-11eb-84bc-edd243e66a77
This distribution has been tested as part of the CPAN Testers
project, supporting the Perl programming language.  See
http://wiki.cpantesters.org/ for more information or email
questions to cpan-testers-discuss@perl.org


--

Dear BOOK,

This is a computer-generated error report created automatically by
CPANPLUS, version 0.9908. Testers personal comments may appear
at the end of this report.


Thank you for uploading your work to CPAN.  Congratulations!
All tests were successful.

TEST RESULTS:

Below is the error stack from stage 'make test':

PERL_DL_NONLAZY=1 "/home/cpan/pit/bare/perl-5.16.3/bin/perl" "-MExtUtils::Command::MM" "-MTest::Harness" "-e" "undef *Test::Harness::Switches; test_harness(0, 'blib/lib', 'blib/arch')" t/*.t
t/author-pod-syntax.t .. skipped: these tests are for testing by the author
t/git-repository.t ..... skipped: these tests are for release candidate testing
t/release-distmeta.t ... skipped: these tests are for release candidate testing
Files=3, Tests=0,  0 wallclock secs ( 0.05 usr  0.09 sys +  0.18 cusr  0.11 csys =  0.43 CPU)
Result: NOTESTS


PREREQUISITES:

Here is a list of prerequisites you specified and versions we
managed to load:

	  Module Name                        Have     Want
	  ExtUtils::MakeMaker                7.48        0
	  File::Path                         2.17        0
	  File::Spec                         3.75        0
	  Git::Repository                   1.324    1.309
	  Git::Repository::Plugin::AUTOLOAD    1.003    1.000
	  Git::Repository::Plugin::Blame    1.4.0        0
	  Git::Repository::Plugin::Diff      0.01        0
	  Git::Repository::Plugin::Dirty     0.01        0
	  Git::Repository::Plugin::FileHistory     0.06        0
	  Git::Repository::Plugin::Gerrit     0.05        0
	  Git::Repository::Plugin::GitHooks    3.0.0        0
	  Git::Repository::Plugin::Hooks     0.04        0
	  Git::Repository::Plugin::Info      0.04        0
	  Git::Repository::Plugin::Log      1.314    1.309
	  Git::Repository::Plugin::Status     0.03        0
	  Test::More                     1.302181        0
	  strict                             1.07        0
	  warnings                           1.13        0

Perl module toolchain versions installed:
	Module Name                        Have
	CPANPLUS                         0.9908
	CPANPLUS::Dist::Build              0.90
	Cwd                                3.75
	ExtUtils::CBuilder             0.280234
	ExtUtils::Command                  7.48
	ExtUtils::Install                  2.18
	ExtUtils::MakeMaker                7.48
	ExtUtils::Manifest                 1.72
	ExtUtils::ParseXS                  3.35
	File::Spec                         3.75
	Module::Build                    0.4231
	Pod::Parser                        1.51
	Pod::Simple                        3.20
	Test2                          1.302181
	Test::Harness                      3.42
	Test::More                     1.302181
	version                          0.9928

******************************** NOTE ********************************
The comments above are created mechanically, possibly without manual
checking by the sender.  As there are many people performing automatic
tests on each upload to CPAN, it is likely that you will receive
identical messages about the same problem.

If you believe that the message is mistaken, please reply to the first
one with correction and/or additional informations, and do not take
it personally.  We appreciate your patience. :)
**********************************************************************

Additional comments:


This report was machine-generated by CPANPLUS::Dist::YACSmoke 1.08.
Powered by minismokebox version 0.68

CPANPLUS is prefering Build.PL

------------------------------
ENVIRONMENT AND OTHER CONTEXT
------------------------------

Environment variables:

    AUTOMATED_TESTING = 1
    NONINTERACTIVE_TESTING = 1
    PATH = /home/cpan/bin:/bin:/sbin:/usr/bin:/usr/sbin:/usr/X11R6/bin:/usr/local/bin:/usr/local/sbin:/usr/games
    PERL5LIB = /home/cpan/pit/jail/JZVshrwOYr/lib/perl5:/home/cpan/pit/bare/conf/perl-5.16.3/.cpanplus/5.16.3/build/gZ1tptAbCF/Git-Repository-Plugin-Hooks-0.04/blib/lib:/home/cpan/pit/bare/conf/perl-5.16.3/.cpanplus/5.16.3/build/gZ1tptAbCF/Git-Repository-Plugin-Hooks-0.04/blib/arch:/home/cpan/pit/bare/conf/perl-5.16.3/.cpanplus/5.16.3/build/9s9PYqu5mq/Git-Repository-Plugin-Info-0.04/blib/lib:/home/cpan/pit/bare/conf/perl-5.16.3/.cpanplus/5.16.3/build/9s9PYqu5mq/Git-Repository-Plugin-Info-0.04/blib/arch:/home/cpan/pit/bare/conf/perl-5.16.3/.cpanplus/5.16.3/build/VazmrHFmul/Git-Repository-Plugin-Status-0.03/blib/lib:/home/cpan/pit/bare/conf/perl-5.16.3/.cpanplus/5.16.3/build/VazmrHFmul/Git-Repository-Plugin-Status-0.03/blib/arch:/home/cpan/pit/bare/conf/perl-5.16.3/.cpanplus/5.16.3/build/p7bDsuVqKw/Task-Git-Repository-1.004/blib/lib:/home/cpan/pit/bare/conf/perl-5.16.3/.cpanplus/5.16.3/build/p7bDsuVqKw/Task-Git-Repository-1.004/blib/arch
    PERL5_CPANPLUS_IS_RUNNING = 89101
    PERL5_CPANPLUS_IS_VERSION = 0.9908
    PERL5_MINISMOKEBOX = 0.68
    PERL5_YACSMOKE_BASE = /home/cpan/pit/bare/conf/perl-5.16.3
    PERL_EXTUTILS_AUTOINSTALL = --defaultdeps
    PERL_LOCAL_LIB_ROOT = /home/cpan/pit/jail/JZVshrwOYr
    PERL_MB_OPT = --install_base "/home/cpan/pit/jail/JZVshrwOYr"
    PERL_MM_OPT = INSTALL_BASE=/home/cpan/pit/jail/JZVshrwOYr
    PERL_MM_USE_DEFAULT = 1
    SHELL = /usr/local/bin/bash
    TERM = screen

Perl special variables (and OS-specific diagnostics, for MSWin32):

    Perl: $^X = /home/cpan/pit/bare/perl-5.16.3/bin/perl
    UID:  $<  = 1001
    EUID: $>  = 1001
    GID:  $(  = 1001 1001
    EGID: $)  = 1001 1001


-------------------------------


--

Summary of my perl5 (revision 5 version 16 subversion 3) configuration:
   
  Platform:
    osname=openbsd, osvers=6.6, archname=OpenBSD.amd64-openbsd
    uname='openbsd outrage.bingosnet.co.uk 6.6 generic#4 amd64 '
    config_args='-des -Dprefix=/home/cpan/pit/bare/perl-5.16.3'
    hint=recommended, useposix=true, d_sigaction=define
    useithreads=undef, usemultiplicity=undef
    useperlio=define, d_sfio=undef, uselargefiles=define, usesocks=undef
    use64bitint=define, use64bitall=define, uselongdouble=undef
    usemymalloc=n, bincompat5005=undef
  Compiler:
    cc='cc', ccflags ='-fno-strict-aliasing -pipe -fstack-protector -I/usr/local/include',
    optimize='-O2',
    cppflags='-fno-strict-aliasing -pipe -fstack-protector -I/usr/local/include'
    ccversion='', gccversion='4.2.1 Compatible OpenBSD Clang 8.0.1 (tags/RELEASE_801/final)', gccosandvers=''
    intsize=4, longsize=8, ptrsize=8, doublesize=8, byteorder=12345678
    d_longlong=define, longlongsize=8, d_longdbl=define, longdblsize=16
    ivtype='long', ivsize=8, nvtype='double', nvsize=8, Off_t='off_t', lseeksize=8
    alignbytes=8, prototype=define
  Linker and Libraries:
    ld='cc', ldflags ='-Wl,-E  -fstack-protector -L/usr/local/lib'
    libpth=/usr/local/lib /usr/lib
    libs=-lgdbm -lm -lutil -lc
    perllibs=-lm -lutil -lc
    libc=/usr/lib/libc.so.95.1, so=so, useshrplib=false, libperl=libperl.a
    gnulibc_version=''
  Dynamic Linking:
    dlsrc=dl_dlopen.xs, dlext=so, d_dlsymun=undef, ccdlflags=' '
    cccdlflags='-DPIC -fPIC ', lddlflags='-shared -fPIC  -L/usr/local/lib -fstack-protector'


Characteristics of this binary (from libperl): 
  Compile-time options: HAS_TIMES PERLIO_LAYERS PERL_DONT_CREATE_GVSV
                        PERL_MALLOC_WRAP PERL_PRESERVE_IVUV USE_64_BIT_ALL
                        USE_64_BIT_INT USE_LARGE_FILES USE_LOCALE
                        USE_LOCALE_COLLATE USE_LOCALE_CTYPE
                        USE_LOCALE_NUMERIC USE_PERLIO USE_PERL_ATOF
  Locally applied patches:
	Devel::PatchPerl 1.80
  Built under openbsd
  Compiled at Jan 22 2020 19:14:00
  %ENV:
    PERL5LIB="/home/cpan/pit/jail/JZVshrwOYr/lib/perl5:/home/cpan/pit/bare/conf/perl-5.16.3/.cpanplus/5.16.3/build/gZ1tptAbCF/Git-Repository-Plugin-Hooks-0.04/blib/lib:/home/cpan/pit/bare/conf/perl-5.16.3/.cpanplus/5.16.3/build/gZ1tptAbCF/Git-Repository-Plugin-Hooks-0.04/blib/arch:/home/cpan/pit/bare/conf/perl-5.16.3/.cpanplus/5.16.3/build/9s9PYqu5mq/Git-Repository-Plugin-Info-0.04/blib/lib:/home/cpan/pit/bare/conf/perl-5.16.3/.cpanplus/5.16.3/build/9s9PYqu5mq/Git-Repository-Plugin-Info-0.04/blib/arch:/home/cpan/pit/bare/conf/perl-5.16.3/.cpanplus/5.16.3/build/VazmrHFmul/Git-Repository-Plugin-Status-0.03/blib/lib:/home/cpan/pit/bare/conf/perl-5.16.3/.cpanplus/5.16.3/build/VazmrHFmul/Git-Repository-Plugin-Status-0.03/blib/arch:/home/cpan/pit/bare/conf/perl-5.16.3/.cpanplus/5.16.3/build/p7bDsuVqKw/Task-Git-Repository-1.004/blib/lib:/home/cpan/pit/bare/conf/perl-5.16.3/.cpanplus/5.16.3/build/p7bDsuVqKw/Task-Git-Repository-1.004/blib/arch"
    PERL5_CPANPLUS_IS_RUNNING="89101"
    PERL5_CPANPLUS_IS_VERSION="0.9908"
    PERL5_MINISMOKEBOX="0.68"
    PERL5_YACSMOKE_BASE="/home/cpan/pit/bare/conf/perl-5.16.3"
    PERL_EXTUTILS_AUTOINSTALL="--defaultdeps"
    PERL_LOCAL_LIB_ROOT="/home/cpan/pit/jail/JZVshrwOYr"
    PERL_MB_OPT="--install_base "/home/cpan/pit/jail/JZVshrwOYr""
    PERL_MM_OPT="INSTALL_BASE=/home/cpan/pit/jail/JZVshrwOYr"
    PERL_MM_USE_DEFAULT="1"
  @INC:
    /home/cpan/pit/jail/JZVshrwOYr/lib/perl5/5.16.3/OpenBSD.amd64-openbsd
    /home/cpan/pit/jail/JZVshrwOYr/lib/perl5/5.16.3
    /home/cpan/pit/jail/JZVshrwOYr/lib/perl5/OpenBSD.amd64-openbsd
    /home/cpan/pit/jail/JZVshrwOYr/lib/perl5
    /home/cpan/pit/bare/conf/perl-5.16.3/.cpanplus/5.16.3/build/gZ1tptAbCF/Git-Repository-Plugin-Hooks-0.04/blib/lib
    /home/cpan/pit/bare/conf/perl-5.16.3/.cpanplus/5.16.3/build/gZ1tptAbCF/Git-Repository-Plugin-Hooks-0.04/blib/arch
    /home/cpan/pit/bare/conf/perl-5.16.3/.cpanplus/5.16.3/build/9s9PYqu5mq/Git-Repository-Plugin-Info-0.04/blib/lib
    /home/cpan/pit/bare/conf/perl-5.16.3/.cpanplus/5.16.3/build/9s9PYqu5mq/Git-Repository-Plugin-Info-0.04/blib/arch
    /home/cpan/pit/bare/conf/perl-5.16.3/.cpanplus/5.16.3/build/VazmrHFmul/Git-Repository-Plugin-Status-0.03/blib/lib
    /home/cpan/pit/bare/conf/perl-5.16.3/.cpanplus/5.16.3/build/VazmrHFmul/Git-Repository-Plugin-Status-0.03/blib/arch
    /home/cpan/pit/bare/conf/perl-5.16.3/.cpanplus/5.16.3/build/p7bDsuVqKw/Task-Git-Repository-1.004/blib/lib
    /home/cpan/pit/bare/conf/perl-5.16.3/.cpanplus/5.16.3/build/p7bDsuVqKw/Task-Git-Repository-1.004/blib/arch
    /home/cpan/pit/bare/perl-5.16.3/lib/site_perl/5.16.3/OpenBSD.amd64-openbsd
    /home/cpan/pit/bare/perl-5.16.3/lib/site_perl/5.16.3
    /home/cpan/pit/bare/perl-5.16.3/lib/5.16.3/OpenBSD.amd64-openbsd
    /home/cpan/pit/bare/perl-5.16.3/lib/5.16.3
    .