Back
From: metabase:user:314402c4-2aae-11df-837a-5e0a49663a4f
Subject: PASS Import-Base-0.010 v5.21.4 FreeBSD
Date: 2014-12-25T20:40:49Z
This distribution has been tested as part of the CPAN Testers
project, supporting the Perl programming language. See
http://wiki.cpantesters.org/ for more information or email
questions to cpan-testers-discuss@perl.org
--
Dear Doug Bell,
This is a computer-generated report for Import-Base-0.010
on perl 5.21.4, created by CPAN-Reporter-1.2011.
Thank you for uploading your work to CPAN. Congratulations!
All tests were successful.
Sections of this report:
* Tester comments
* Program output
* Prerequisites
* Environment and other context
------------------------------
TESTER COMMENTS
------------------------------
Additional comments from tester:
none provided
------------------------------
PROGRAM OUTPUT
------------------------------
Output from '/usr/bin/make test':
PERL_DL_NONLAZY=1 /usr/perl5.21.4/bin/perl5.21.4 "-MExtUtils::Command::MM" "-MTest::Harness" "-e" "undef *Test::Harness::Switches; test_harness(0, 'blib/lib', 'blib/arch')" t/*.t
t/00_compile.t .. ok
t/base.t ........ ok
t/exclude.t ..... ok
t/order.t ....... ok
t/subrefs.t ..... ok
All tests successful.
Files=5, Tests=10, 1 wallclock secs ( 0.12 usr 0.03 sys + 0.56 cusr 0.12 csys = 0.83 CPU)
Result: PASS
------------------------------
PREREQUISITES
------------------------------
Prerequisite modules loaded:
requires:
Module Need Have
------------------- -------- --------
Import::Into 1.002000 1.002004
Module::Runtime 0 0.014
mro 0 1.16
perl 5.010 5.021004
strict 0 1.08
warnings 0 1.26
build_requires:
Module Need Have
------------------- -------- --------
Carp 0 1.34
Module::Build 0.28 0.4210
Test::Compile 0 v1.2.1
Test::More 0 1.001006
configure_requires:
Module Need Have
------------------- -------- --------
ExtUtils::MakeMaker 0 6.98
Module::Build 0.28 0.4210
------------------------------
ENVIRONMENT AND OTHER CONTEXT
------------------------------
Environment variables:
DBIC_NO_WARN_BAD_PERL = 1
PATH = /usr/local/bin:/usr/bin:/bin:/usr/local/sbin:/usr/sbin:/sbin:/home/e/eserte/bin/freebsd9.1:/home/e/eserte/bin/sh:/home/e/eserte/bin:/usr/games:/home/e/eserte/devel:/home/e/eserte/src/srezic-misc/scripts
PERL5LIB = /usr/local/src/CPAN/build/Test-Compile-v1.2.1-HQpXwp/blib/arch:/usr/local/src/CPAN/build/Test-Compile-v1.2.1-HQpXwp/blib/lib:/usr/local/src/CPAN/build/UNIVERSAL-require-0.17-0eGVyJ/blib/arch:/usr/local/src/CPAN/build/UNIVERSAL-require-0.17-0eGVyJ/blib/lib:/usr/local/src/CPAN/build/Path-Tiny-0.061-lB13gP/blib/arch:/usr/local/src/CPAN/build/Path-Tiny-0.061-lB13gP/blib/lib:/usr/local/src/CPAN/build/Dir-Self-0.11-q1_zBS/blib/arch:/usr/local/src/CPAN/build/Dir-Self-0.11-q1_zBS/blib/lib
PERL5OPT =
PERL5_CPANPLUS_IS_RUNNING = 43163
PERL5_CPAN_IS_RUNNING = 43163
PERL5_CPAN_IS_RUNNING_IN_RECURSION = 25768,43163
PERLDOC = -MPod::Perldoc::ToTextOverstrike
PERL_BATCH = yes
PERL_CPAN_REPORTER_CONFIG = /var/tmp/cpansmoker-1000/YUo7r4lPmT_config.ini
PERL_EXTUTILS_AUTOINSTALL = --defaultdeps
PERL_HTML_DISPLAY_CLASS = HTML::Display::Mozilla
SHELL = /usr/local/bin/zsh
TERM = screen
TMPDIR = /var/tmp/cpansmoker-1000
Perl special variables (and OS-specific diagnostics, for MSWin32):
$^X = /usr/perl5.21.4/bin/perl5.21.4
$UID/$EUID = 1000 / 1000
$GID = 1000 1000 0 5 1023 1024
$EGID = 1000 1000 0 5 1023 1024
Perl module toolchain versions installed:
Module Have
------------------- --------
CPAN 2.05
CPAN::Meta 2.142060
Cwd 3.50
ExtUtils::CBuilder 0.280219
ExtUtils::Command 1.18
ExtUtils::Install 2.04
ExtUtils::MakeMaker 6.98
ExtUtils::Manifest 1.68
ExtUtils::ParseXS 3.25
File::Spec 3.50
JSON 2.90
JSON::PP 2.27203
Module::Build 0.4210
Module::Signature n/a
Parse::CPAN::Meta 1.4414
Test::Harness 3.33
Test::More 1.001006
YAML 1.11
YAML::Syck 1.27
version 0.9909
--
Summary of my perl5 (revision 5 version 21 subversion 4) configuration:
Platform:
osname=freebsd, osvers=9.2-release, archname=amd64-freebsd
uname='freebsd cvrsnica.herceg.de 9.2-release freebsd 9.2-release #0 r255898: thu sep 26 22:50:31 utc 2013 root@bake.isc.freebsd.org:usrobjusrsrcsysgeneric amd64 '
config_args='-D useshrplib=true -Dprefix=/usr/perl5.21.4 -Dusemymalloc=n -D cc=ccache cc -D usedevel=define -Dgccansipedantic -de'
hint=recommended, useposix=true, d_sigaction=define
useithreads=undef, usemultiplicity=undef
use64bitint=define, use64bitall=define, uselongdouble=undef
usemymalloc=n, bincompat5005=undef
Compiler:
cc='ccache cc', ccflags ='-DHAS_FPSETMASK -DHAS_FLOATINGPOINT_H -fno-strict-aliasing -pipe -fstack-protector -I/usr/local/include -D_FORTIFY_SOURCE=2',
optimize='-O2 -pipe',
cppflags='-DHAS_FPSETMASK -DHAS_FLOATINGPOINT_H -fno-strict-aliasing -pipe -fstack-protector -I/usr/local/include'
ccversion='', gccversion='4.2.1 20070831 patched [FreeBSD]', gccosandvers=''
intsize=4, longsize=8, ptrsize=8, doublesize=8, byteorder=12345678
d_longlong=define, longlongsize=8, d_longdbl=define, longdblsize=16, longdblkind=3
ivtype='long', ivsize=8, nvtype='double', nvsize=8, Off_t='off_t', lseeksize=8
alignbytes=8, prototype=define
Linker and Libraries:
ld='ccache cc', ldflags ='-Wl,-E -fstack-protector -L/usr/local/lib'
libpth=/usr/lib /usr/local/lib /usr/include/gcc/4.2 /usr/lib
libs=-lgdbm -lm -lcrypt -lutil -lc
perllibs=-lm -lcrypt -lutil -lc
libc=, so=so, useshrplib=true, libperl=libperl.so
gnulibc_version=''
Dynamic Linking:
dlsrc=dl_dlopen.xs, dlext=so, d_dlsymun=undef, ccdlflags=' -Wl,-R/usr/perl5.21.4/lib/5.21.4/amd64-freebsd/CORE'
cccdlflags='-DPIC -fPIC', lddlflags='-shared -L/usr/local/lib -fstack-protector'
Characteristics of this binary (from libperl):
Compile-time options: HAS_TIMES PERLIO_LAYERS PERL_DONT_CREATE_GVSV
PERL_HASH_FUNC_ONE_AT_A_TIME_HARD PERL_MALLOC_WRAP
PERL_NEW_COPY_ON_WRITE PERL_PRESERVE_IVUV
PERL_USE_DEVEL USE_64_BIT_ALL USE_64_BIT_INT
USE_LARGE_FILES USE_LOCALE USE_LOCALE_COLLATE
USE_LOCALE_CTYPE USE_LOCALE_NUMERIC USE_LOCALE_TIME
USE_PERLIO USE_PERL_ATOF
Built under freebsd
Compiled at Sep 20 2014 18:32:18
%ENV:
PERL5LIB="/usr/local/src/CPAN/build/Test-Compile-v1.2.1-HQpXwp/blib/arch:/usr/local/src/CPAN/build/Test-Compile-v1.2.1-HQpXwp/blib/lib:/usr/local/src/CPAN/build/UNIVERSAL-require-0.17-0eGVyJ/blib/arch:/usr/local/src/CPAN/build/UNIVERSAL-require-0.17-0eGVyJ/blib/lib:/usr/local/src/CPAN/build/Path-Tiny-0.061-lB13gP/blib/arch:/usr/local/src/CPAN/build/Path-Tiny-0.061-lB13gP/blib/lib:/usr/local/src/CPAN/build/Dir-Self-0.11-q1_zBS/blib/arch:/usr/local/src/CPAN/build/Dir-Self-0.11-q1_zBS/blib/lib"
PERL5OPT=""
PERL5_CPANPLUS_IS_RUNNING="43163"
PERL5_CPAN_IS_RUNNING="43163"
PERL5_CPAN_IS_RUNNING_IN_RECURSION="25768,43163"
PERLDOC="-MPod::Perldoc::ToTextOverstrike"
PERL_BATCH="yes"
PERL_CPAN_REPORTER_CONFIG="/var/tmp/cpansmoker-1000/YUo7r4lPmT_config.ini"
PERL_EXTUTILS_AUTOINSTALL="--defaultdeps"
PERL_HTML_DISPLAY_CLASS="HTML::Display::Mozilla"
@INC:
/usr/local/src/CPAN/build/Test-Compile-v1.2.1-HQpXwp/blib/arch
/usr/local/src/CPAN/build/Test-Compile-v1.2.1-HQpXwp/blib/lib
/usr/local/src/CPAN/build/UNIVERSAL-require-0.17-0eGVyJ/blib/arch
/usr/local/src/CPAN/build/UNIVERSAL-require-0.17-0eGVyJ/blib/lib
/usr/local/src/CPAN/build/Path-Tiny-0.061-lB13gP/blib/arch
/usr/local/src/CPAN/build/Path-Tiny-0.061-lB13gP/blib/lib
/usr/local/src/CPAN/build/Dir-Self-0.11-q1_zBS/blib/arch
/usr/local/src/CPAN/build/Dir-Self-0.11-q1_zBS/blib/lib
/usr/perl5.21.4/lib/site_perl/5.21.4/amd64-freebsd
/usr/perl5.21.4/lib/site_perl/5.21.4
/usr/perl5.21.4/lib/5.21.4/amd64-freebsd
/usr/perl5.21.4/lib/5.21.4
.