Back
From: metabase:user:fcf99560-6bf4-1014-86b3-1cf189224fdf
Subject: PASS App-Cache-0.37 v5.18.0 GNU/Linux
Date: 2013-06-03T16:11:59Z
This distribution has been tested as part of the CPAN Testers
project, supporting the Perl programming language. See
http://wiki.cpantesters.org/ for more information or email
questions to cpan-testers-discuss@perl.org
--
Dear LBROCARD,
This is a computer-generated report for App-Cache-0.37
on perl 5.18.0, created by App::cpanminus::reporter 0.09 (1.6914).
Thank you for uploading your work to CPAN. Congratulations!
All tests were successful.
Sections of this report:
* Tester comments
* Program output
* Prerequisites
* Environment and other context
------------------------------
TESTER COMMENTS
------------------------------
Additional comments from tester:
none provided
------------------------------
PROGRAM OUTPUT
------------------------------
Output from '':
Building and testing App-Cache-0.37
cp lib/App/Cache.pm blib/lib/App/Cache.pm
Manifying blib/man3/App::Cache.3
PERL_DL_NONLAZY=1 /home/michiel/perl5/perlbrew/perls/perl-5.18.0/bin/perl "-MExtUtils::Command::MM" "-e" "test_harness(0, 'blib/lib', 'blib/arch')" t/*.t
t/pod.t ........... skipped: Test::Pod 1.14 required for testing POD: Can't locate Test/Pod.pm in @INC (you may need to install the Test::Pod module) (@INC contains: /home/michiel/.cpanm/work/1370273947.5128/App-Cache-0.37/blib/lib /home/michiel/.cpanm/work/1370273947.5128/App-Cache-0.37/blib/arch /home/michiel/perl5/perlbrew/perls/perl-5.18.0/lib/site_perl/5.18.0/x86_64-linux /home/michiel/perl5/perlbrew/perls/perl-5.18.0/lib/site_perl/5.18.0 /home/michiel/perl5/perlbrew/perls/perl-5.18.0/lib/5.18.0/x86_64-linux /home/michiel/perl5/perlbrew/perls/perl-5.18.0/lib/5.18.0) at (eval 4) line 1.
t/pod_coverage.t .. skipped: Test::Pod::Coverage 1.04 required for testing POD coverage
t/simple.t ........ ok
All tests successful.
Files=3, Tests=48, 8 wallclock secs ( 0.03 usr 0.01 sys + 0.20 cusr 0.07 csys = 0.31 CPU)
Result: PASS
------------------------------
PREREQUISITES
------------------------------
Prerequisite modules loaded:
runtime:
Module Need Have
------------------------------ ---- ----
Class::Accessor::Chained::Fast 0 0
File::Find::Rule 0 0.33
File::HomeDir 0 1.00
File::stat 0 1.07
HTTP::Cookies 0 6.01
LWP::UserAgent 0 6.05
Path::Class 0 0.32
Storable 0 2.41
Test::More 0 0.98
build:
Module Need Have
------------------------------ ---- ----
ExtUtils::MakeMaker 0 6.66
configure:
Module Need Have
------------------------------ ---- ----
ExtUtils::MakeMaker 0 6.66
------------------------------
ENVIRONMENT AND OTHER CONTEXT
------------------------------
Environment variables:
LANG = en_US.UTF-8
PATH = /home/michiel/perl5/perlbrew/bin:/home/michiel/perl5/perlbrew/perls/perl-5.18.0/bin:/usr/lib/lightdm/lightdm:/usr/local/sbin:/usr/local/bin:/usr/sbin:/usr/bin:/sbin:/bin:/usr/games
PERLBREW_BASHRC_VERSION = 0.64
PERLBREW_HOME = /home/michiel/.perlbrew
PERLBREW_MANPATH = /home/michiel/perl5/perlbrew/perls/perl-5.18.0/man
PERLBREW_PATH = /home/michiel/perl5/perlbrew/bin:/home/michiel/perl5/perlbrew/perls/perl-5.18.0/bin
PERLBREW_PERL = perl-5.18.0
PERLBREW_ROOT = /home/michiel/perl5/perlbrew
PERLBREW_VERSION = 0.64
SHELL = /bin/bash
TERM = xterm
Perl special variables (and OS-specific diagnostics, for MSWin32):
EGID = 1000 4 24 27 30 46 110 123 1000
EUID = 1000
EXECUTABLE_NAME = /home/michiel/perl5/perlbrew/perls/perl-5.18.0/bin/perl
GID = 1000 4 24 27 30 46 110 123 1000
UID = 1000
Perl module toolchain versions installed:
Module Have
------------------- --------
CPAN 2.00
CPAN::Meta 2.120921
Cwd 3.40
ExtUtils::CBuilder 0.280210
ExtUtils::Command 1.17
ExtUtils::Install 1.59
ExtUtils::MakeMaker 6.66
ExtUtils::Manifest 1.63
ExtUtils::ParseXS 3.18
File::Spec 3.40
JSON 2.58
JSON::PP 2.27202
Module::Build 0.4003
Module::Signature n/a
Parse::CPAN::Meta 1.4404
Test::Harness 3.26
Test::More 0.98
YAML 0.84
YAML::Syck n/a
version 0.9902
--
Summary of my perl5 (revision 5 version 18 subversion 0) configuration:
Platform:
osname=linux, osvers=3.2.0-37-generic, archname=x86_64-linux
uname='linux lubuntu 3.2.0-37-generic #58-ubuntu smp thu jan 24 15:28:10 utc 2013 x86_64 x86_64 x86_64 gnulinux '
config_args='-de -Dprefix=/home/michiel/perl5/perlbrew/perls/perl-5.18.0 -Aeval:scriptdir=/home/michiel/perl5/perlbrew/perls/perl-5.18.0/bin'
hint=recommended, useposix=true, d_sigaction=define
useithreads=undef, usemultiplicity=undef
useperlio=define, d_sfio=undef, uselargefiles=define, usesocks=undef
use64bitint=define, use64bitall=define, uselongdouble=undef
usemymalloc=n, bincompat5005=undef
Compiler:
cc='cc', ccflags ='-fno-strict-aliasing -pipe -fstack-protector -I/usr/local/include -D_LARGEFILE_SOURCE -D_FILE_OFFSET_BITS=64',
optimize='-O2',
cppflags='-fno-strict-aliasing -pipe -fstack-protector -I/usr/local/include'
ccversion='', gccversion='4.6.3', gccosandvers=''
intsize=4, longsize=8, ptrsize=8, doublesize=8, byteorder=12345678
d_longlong=define, longlongsize=8, d_longdbl=define, longdblsize=16
ivtype='long', ivsize=8, nvtype='double', nvsize=8, Off_t='off_t', lseeksize=8
alignbytes=8, prototype=define
Linker and Libraries:
ld='cc', ldflags =' -fstack-protector -L/usr/local/lib'
libpth=/usr/local/lib /lib/x86_64-linux-gnu /lib/../lib /usr/lib/x86_64-linux-gnu /usr/lib/../lib /lib /usr/lib
libs=-lnsl -ldl -lm -lcrypt -lutil -lc
perllibs=-lnsl -ldl -lm -lcrypt -lutil -lc
libc=, so=so, useshrplib=false, libperl=libperl.a
gnulibc_version='2.15'
Dynamic Linking:
dlsrc=dl_dlopen.xs, dlext=so, d_dlsymun=undef, ccdlflags='-Wl,-E'
cccdlflags='-fPIC', lddlflags='-shared -O2 -L/usr/local/lib -fstack-protector'
Characteristics of this binary (from libperl):
Compile-time options: HAS_TIMES PERLIO_LAYERS PERL_DONT_CREATE_GVSV
PERL_HASH_FUNC_ONE_AT_A_TIME_HARD PERL_MALLOC_WRAP
PERL_PRESERVE_IVUV PERL_SAWAMPERSAND USE_64_BIT_ALL
USE_64_BIT_INT USE_LARGE_FILES USE_LOCALE
USE_LOCALE_COLLATE USE_LOCALE_CTYPE
USE_LOCALE_NUMERIC USE_PERLIO USE_PERL_ATOF
Built under linux
Compiled at Jun 3 2013 16:46:26
%ENV:
PERLBREW_BASHRC_VERSION="0.64"
PERLBREW_HOME="/home/michiel/.perlbrew"
PERLBREW_MANPATH="/home/michiel/perl5/perlbrew/perls/perl-5.18.0/man"
PERLBREW_PATH="/home/michiel/perl5/perlbrew/bin:/home/michiel/perl5/perlbrew/perls/perl-5.18.0/bin"
PERLBREW_PERL="perl-5.18.0"
PERLBREW_ROOT="/home/michiel/perl5/perlbrew"
PERLBREW_VERSION="0.64"
@INC:
/home/michiel/perl5/perlbrew/perls/perl-5.18.0/lib/site_perl/5.18.0/x86_64-linux
/home/michiel/perl5/perlbrew/perls/perl-5.18.0/lib/site_perl/5.18.0
/home/michiel/perl5/perlbrew/perls/perl-5.18.0/lib/5.18.0/x86_64-linux
/home/michiel/perl5/perlbrew/perls/perl-5.18.0/lib/5.18.0
.