CGI v4.57 Perl 5 v5.32.1 x86_64-cygwin-threads-multi

Status
Pass
From
tzccinct
Dist
CGI v4.57
Platform
Perl 5 v5.32.1 x86_64-cygwin-threads-multi
Date
2023-05-04 10:38:21
ID
53835771-6d82-1014-9813-9ca71457b514
This distribution has been tested as part of the CPAN Testers
project, supporting the Perl programming language.  See
http://wiki.cpantesters.org/ for more information or email
questions to cpan-testers-discuss@perl.org


--
Dear Lee Johnson,

This is a computer-generated report for CGI-4.57
on perl 5.32.1, created by CPAN-Reporter-1.2019.

Thank you for uploading your work to CPAN.  Congratulations!
All tests were successful.

Sections of this report:

    * Tester comments
    * Program output
    * Prerequisites
    * Environment and other context

------------------------------
TESTER COMMENTS
------------------------------

Additional comments from tester:

none provided

------------------------------
PROGRAM OUTPUT
------------------------------

Output from '/usr/bin/make test':

PERL_DL_NONLAZY=1 "/usr/bin/perl.exe" "-MExtUtils::Command::MM" "-MTest::Harness" "-e" "undef *Test::Harness::Switches; test_harness(0, 'blib/lib', 'blib/arch')" t/*.t t/headers/*.t
t/append_query.t ............ ok
t/arbitrary_handles.t ....... ok
t/autoescape.t .............. ok
t/can.t ..................... ok
[Thu May  4 19:35:17 2023] carp.t: foo at /home/tzccinct/.cpan/build/CGI-4.57-0/blib/lib/CGI/Carp.pm line 360.
t/carp.t .................... ok
# cgi-lib.pl routines
private_tempfiles has been deprecated at /home/tzccinct/.cpan/build/CGI-4.57-0/blib/lib/CGI.pm line 3238.
t/cgi.t ..................... ok
t/changes.t ................. ok
t/charset.t ................. ok
t/checkbox_group.t .......... ok
t/command_line.t ............ ok
t/compiles_pod.t ............ ok
t/cookie.t .................. ok
t/delete.t .................. ok
t/Dump.t .................... ok
t/end_form.t ................ ok
t/form.t .................... ok
t/function.t ................ ok
t/gh-155.t .................. ok
t/headers.t ................. ok
t/headers/attachment.t ...... ok
t/headers/charset.t ......... ok
t/headers/cookie.t .......... ok
t/headers/default.t ......... ok
t/headers/nph.t ............. ok
t/headers/p3p.t ............. ok
t/headers/target.t .......... ok
t/headers/type.t ............ ok
t/hidden.t .................. ok
t/html.t .................... ok
t/html_functions.t .......... ok
t/http.t .................... ok
t/init.t .................... ok
t/multipart_globals.t ....... ok
t/multipart_init.t .......... ok
t/multipart_start.t ......... ok
t/no_tabindex.t ............. ok
t/param_fetch.t ............. ok
t/param_list_context.t ...... ok
t/popup_menu.t .............. ok
t/postdata.t ................ ok
CGI::Pretty is DEPRECATED and will be removed in a future release. Please see https://github.com/leejo/CGI.pm/issues/162 for more information at /home/tzccinct/.cpan/build/CGI-4.57-0/blib/lib/CGI/Pretty.pm line 20.
t/pretty.t .................. ok
t/push.t .................... ok
t/query_string.t ............ ok
t/redirect_query_string.t ... ok
t/request.t ................. ok
t/rt-31107.t ................ ok
t/rt-52469.t ................ ok
t/rt-57524.t ................ ok
t/rt-75628.t ................ ok
t/rt-84767.t ................ ok
t/save_read_roundtrip.t ..... ok
t/sorted.t .................. ok
t/start_end_asterisk.t ...... ok
t/start_end_end.t ........... ok
t/start_end_start.t ......... ok
t/unescapeHTML.t ............ ok
t/upload.t .................. ok
t/upload_quoted_unquoted.t .. ok
t/uploadInfo.t .............. ok
t/url.t ..................... ok
t/user_agent.t .............. ok
t/utf8.t .................... ok
t/util-58.t ................. ok
t/util.t .................... ok
All tests successful.
Files=64, Tests=1592,  9 wallclock secs ( 0.05 usr  0.03 sys +  2.80 cusr  2.59 csys =  5.47 CPU)
Result: PASS

------------------------------
PREREQUISITES
------------------------------

Prerequisite modules loaded:

requires:

    Module              Need     Have    
    ------------------- -------- --------
    Carp                0        1.50    
    Config              0        5.032001
    Encode              0        3.19    
    Exporter            0        5.77    
    File::Spec          0.82     3.78    
    File::Temp          0.17     0.2311  
    HTML::Entities      3.69     3.81    
    if                  0        0.0608  
    overload            0        1.31    
    parent              0.225    0.241   
    perl                5.008001 5.032001
    strict              0        1.11    
    utf8                0        1.22    
    warnings            0        1.47    

build_requires:

    Module              Need     Have    
    ------------------- -------- --------
    Cwd                 0        3.78    
    ExtUtils::MakeMaker 0        7.44    
    File::Find          0        1.37    
    IO::File            0        1.51    
    IO::Handle          0        1.51    
    POSIX               0        1.94    
    Test::More          0.98     1.302195
    Test::NoWarnings    0        1.06    
    Test::Warn          0.3      0.37    

configure_requires:

    Module              Need     Have    
    ------------------- -------- --------
    ExtUtils::MakeMaker 0        7.44    


------------------------------
ENVIRONMENT AND OTHER CONTEXT
------------------------------

Environment variables:

    COMSPEC = C:\Windows\system32\cmd.exe
    LANG = ja_JP.UTF-8
    NUMBER_OF_PROCESSORS = 16
    PATH = /usr/local/bin:/usr/bin:/usr/bin:/cygdrive/c/Windows/system32:/cygdrive/c/Windows:/cygdrive/c/Windows/System32/Wbem:/cygdrive/c/Windows/System32/WindowsPowerShell/v1.0:/cygdrive/c/Windows/System32/OpenSSH:/cygdrive/c/Program Files/Microsoft VS Code/bin:/cygdrive/c/Strawberry/c/bin:/cygdrive/c/Strawberry/perl/site/bin:/cygdrive/c/Strawberry/perl/bin:/cygdrive/c/Users/tzccinct/AppData/Local/Microsoft/WindowsApps
    PERL5LIB = 
    PERL5OPT = 
    PERL5_CPANPLUS_IS_RUNNING = 408
    PERL5_CPAN_IS_RUNNING = 408
    PERL_USE_UNSAFE_INC = 1
    PROCESSOR_IDENTIFIER = Intel64 Family 6 Model 154 Stepping 3, GenuineIntel
    SHELL = /bin/bash
    TEMP = /tmp
    TERM = screen

Perl special variables (and OS-specific diagnostics, for MSWin32):

    $^X = /usr/bin/perl
    $UID/$EUID = 197610 / 197610
    $GID = 197121 197121 545 4 66049 11 15 113 4095 66048 262154 401408
    $EGID = 197121 197121 545 4 66049 11 15 113 4095 66048 262154 401408

Perl module toolchain versions installed:

    Module              Have    
    ------------------- --------
    CPAN                2.34    
    CPAN::Meta          2.150010
    Cwd                 3.78    
    ExtUtils::CBuilder  0.280236
    ExtUtils::Command   7.44    
    ExtUtils::Install   2.22    
    ExtUtils::MakeMaker 7.44    
    ExtUtils::Manifest  1.75    
    ExtUtils::ParseXS   3.44    
    File::Spec          3.78    
    JSON                4.10    
    JSON::PP            4.16    
    Module::Build       0.4234  
    Module::Signature   n/a     
    Parse::CPAN::Meta   2.150010
    Test2               1.302195
    Test::Harness       3.44    
    Test::More          1.302195
    YAML                1.30    
    YAML::Syck          n/a     
    version             0.9929  


--

Summary of my perl5 (revision 5 version 32 subversion 1) configuration:
   
  Platform:
    osname=cygwin
    osvers=3.2.0(0.34053)
    archname=x86_64-cygwin-threads-multi
    uname='cygwin_nt-10.0 cygwinpro 3.2.0(0.34053) 2021-03-29 08:42 x86_64 cygwin '
    config_args='-des -Dprefix=/usr -Dmksymlinks -Darchname=x86_64-cygwin-threads -Dlibperl=cygperl5_32.dll -Dcc=gcc -Dld=g++ -Accflags=-ggdb -O2 -pipe -Wall -Werror=format-security -D_FORTIFY_SOURCE=2 -fstack-protector-strong --param=ssp-buffer-size=4 -fdebug-prefix-map=/mnt/share/cygpkgs/perl/perl.x86_64/build=/usr/src/debug/perl-5.32.1-2 -fdebug-prefix-map=/mnt/share/cygpkgs/perl/perl.x86_64/src/perl-5.32.1=/usr/src/debug/perl-5.32.1-2 -fwrapv'
    hint=recommended
    useposix=true
    d_sigaction=define
    useithreads=define
    usemultiplicity=define
    use64bitint=define
    use64bitall=define
    uselongdouble=undef
    usemymalloc=n
    default_inc_excludes_dot=define
    bincompat5005=undef
  Compiler:
    cc='gcc'
    ccflags ='-DPERL_USE_SAFE_PUTENV -U__STRICT_ANSI__ -D_GNU_SOURCE -ggdb -O2 -pipe -Wall -Werror=format-security -D_FORTIFY_SOURCE=2 -fstack-protector-strong --param=ssp-buffer-size=4 -fdebug-prefix-map=/mnt/share/cygpkgs/perl/perl.x86_64/build=/usr/src/debug/perl-5.32.1-2 -fdebug-prefix-map=/mnt/share/cygpkgs/perl/perl.x86_64/src/perl-5.32.1=/usr/src/debug/perl-5.32.1-2 -fwrapv -fno-strict-aliasing'
    optimize='-O3'
    cppflags='-DPERL_USE_SAFE_PUTENV -U__STRICT_ANSI__ -D_GNU_SOURCE -ggdb -O2 -pipe -Wall -Werror=format-security -D_FORTIFY_SOURCE=2 -fstack-protector-strong --param=ssp-buffer-size=4 -fdebug-prefix-map=/mnt/share/cygpkgs/perl/perl.x86_64/build=/usr/src/debug/perl-5.32.1-2 -fdebug-prefix-map=/mnt/share/cygpkgs/perl/perl.x86_64/src/perl-5.32.1=/usr/src/debug/perl-5.32.1-2 -fwrapv -fno-strict-aliasing'
    ccversion=''
    gccversion='10.2.0'
    gccosandvers=''
    intsize=4
    longsize=8
    ptrsize=8
    doublesize=8
    byteorder=12345678
    doublekind=3
    d_longlong=define
    longlongsize=8
    d_longdbl=define
    longdblsize=16
    longdblkind=3
    ivtype='long'
    ivsize=8
    nvtype='double'
    nvsize=8
    Off_t='off_t'
    lseeksize=8
    alignbytes=8
    prototype=define
  Linker and Libraries:
    ld='g++'
    ldflags =' -Wl,--enable-auto-import -Wl,--export-all-symbols -Wl,--enable-auto-image-base -fstack-protector-strong'
    libpth=/usr/lib
    libs=-lpthread -lnsl -lgdbm -ldb -ldl -lcrypt -lgdbm_compat
    perllibs=-lpthread -lnsl -ldl -lcrypt
    libc=/usr/lib/libcygwin.a
    so=dll
    useshrplib=true
    libperl=cygperl5_32.dll
    gnulibc_version=''
  Dynamic Linking:
    dlsrc=dl_dlopen.xs
    dlext=dll
    d_dlsymun=undef
    ccdlflags=' '
    cccdlflags=' '
    lddlflags=' --shared  -Wl,--enable-auto-import -Wl,--export-all-symbols -Wl,--enable-auto-image-base -fstack-protector-strong'


Characteristics of this binary (from libperl): 
  Compile-time options:
    HAS_TIMES
    MULTIPLICITY
    PERLIO_LAYERS
    PERL_COPY_ON_WRITE
    PERL_DONT_CREATE_GVSV
    PERL_IMPLICIT_CONTEXT
    PERL_OP_PARENT
    PERL_PRESERVE_IVUV
    PERL_USE_SAFE_PUTENV
    USE_64_BIT_ALL
    USE_64_BIT_INT
    USE_ITHREADS
    USE_LARGE_FILES
    USE_LOCALE
    USE_LOCALE_COLLATE
    USE_LOCALE_CTYPE
    USE_LOCALE_NUMERIC
    USE_LOCALE_TIME
    USE_PERLIO
    USE_PERL_ATOF
    USE_REENTRANT_API
    USE_THREAD_SAFE_LOCALE
  Locally applied patches:
    Cygwin: README
    Cygwin: use auto-image-base instead of fixed DLL base address
    Cygwin: modify hints
    Cygwin: Configure correct libsearch
    Cygwin: Configure correct libpth
    Cygwin: Encode fix for CVE-2021-36770
    Cygwin: Win32 correct UTF8 handling
  Built under cygwin
  Compiled at Aug 14 2021 09:07:12
  %ENV:
    PERL5LIB=""
    PERL5OPT=""
    PERL5_CPANPLUS_IS_RUNNING="408"
    PERL5_CPAN_IS_RUNNING="408"
    PERL_USE_UNSAFE_INC="1"
  @INC:
    /usr/local/lib/perl5/site_perl/5.32/x86_64-cygwin-threads
    /usr/local/share/perl5/site_perl/5.32
    /usr/lib/perl5/vendor_perl/5.32/x86_64-cygwin-threads
    /usr/share/perl5/vendor_perl/5.32
    /usr/lib/perl5/5.32/x86_64-cygwin-threads
    /usr/share/perl5/5.32
    .