Back
From: Steven Schubiger (SCHUBIGER)
Subject: PASS Box2D-0.05 v5.17.1 OpenBSD
Date: 2012-07-01T21:40:08Z
This distribution has been tested as part of the CPAN Testers
project, supporting the Perl programming language. See
http://wiki.cpantesters.org/ for more information or email
questions to cpan-testers-discuss@perl.org
--
Dear Jeffrey T. Palmer,
This is a computer-generated report for Box2D-0.05
on perl 5.17.1, created by CPAN-Reporter-1.2006.
Thank you for uploading your work to CPAN. Congratulations!
All tests were successful.
Sections of this report:
* Tester comments
* Program output
* Prerequisites
* Environment and other context
------------------------------
TESTER COMMENTS
------------------------------
Additional comments from tester:
this report is from an automated smoke testing program
and was not reviewed by a human for accuracy
------------------------------
PROGRAM OUTPUT
------------------------------
Output from './Build test':
Generating main XS file...
Unescaped left brace in regex is deprecated, passed through in regex; marked by <-- HERE in m/^( \%}
| \%{ <-- HERE | {\%
| [{}();%~*&,=/\.\-<>|]
| :: | :
)/ at /home/sts/cpansmoke/perl-5.17.1/cpan/build/ExtUtils-XSpp-0.1602-WHYlac/blib/lib/ExtUtils/XSpp/Lexer.pm line 204.
Unescaped left brace in regex is deprecated, passed through in regex; marked by <-- HERE in m/^( \%}
| \%{ <-- HERE | {\%
| [{}();%~*&,=/\.\-<>|]
| :: | :
)/ at /home/sts/cpansmoke/perl-5.17.1/cpan/build/ExtUtils-XSpp-0.1602-WHYlac/blib/lib/ExtUtils/XSpp/Lexer.pm line 204.
Unescaped left brace in regex is deprecated, passed through in regex; marked by <-- HERE in m/^( \%}
| \%{ <-- HERE | {\%
| [{}();%~*&,=/\.\-<>|]
| :: | :
)/ at /home/sts/cpansmoke/perl-5.17.1/cpan/build/ExtUtils-XSpp-0.1602-WHYlac/blib/lib/ExtUtils/XSpp/Lexer.pm line 204.
Unescaped left brace in regex is deprecated, passed through in regex; marked by <-- HERE in m/^( \%}
| \%{ <-- HERE | {\%
| [{}();%~*&,=/\.\-<>|]
| :: | :
)/ at /home/sts/cpansmoke/perl-5.17.1/cpan/build/ExtUtils-XSpp-0.1602-WHYlac/blib/lib/ExtUtils/XSpp/Lexer.pm line 204.
Unescaped left brace in regex is deprecated, passed through in regex; marked by <-- HERE in m/^( \%}
| \%{ <-- HERE | {\%
| [{}();%~*&,=/\.\-<>|]
| :: | :
)/ at /home/sts/cpansmoke/perl-5.17.1/cpan/build/ExtUtils-XSpp-0.1602-WHYlac/blib/lib/ExtUtils/XSpp/Lexer.pm line 204.
Unescaped left brace in regex is deprecated, passed through in regex; marked by <-- HERE in m/^( \%}
| \%{ <-- HERE | {\%
| [{}();%~*&,=/\.\-<>|]
| :: | :
)/ at /home/sts/cpansmoke/perl-5.17.1/cpan/build/ExtUtils-XSpp-0.1602-WHYlac/blib/lib/ExtUtils/XSpp/Lexer.pm line 204.
Unescaped left brace in regex is deprecated, passed through in regex; marked by <-- HERE in m/^( \%}
| \%{ <-- HERE | {\%
| [{}();%~*&,=/\.\-<>|]
| :: | :
)/ at /home/sts/cpansmoke/perl-5.17.1/cpan/build/ExtUtils-XSpp-0.1602-WHYlac/blib/lib/ExtUtils/XSpp/Lexer.pm line 204.
Unescaped left brace in regex is deprecated, passed through in regex; marked by <-- HERE in m/^( \%}
| \%{ <-- HERE | {\%
| [{}();%~*&,=/\.\-<>|]
| :: | :
)/ at /home/sts/cpansmoke/perl-5.17.1/cpan/build/ExtUtils-XSpp-0.1602-WHYlac/blib/lib/ExtUtils/XSpp/Lexer.pm line 204.
Unescaped left brace in regex is deprecated, passed through in regex; marked by <-- HERE in m/^( \%}
| \%{ <-- HERE | {\%
| [{}();%~*&,=/\.\-<>|]
| :: | :
)/ at /home/sts/cpansmoke/perl-5.17.1/cpan/build/ExtUtils-XSpp-0.1602-WHYlac/blib/lib/ExtUtils/XSpp/Lexer.pm line 204.
Unescaped left brace in regex is deprecated, passed through in regex; marked by <-- HERE in m/^( \%}
| \%{ <-- HERE | {\%
| [{}();%~*&,=/\.\-<>|]
| :: | :
)/ at /home/sts/cpansmoke/perl-5.17.1/cpan/build/ExtUtils-XSpp-0.1602-WHYlac/blib/lib/ExtUtils/XSpp/Lexer.pm line 204.
Unescaped left brace in regex is deprecated, passed through in regex; marked by <-- HERE in m/^( \%}
| \%{ <-- HERE | {\%
| [{}();%~*&,=/\.\-<>|]
| :: | :
)/ at /home/sts/cpansmoke/perl-5.17.1/cpan/build/ExtUtils-XSpp-0.1602-WHYlac/blib/lib/ExtUtils/XSpp/Lexer.pm line 204.
Unescaped left brace in regex is deprecated, passed through in regex; marked by <-- HERE in m/^( \%}
| \%{ <-- HERE | {\%
| [{}();%~*&,=/\.\-<>|]
| :: | :
)/ at /home/sts/cpansmoke/perl-5.17.1/cpan/build/ExtUtils-XSpp-0.1602-WHYlac/blib/lib/ExtUtils/XSpp/Lexer.pm line 204.
Unescaped left brace in regex is deprecated, passed through in regex; marked by <-- HERE in m/^( \%}
| \%{ <-- HERE | {\%
| [{}();%~*&,=/\.\-<>|]
| :: | :
)/ at /home/sts/cpansmoke/perl-5.17.1/cpan/build/ExtUtils-XSpp-0.1602-WHYlac/blib/lib/ExtUtils/XSpp/Lexer.pm line 204.
Unescaped left brace in regex is deprecated, passed through in regex; marked by <-- HERE in m/^( \%}
| \%{ <-- HERE | {\%
| [{}();%~*&,=/\.\-<>|]
| :: | :
)/ at /home/sts/cpansmoke/perl-5.17.1/cpan/build/ExtUtils-XSpp-0.1602-WHYlac/blib/lib/ExtUtils/XSpp/Lexer.pm line 204.
Unescaped left brace in regex is deprecated, passed through in regex; marked by <-- HERE in m/^( \%}
| \%{ <-- HERE | {\%
| [{}();%~*&,=/\.\-<>|]
| :: | :
)/ at /home/sts/cpansmoke/perl-5.17.1/cpan/build/ExtUtils-XSpp-0.1602-WHYlac/blib/lib/ExtUtils/XSpp/Lexer.pm line 204.
Unescaped left brace in regex is deprecated, passed through in regex; marked by <-- HERE in m/^( \%}
| \%{ <-- HERE | {\%
| [{}();%~*&,=/\.\-<>|]
| :: | :
)/ at /home/sts/cpansmoke/perl-5.17.1/cpan/build/ExtUtils-XSpp-0.1602-WHYlac/blib/lib/ExtUtils/XSpp/Lexer.pm line 204.
Unescaped left brace in regex is deprecated, passed through in regex; marked by <-- HERE in m/^( \%}
| \%{ <-- HERE | {\%
| [{}();%~*&,=/\.\-<>|]
| :: | :
)/ at /home/sts/cpansmoke/perl-5.17.1/cpan/build/ExtUtils-XSpp-0.1602-WHYlac/blib/lib/ExtUtils/XSpp/Lexer.pm line 204.
Unescaped left brace in regex is deprecated, passed through in regex; marked by <-- HERE in m/^( \%}
| \%{ <-- HERE | {\%
| [{}();%~*&,=/\.\-<>|]
| :: | :
)/ at /home/sts/cpansmoke/perl-5.17.1/cpan/build/ExtUtils-XSpp-0.1602-WHYlac/blib/lib/ExtUtils/XSpp/Lexer.pm line 204.
Unescaped left brace in regex is deprecated, passed through in regex; marked by <-- HERE in m/^( \%}
| \%{ <-- HERE | {\%
| [{}();%~*&,=/\.\-<>|]
| :: | :
)/ at /home/sts/cpansmoke/perl-5.17.1/cpan/build/ExtUtils-XSpp-0.1602-WHYlac/blib/lib/ExtUtils/XSpp/Lexer.pm line 204.
Unescaped left brace in regex is deprecated, passed through in regex; marked by <-- HERE in m/^( \%}
| \%{ <-- HERE | {\%
| [{}();%~*&,=/\.\-<>|]
| :: | :
)/ at /home/sts/cpansmoke/perl-5.17.1/cpan/build/ExtUtils-XSpp-0.1602-WHYlac/blib/lib/ExtUtils/XSpp/Lexer.pm line 204.
Unescaped left brace in regex is deprecated, passed through in regex; marked by <-- HERE in m/^( \%}
| \%{ <-- HERE | {\%
| [{}();%~*&,=/\.\-<>|]
| :: | :
)/ at /home/sts/cpansmoke/perl-5.17.1/cpan/build/ExtUtils-XSpp-0.1602-WHYlac/blib/lib/ExtUtils/XSpp/Lexer.pm line 204.
Unescaped left brace in regex is deprecated, passed through in regex; marked by <-- HERE in m/^( \%}
| \%{ <-- HERE | {\%
| [{}();%~*&,=/\.\-<>|]
| :: | :
)/ at /home/sts/cpansmoke/perl-5.17.1/cpan/build/ExtUtils-XSpp-0.1602-WHYlac/blib/lib/ExtUtils/XSpp/Lexer.pm line 204.
Unescaped left brace in regex is deprecated, passed through in regex; marked by <-- HERE in m/^( \%}
| \%{ <-- HERE | {\%
| [{}();%~*&,=/\.\-<>|]
| :: | :
)/ at /home/sts/cpansmoke/perl-5.17.1/cpan/build/ExtUtils-XSpp-0.1602-WHYlac/blib/lib/ExtUtils/XSpp/Lexer.pm line 204.
Unescaped left brace in regex is deprecated, passed through in regex; marked by <-- HERE in m/^( \%}
| \%{ <-- HERE | {\%
| [{}();%~*&,=/\.\-<>|]
| :: | :
)/ at /home/sts/cpansmoke/perl-5.17.1/cpan/build/ExtUtils-XSpp-0.1602-WHYlac/blib/lib/ExtUtils/XSpp/Lexer.pm line 204.
Unescaped left brace in regex is deprecated, passed through in regex; marked by <-- HERE in m/^( \%}
| \%{ <-- HERE | {\%
| [{}();%~*&,=/\.\-<>|]
| :: | :
)/ at /home/sts/cpansmoke/perl-5.17.1/cpan/build/ExtUtils-XSpp-0.1602-WHYlac/blib/lib/ExtUtils/XSpp/Lexer.pm line 204.
Unescaped left brace in regex is deprecated, passed through in regex; marked by <-- HERE in m/^( \%}
| \%{ <-- HERE | {\%
| [{}();%~*&,=/\.\-<>|]
| :: | :
)/ at /home/sts/cpansmoke/perl-5.17.1/cpan/build/ExtUtils-XSpp-0.1602-WHYlac/blib/lib/ExtUtils/XSpp/Lexer.pm line 204.
Unescaped left brace in regex is deprecated, passed through in regex; marked by <-- HERE in m/^( \%}
| \%{ <-- HERE | {\%
| [{}();%~*&,=/\.\-<>|]
| :: | :
)/ at /home/sts/cpansmoke/perl-5.17.1/cpan/build/ExtUtils-XSpp-0.1602-WHYlac/blib/lib/ExtUtils/XSpp/Lexer.pm line 204.
Unescaped left brace in regex is deprecated, passed through in regex; marked by <-- HERE in m/^( \%}
| \%{ <-- HERE | {\%
| [{}();%~*&,=/\.\-<>|]
| :: | :
)/ at /home/sts/cpansmoke/perl-5.17.1/cpan/build/ExtUtils-XSpp-0.1602-WHYlac/blib/lib/ExtUtils/XSpp/Lexer.pm line 204.
Unescaped left brace in regex is deprecated, passed through in regex; marked by <-- HERE in m/^( \%}
| \%{ <-- HERE | {\%
| [{}();%~*&,=/\.\-<>|]
| :: | :
)/ at /home/sts/cpansmoke/perl-5.17.1/cpan/build/ExtUtils-XSpp-0.1602-WHYlac/blib/lib/ExtUtils/XSpp/Lexer.pm line 204.
Unescaped left brace in regex is deprecated, passed through in regex; marked by <-- HERE in m/^( \%}
| \%{ <-- HERE | {\%
| [{}();%~*&,=/\.\-<>|]
| :: | :
)/ at /home/sts/cpansmoke/perl-5.17.1/cpan/build/ExtUtils-XSpp-0.1602-WHYlac/blib/lib/ExtUtils/XSpp/Lexer.pm line 204.
Unescaped left brace in regex is deprecated, passed through in regex; marked by <-- HERE in m/^( \%}
| \%{ <-- HERE | {\%
| [{}();%~*&,=/\.\-<>|]
| :: | :
)/ at /home/sts/cpansmoke/perl-5.17.1/cpan/build/ExtUtils-XSpp-0.1602-WHYlac/blib/lib/ExtUtils/XSpp/Lexer.pm line 204.
Unescaped left brace in regex is deprecated, passed through in regex; marked by <-- HERE in m/^( \%}
| \%{ <-- HERE | {\%
| [{}();%~*&,=/\.\-<>|]
| :: | :
)/ at /home/sts/cpansmoke/perl-5.17.1/cpan/build/ExtUtils-XSpp-0.1602-WHYlac/blib/lib/ExtUtils/XSpp/Lexer.pm line 204.
Unescaped left brace in regex is deprecated, passed through in regex; marked by <-- HERE in m/^( \%}
| \%{ <-- HERE | {\%
| [{}();%~*&,=/\.\-<>|]
| :: | :
)/ at /home/sts/cpansmoke/perl-5.17.1/cpan/build/ExtUtils-XSpp-0.1602-WHYlac/blib/lib/ExtUtils/XSpp/Lexer.pm line 204.
Unescaped left brace in regex is deprecated, passed through in regex; marked by <-- HERE in m/^( \%}
| \%{ <-- HERE | {\%
| [{}();%~*&,=/\.\-<>|]
| :: | :
)/ at /home/sts/cpansmoke/perl-5.17.1/cpan/build/ExtUtils-XSpp-0.1602-WHYlac/blib/lib/ExtUtils/XSpp/Lexer.pm line 204.
Unescaped left brace in regex is deprecated, passed through in regex; marked by <-- HERE in m/^( \%}
| \%{ <-- HERE | {\%
| [{}();%~*&,=/\.\-<>|]
| :: | :
)/ at /home/sts/cpansmoke/perl-5.17.1/cpan/build/ExtUtils-XSpp-0.1602-WHYlac/blib/lib/ExtUtils/XSpp/Lexer.pm line 204.
Unescaped left brace in regex is deprecated, passed through in regex; marked by <-- HERE in m/^( \%}
| \%{ <-- HERE | {\%
| [{}();%~*&,=/\.\-<>|]
| :: | :
)/ at /home/sts/cpansmoke/perl-5.17.1/cpan/build/ExtUtils-XSpp-0.1602-WHYlac/blib/lib/ExtUtils/XSpp/Lexer.pm line 204.
Unescaped left brace in regex is deprecated, passed through in regex; marked by <-- HERE in m/^( \%}
| \%{ <-- HERE | {\%
| [{}();%~*&,=/\.\-<>|]
| :: | :
)/ at /home/sts/cpansmoke/perl-5.17.1/cpan/build/ExtUtils-XSpp-0.1602-WHYlac/blib/lib/ExtUtils/XSpp/Lexer.pm line 204.
Unescaped left brace in regex is deprecated, passed through in regex; marked by <-- HERE in m/^( \%}
| \%{ <-- HERE | {\%
| [{}();%~*&,=/\.\-<>|]
| :: | :
)/ at /home/sts/cpansmoke/perl-5.17.1/cpan/build/ExtUtils-XSpp-0.1602-WHYlac/blib/lib/ExtUtils/XSpp/Lexer.pm line 204.
Unescaped left brace in regex is deprecated, passed through in regex; marked by <-- HERE in m/^( \%}
| \%{ <-- HERE | {\%
| [{}();%~*&,=/\.\-<>|]
| :: | :
)/ at /home/sts/cpansmoke/perl-5.17.1/cpan/build/ExtUtils-XSpp-0.1602-WHYlac/blib/lib/ExtUtils/XSpp/Lexer.pm line 204.
Unescaped left brace in regex is deprecated, passed through in regex; marked by <-- HERE in m/^( \%}
| \%{ <-- HERE | {\%
| [{}();%~*&,=/\.\-<>|]
| :: | :
)/ at /home/sts/cpansmoke/perl-5.17.1/cpan/build/ExtUtils-XSpp-0.1602-WHYlac/blib/lib/ExtUtils/XSpp/Lexer.pm line 204.
Unescaped left brace in regex is deprecated, passed through in regex; marked by <-- HERE in m/^( \%}
| \%{ <-- HERE | {\%
| [{}();%~*&,=/\.\-<>|]
| :: | :
)/ at /home/sts/cpansmoke/perl-5.17.1/cpan/build/ExtUtils-XSpp-0.1602-WHYlac/blib/lib/ExtUtils/XSpp/Lexer.pm line 204.
Unescaped left brace in regex is deprecated, passed through in regex; marked by <-- HERE in m/^( \%}
| \%{ <-- HERE | {\%
| [{}();%~*&,=/\.\-<>|]
| :: | :
)/ at /home/sts/cpansmoke/perl-5.17.1/cpan/build/ExtUtils-XSpp-0.1602-WHYlac/blib/lib/ExtUtils/XSpp/Lexer.pm line 204.
Unescaped left brace in regex is deprecated, passed through in regex; marked by <-- HERE in m/^( \%}
| \%{ <-- HERE | {\%
| [{}();%~*&,=/\.\-<>|]
| :: | :
)/ at /home/sts/cpansmoke/perl-5.17.1/cpan/build/ExtUtils-XSpp-0.1602-WHYlac/blib/lib/ExtUtils/XSpp/Lexer.pm line 204.
cc -I/home/sts/cpansmoke/perl-5.17.1/lib/5.17.1/OpenBSD.i386-openbsd-thread-multi/CORE -DXS_VERSION="0.05" -DVERSION="0.05" -DPIC -fPIC -xc++ -I/home/sts/cpansmoke/perl-5.17.1/cpan/build/Alien-Box2D-0.105-s5N7AA/blib/lib/auto/share/dist/Alien-Box2D/0.105/include -Isrc -Ibuildtmp -c -pthread -fno-strict-aliasing -pipe -fstack-protector -I/usr/local/include -O2 -o buildtmp/Box2D.o buildtmp/Box2D.c
ExtUtils::Mkbootstrap::Mkbootstrap('blib/arch/auto/Box2D/Box2D.bs')
cc -shared -fPIC -L/usr/local/lib -fstack-protector -o blib/arch/auto/Box2D/Box2D.so buildtmp/Box2D.o -lstdc++ -L/home/sts/cpansmoke/perl-5.17.1/cpan/build/Alien-Box2D-0.105-s5N7AA/blib/lib/auto/share/dist/Alien-Box2D/0.105/lib -Wl,-rpath,/home/sts/cpansmoke/perl-5.17.1/cpan/build/Alien-Box2D-0.105-s5N7AA/blib/lib/auto/share/dist/Alien-Box2D/0.105/lib -lBox2D -lm
# Testing Box2D 0.05, Perl 5.017001, /home/sts/cpansmoke/perl-5.17.1/bin/perl5.17.1
t/00-load.t ................. ok
Position 0, 3.99722218513489
Angle 0
Position 0, 3.99166655540466
Angle 0
Position 0, 3.98333311080933
Angle 0
Position 0, 3.97222208976746
Angle 0
Position 0, 3.95833325386047
Angle 0
Position 0, 3.94166660308838
Angle 0
Position 0, 3.92222213745117
Angle 0
Position 0, 3.89999985694885
Angle 0
Position 0, 3.87499976158142
Angle 0
Position 0, 3.84722208976746
Angle 0
Position 0, 3.81666660308838
Angle 0
Position 0, 3.78333330154419
Angle 0
Position 0, 3.74722218513489
Angle 0
Position 0, 3.70833325386047
Angle 0
Position 0, 3.66666650772095
Angle 0
Position 0, 3.62222194671631
Angle 0
Position 0, 3.57499980926514
Angle 0
Position 0, 3.52499985694885
Angle 0
Position 0, 3.47222208976746
Angle 0
Position 0, 3.41666650772095
Angle 0
Position 0, 3.35833311080933
Angle 0
Position 0, 3.29722189903259
Angle 0
Position 0, 3.23333311080933
Angle 0
Position 0, 3.16666650772095
Angle 0
Position 0, 3.09722208976746
Angle 0
Position 0, 3.02499985694885
Angle 0
Position 0, 2.94999980926514
Angle 0
Position 0, 2.87222194671631
Angle 0
Position 0, 2.79166650772095
Angle 0
Position 0, 2.70833325386047
Angle 0
Position 0, 2.62222218513489
Angle 0
Position 0, 2.53333330154419
Angle 0
Position 0, 2.44166660308838
Angle 0
Position 0, 2.34722208976746
Angle 0
Position 0, 2.25
Angle 0
Position 0, 2.15000009536743
Angle 0
Position 0, 2.04722237586975
Angle 0
Position 0, 1.94166684150696
Angle 0
Position 0, 1.83333349227905
Angle 0
Position 0, 1.72222244739532
Angle 0
Position 0, 1.60833358764648
Angle 0
Position 0, 1.49166691303253
Angle 0
Position 0, 1.37222254276276
Angle 0
Position 0, 1.25000035762787
Angle 0
Position 0, 1.12500035762787
Angle 0
Position 0, 1.01458215713501
Angle 0.000141258991789073
Position -4.37688452918205e-14, 1.01465082168579
Angle 0.000110041291918606
Position 1.9559597319585e-07, 1.01470816135406
Angle 8.5836771177128e-05
Position 2.17624190668175e-07, 1.01475596427917
Angle 6.70543886371888e-05
Position 2.12774054375586e-07, 1.01479601860046
Angle 5.24507340742275e-05
Position 2.13182147490443e-07, 1.01482951641083
Angle 4.10943539463915e-05
Position 2.14924355645962e-07, 1.01485753059387
Angle 3.22468658850994e-05
Position 2.16219717685817e-07, 1.01488089561462
Angle 2.53497182711726e-05
Position 2.17127407609041e-07, 1.01490044593811
Angle 1.99582445929991e-05
Position 2.1786298987081e-07, 1.01491677761078
Angle 1.57447611854877e-05
Position 2.18455696199271e-07, 1.01493036746979
Angle 1.24469415823114e-05
Position 2.18919780081706e-07, 1.01494181156158
Angle 9.85478163784137e-06
Position 2.19159971948102e-07, 1.01495134830475
Angle 7.81149174144957e-06
Position 2.19393925249278e-07, 1.01495933532715
Angle 6.20621995039983e-06
Position 2.1961686513805e-07, 1.01496589183807
Angle 4.9482005124446e-06
Position 2.19756984165542e-07, 1.01497149467468
Angle 3.95112601836445e-06
t/01-box2d.t ................ ok
t/02-b2math.t ............... ok
t/03-b2world.t .............. ok
In Perl Code setting listener at t/04-contact-listener.t line 80.
BeginContact! at t/04-contact-listener.t line 63.
Box2D::b2Contact=SCALAR(0x3c0416f4) at t/04-contact-listener.t line 63.
Box2D::b2Fixture=SCALAR(0x3c041774) Box2D::b2Fixture=SCALAR(0x3c041784) at t/04-contact-listener.t line 67.
0 -10 0 at t/04-contact-listener.t line 70.
2.99500012397766 1.00499999523163 1 at t/04-contact-listener.t line 71.
EndContact! at t/04-contact-listener.t line 74.
Box2D::b2Contact=SCALAR(0x3c0416f4) at t/04-contact-listener.t line 74.
Setting listener! at t/04-contact-listener.t line 86.
TestContact BeginContact at t/04-contact-listener.t line 137.
TestContact EndContact at t/04-contact-listener.t line 142.
t/04-contact-listener.t ..... ok
Position 0, 3.99722218513489
Angle 0
Position 0, 3.99166655540466
Angle 0
Position 0, 3.98333311080933
Angle 0
Position 0, 3.97222208976746
Angle 0
Position 0, 3.95833325386047
Angle 0
Position 0, 3.94166660308838
Angle 0
Position 0, 3.92222213745117
Angle 0
Position 0, 3.89999985694885
Angle 0
Position 0, 3.87499976158142
Angle 0
Position 0, 3.84722208976746
Angle 0
Position 0, 3.81666660308838
Angle 0
Position 0, 3.78333330154419
Angle 0
Position 0, 3.74722218513489
Angle 0
Position 0, 3.70833325386047
Angle 0
Position 0, 3.66666650772095
Angle 0
Position 0, 3.62222194671631
Angle 0
Position 0, 3.57499980926514
Angle 0
Position 0, 3.52499985694885
Angle 0
Position 0, 3.47222208976746
Angle 0
Position 0, 3.41666650772095
Angle 0
Position 0, 3.35833311080933
Angle 0
Position 0, 3.29722189903259
Angle 0
Position 0, 3.23333311080933
Angle 0
Position 0, 3.16666650772095
Angle 0
Position 0, 3.09722208976746
Angle 0
Position 0, 3.02499985694885
Angle 0
Position 0, 2.94999980926514
Angle 0
Position 0, 2.87222194671631
Angle 0
Position 0, 2.79166650772095
Angle 0
Position 0, 2.70833325386047
Angle 0
Position 0, 2.62222218513489
Angle 0
Position 0, 2.53333330154419
Angle 0
Position 0, 2.44166660308838
Angle 0
Position 0, 2.34722208976746
Angle 0
Position 0, 2.25
Angle 0
Position 0, 2.15000009536743
Angle 0
Position 0, 2.04722237586975
Angle 0
Position 0, 1.94166684150696
Angle 0
Position 0, 1.83333349227905
Angle 0
Position 0, 1.72222244739532
Angle 0
Position 0, 1.60833358764648
Angle 0
Position 0, 1.49166691303253
Angle 0
Position 0, 1.37222254276276
Angle 0
Position 0, 1.25000035762787
Angle 0
Position 0, 1.12500035762787
Angle 0
Position 0, 0.997222602367401
Angle 0
Position 0, 1.00002253055573
Angle 0
Position 0, 1.00181448459625
Angle 0
Position 0, 1.00296127796173
Angle 0
Position 0, 1.00336897373199
Angle 0
Position 0, 1.00369513034821
Angle 0
Position 0, 1.00395607948303
Angle 0
Position 0, 1.00416481494904
Angle 0
Position 0, 1.0043318271637
Angle 0
Position 0, 1.00446546077728
Angle 0
Position 0, 1.00457239151001
Angle 0
Position 0, 1.00465786457062
Angle 0
Position 0, 1.00472629070282
Angle 0
Position 0, 1.00478100776672
Angle 0
Position 0, 1.00482475757599
Angle 0
Position 0, 1.00485980510712
Angle 0
t/05-b2circle.t ............. ok
t/06-b2fixturedef.t ......... ok
t/07-b2body.t ............... ok
t/08-b2filter.t ............. ok
t/09-b2polygonshape.t ....... ok
t/10-b2distancejoint.t ...... ok
t/11-b2revolutejoint.t ...... ok
t/12-b2prismaticjoint.t ..... ok
t/13-b2pulleyjoint.t ........ ok
t/14-b2gearjoint.t .......... ok
t/15-b2mousejoint.t ......... ok
t/16-b2linejoint.t .......... ok
t/17-b2weldjoint.t .......... ok
t/18-b2frictionjoint.t ...... ok
t/19-b2aabb.t ............... ok
t/20-b2raycastinput.t ....... ok
t/21-b2raycastoutput.t ...... ok
t/22-b2massdata.t ........... ok
t/23-b2vec2.t ............... ok
t/24-b2mat22.t .............. ok
t/25-b2transform.t .......... ok
t/26-perlraycastcallback.t .. ok
t/27-b2raycastcallback.t .... ok
t/boilerplate.t ............. ok
t/manifest.t ................ skipped: Author tests not required for installation
t/pod-coverage.t ............ skipped: Test::Pod::Coverage 1.08 required for testing POD coverage
t/pod.t ..................... skipped: Test::Pod 1.22 required for testing POD
All tests successful.
Test Summary Report
-------------------
t/boilerplate.t (Wstat: 0 Tests: 3 Failed: 0)
TODO passed: 2-3
Files=32, Tests=554, 2 wallclock secs ( 0.27 usr 0.11 sys + 1.94 cusr 0.59 csys = 2.91 CPU)
Result: PASS
------------------------------
PREREQUISITES
------------------------------
Prerequisite modules loaded:
build_requires:
Module Need Have
------------------------------ ----- ------
Alien::Box2D 0.103 0.105
ExtUtils::Typemap::Basic 0.04 1.00
ExtUtils::Typemap::ObjectMap 0 1.00
ExtUtils::Typemap::STL::String 0.04 1.00
ExtUtils::XSpp 0.16 0.1602
Test::More 0 0.98
configure_requires:
Module Need Have
------------------------------ ----- ------
Alien::Box2D 0.103 0.105
ExtUtils::CppGuess 0.07 0.07
Module::Build 0.38 0.40
Module::Build::WithXSpp 0.10 0.11
------------------------------
ENVIRONMENT AND OTHER CONTEXT
------------------------------
Environment variables:
AUTOMATED_TESTING = 1
PATH = /home/sts/bin:/bin:/sbin:/usr/bin:/usr/sbin:/usr/X11R6/bin:/usr/local/bin:/usr/local/sbin:/usr/games:.
PERL5LIB = /home/sts/cpansmoke/perl-5.17.1/cpan/build/ExtUtils-Typemaps-Default-1.00-7DfTuY/blib/arch:/home/sts/cpansmoke/perl-5.17.1/cpan/build/ExtUtils-Typemaps-Default-1.00-7DfTuY/blib/lib:/home/sts/cpansmoke/perl-5.17.1/cpan/build/Alien-Box2D-0.105-s5N7AA/blib/arch:/home/sts/cpansmoke/perl-5.17.1/cpan/build/Alien-Box2D-0.105-s5N7AA/blib/lib:/home/sts/cpansmoke/perl-5.17.1/cpan/build/Archive-Zip-1.30-CFbLrV/blib/arch:/home/sts/cpansmoke/perl-5.17.1/cpan/build/Archive-Zip-1.30-CFbLrV/blib/lib:/home/sts/cpansmoke/perl-5.17.1/cpan/build/File-ShareDir-1.03-5QafS5/blib/arch:/home/sts/cpansmoke/perl-5.17.1/cpan/build/File-ShareDir-1.03-5QafS5/blib/lib:/home/sts/cpansmoke/perl-5.17.1/cpan/build/Class-Inspector-1.27-koogr5/blib/arch:/home/sts/cpansmoke/perl-5.17.1/cpan/build/Class-Inspector-1.27-koogr5/blib/lib:/home/sts/cpansmoke/perl-5.17.1/cpan/build/Text-Patch-1.8-FBc8Kv/blib/arch:/home/sts/cpansmoke/perl-5.17.1/cpan/build/Text-Patch-1.8-FBc8Kv/blib/lib:/home/sts/cpansmoke/perl-5.17.1/cpan/build/ExtUtils-CppGuess-0.07-9sRZsz/blib/arch:/home/sts/cpansmoke/perl-5.17.1/cpan/build/ExtUtils-CppGuess-0.07-9sRZsz/blib/lib:/home/sts/cpansmoke/perl-5.17.1/cpan/build/Module-Build-WithXSpp-0.11-cOeB67/blib/arch:/home/sts/cpansmoke/perl-5.17.1/cpan/build/Module-Build-WithXSpp-0.11-cOeB67/blib/lib:/home/sts/cpansmoke/perl-5.17.1/cpan/build/ExtUtils-XSpp-0.1602-WHYlac/blib/arch:/home/sts/cpansmoke/perl-5.17.1/cpan/build/ExtUtils-XSpp-0.1602-WHYlac/blib/lib:/home/sts/cpansmoke/perl-5.17.1/cpan/build/Test-Differences-0.61-7WbhEV/blib/arch:/home/sts/cpansmoke/perl-5.17.1/cpan/build/Test-Differences-0.61-7WbhEV/blib/lib:/home/sts/cpansmoke/perl-5.17.1/cpan/build/Text-Diff-1.41-5sjTH_/blib/arch:/home/sts/cpansmoke/perl-5.17.1/cpan/build/Text-Diff-1.41-5sjTH_/blib/lib:/home/sts/cpansmoke/perl-5.17.1/cpan/build/Algorithm-Diff-1.1902-syFPe_/blib/arch:/home/sts/cpansmoke/perl-5.17.1/cpan/build/Algorithm-Diff-1.1902-syFPe_/blib/lib:/home/sts/cpansmoke/perl-5.17.1/cpan/build/Test-Base-0.60-kSG22j/blib/arch:/home/sts/cpansmoke/perl-5.17.1/cpan/build/Test-Base-0.60-kSG22j/blib/lib:/home/sts/cpansmoke/perl-5.17.1/cpan/build/Spiffy-0.30-6sD4so/blib/arch:/home/sts/cpansmoke/perl-5.17.1/cpan/build/Spiffy-0.30-6sD4so/blib/lib
PERL5OPT =
PERL5_CPANPLUS_IS_RUNNING = 9735
PERL5_CPAN_IS_RUNNING = 9735
PERL5_CPAN_IS_RUNNING_IN_RECURSION = 25251,9735
PERL_CR_SMOKER_CURRENT = Box2D-0.05
PERL_EXTUTILS_AUTOINSTALL = --defaultdeps
PERL_MM_USE_DEFAULT = 1
SHELL = /usr/local/bin/bash
TERM = screen
TMPDIR = /home/sts/cpansmoke/tmp
Perl special variables (and OS-specific diagnostics, for MSWin32):
$^X = /home/sts/cpansmoke/perl-5.17.1/bin/perl5.17.1
$UID/$EUID = 1000 / 1000
$GID = 10 10 0
$EGID = 10 10 0
Perl module toolchain versions installed:
Module Have
------------------- --------
CPAN 1.9800
CPAN::Meta 2.120921
Cwd 3.39_02
ExtUtils::CBuilder 0.280208
ExtUtils::Command 1.17
ExtUtils::Install 1.58
ExtUtils::MakeMaker 6.63_02
ExtUtils::Manifest 1.61
ExtUtils::ParseXS 3.17
File::Spec 3.39_02
JSON n/a
JSON::PP 2.27200
Module::Build 0.40
Module::Signature n/a
Parse::CPAN::Meta 1.4404
Test::Harness 3.25
Test::More 0.98
YAML n/a
YAML::Syck n/a
version 0.99
--
Summary of my perl5 (revision 5 version 17 subversion 1) configuration:
Platform:
osname=openbsd, osvers=5.1, archname=OpenBSD.i386-openbsd-thread-multi
uname='openbsd cpansmoke3 5.1 generic.mp#188 i386 '
config_args='-des -Dusedevel -Dusethreads -Dprefix=/home/sts/cpansmoke/perl-5.17.1'
hint=recommended, useposix=true, d_sigaction=define
useithreads=define, usemultiplicity=define
useperlio=define, d_sfio=undef, uselargefiles=define, usesocks=undef
use64bitint=undef, use64bitall=undef, uselongdouble=undef
usemymalloc=y, bincompat5005=undef
Compiler:
cc='cc', ccflags ='-pthread -fno-strict-aliasing -pipe -fstack-protector -I/usr/local/include',
optimize='-O2',
cppflags='-pthread -fno-strict-aliasing -pipe -fstack-protector -I/usr/local/include'
ccversion='', gccversion='4.2.1 20070719 ', gccosandvers='openbsd5.1'
intsize=4, longsize=4, ptrsize=4, doublesize=8, byteorder=1234
d_longlong=define, longlongsize=8, d_longdbl=define, longdblsize=12
ivtype='long', ivsize=4, nvtype='double', nvsize=8, Off_t='off_t', lseeksize=8
alignbytes=4, prototype=define
Linker and Libraries:
ld='cc', ldflags ='-pthread -Wl,-E -fstack-protector -L/usr/local/lib'
libpth=/usr/local/lib /usr/lib
libs=-lgdbm -lm -lutil -lc
perllibs=-lm -lutil -lc
libc=/usr/lib/libc.so.62.0, so=so, useshrplib=false, libperl=libperl.a
gnulibc_version=''
Dynamic Linking:
dlsrc=dl_dlopen.xs, dlext=so, d_dlsymun=undef, ccdlflags=' '
cccdlflags='-DPIC -fPIC ', lddlflags='-shared -fPIC -L/usr/local/lib -fstack-protector'
Characteristics of this binary (from libperl):
Compile-time options: HAS_TIMES MULTIPLICITY MYMALLOC PERLIO_LAYERS
PERL_DONT_CREATE_GVSV PERL_IMPLICIT_CONTEXT
PERL_MALLOC_WRAP PERL_PRESERVE_IVUV PERL_USE_DEVEL
USE_ITHREADS USE_LARGE_FILES USE_LOCALE
USE_LOCALE_COLLATE USE_LOCALE_CTYPE
USE_LOCALE_NUMERIC USE_PERLIO USE_PERL_ATOF
USE_REENTRANT_API
Built under openbsd
Compiled at Jun 25 2012 07:59:35
%ENV:
PERL5LIB="/home/sts/cpansmoke/perl-5.17.1/cpan/build/ExtUtils-Typemaps-Default-1.00-7DfTuY/blib/arch:/home/sts/cpansmoke/perl-5.17.1/cpan/build/ExtUtils-Typemaps-Default-1.00-7DfTuY/blib/lib:/home/sts/cpansmoke/perl-5.17.1/cpan/build/Alien-Box2D-0.105-s5N7AA/blib/arch:/home/sts/cpansmoke/perl-5.17.1/cpan/build/Alien-Box2D-0.105-s5N7AA/blib/lib:/home/sts/cpansmoke/perl-5.17.1/cpan/build/Archive-Zip-1.30-CFbLrV/blib/arch:/home/sts/cpansmoke/perl-5.17.1/cpan/build/Archive-Zip-1.30-CFbLrV/blib/lib:/home/sts/cpansmoke/perl-5.17.1/cpan/build/File-ShareDir-1.03-5QafS5/blib/arch:/home/sts/cpansmoke/perl-5.17.1/cpan/build/File-ShareDir-1.03-5QafS5/blib/lib:/home/sts/cpansmoke/perl-5.17.1/cpan/build/Class-Inspector-1.27-koogr5/blib/arch:/home/sts/cpansmoke/perl-5.17.1/cpan/build/Class-Inspector-1.27-koogr5/blib/lib:/home/sts/cpansmoke/perl-5.17.1/cpan/build/Text-Patch-1.8-FBc8Kv/blib/arch:/home/sts/cpansmoke/perl-5.17.1/cpan/build/Text-Patch-1.8-FBc8Kv/blib/lib:/home/sts/cpansmoke/perl-5.17.1/cpan/build/ExtUtils-CppGuess-0.07-9sRZsz/blib/arch:/home/sts/cpansmoke/perl-5.17.1/cpan/build/ExtUtils-CppGuess-0.07-9sRZsz/blib/lib:/home/sts/cpansmoke/perl-5.17.1/cpan/build/Module-Build-WithXSpp-0.11-cOeB67/blib/arch:/home/sts/cpansmoke/perl-5.17.1/cpan/build/Module-Build-WithXSpp-0.11-cOeB67/blib/lib:/home/sts/cpansmoke/perl-5.17.1/cpan/build/ExtUtils-XSpp-0.1602-WHYlac/blib/arch:/home/sts/cpansmoke/perl-5.17.1/cpan/build/ExtUtils-XSpp-0.1602-WHYlac/blib/lib:/home/sts/cpansmoke/perl-5.17.1/cpan/build/Test-Differences-0.61-7WbhEV/blib/arch:/home/sts/cpansmoke/perl-5.17.1/cpan/build/Test-Differences-0.61-7WbhEV/blib/lib:/home/sts/cpansmoke/perl-5.17.1/cpan/build/Text-Diff-1.41-5sjTH_/blib/arch:/home/sts/cpansmoke/perl-5.17.1/cpan/build/Text-Diff-1.41-5sjTH_/blib/lib:/home/sts/cpansmoke/perl-5.17.1/cpan/build/Algorithm-Diff-1.1902-syFPe_/blib/arch:/home/sts/cpansmoke/perl-5.17.1/cpan/build/Algorithm-Diff-1.1902-syFPe_/blib/lib:/home/sts/cpansmoke/perl-5.17.1/cpan/build/Test-Base-0.60-kSG22j/blib/arch:/home/sts/cpansmoke/perl-5.17.1/cpan/build/Test-Base-0.60-kSG22j/blib/lib:/home/sts/cpansmoke/perl-5.17.1/cpan/build/Spiffy-0.30-6sD4so/blib/arch:/home/sts/cpansmoke/perl-5.17.1/cpan/build/Spiffy-0.30-6sD4so/blib/lib"
PERL5OPT=""
PERL5_CPANPLUS_IS_RUNNING="9735"
PERL5_CPAN_IS_RUNNING="9735"
PERL5_CPAN_IS_RUNNING_IN_RECURSION="25251,9735"
PERL_CR_SMOKER_CURRENT="Box2D-0.05"
PERL_EXTUTILS_AUTOINSTALL="--defaultdeps"
PERL_MM_USE_DEFAULT="1"
@INC:
/home/sts/cpansmoke/perl-5.17.1/cpan/build/ExtUtils-Typemaps-Default-1.00-7DfTuY/blib/arch
/home/sts/cpansmoke/perl-5.17.1/cpan/build/ExtUtils-Typemaps-Default-1.00-7DfTuY/blib/lib
/home/sts/cpansmoke/perl-5.17.1/cpan/build/Alien-Box2D-0.105-s5N7AA/blib/arch
/home/sts/cpansmoke/perl-5.17.1/cpan/build/Alien-Box2D-0.105-s5N7AA/blib/lib
/home/sts/cpansmoke/perl-5.17.1/cpan/build/Archive-Zip-1.30-CFbLrV/blib/arch
/home/sts/cpansmoke/perl-5.17.1/cpan/build/Archive-Zip-1.30-CFbLrV/blib/lib
/home/sts/cpansmoke/perl-5.17.1/cpan/build/File-ShareDir-1.03-5QafS5/blib/arch
/home/sts/cpansmoke/perl-5.17.1/cpan/build/File-ShareDir-1.03-5QafS5/blib/lib
/home/sts/cpansmoke/perl-5.17.1/cpan/build/Class-Inspector-1.27-koogr5/blib/arch
/home/sts/cpansmoke/perl-5.17.1/cpan/build/Class-Inspector-1.27-koogr5/blib/lib
/home/sts/cpansmoke/perl-5.17.1/cpan/build/Text-Patch-1.8-FBc8Kv/blib/arch
/home/sts/cpansmoke/perl-5.17.1/cpan/build/Text-Patch-1.8-FBc8Kv/blib/lib
/home/sts/cpansmoke/perl-5.17.1/cpan/build/ExtUtils-CppGuess-0.07-9sRZsz/blib/arch
/home/sts/cpansmoke/perl-5.17.1/cpan/build/ExtUtils-CppGuess-0.07-9sRZsz/blib/lib
/home/sts/cpansmoke/perl-5.17.1/cpan/build/Module-Build-WithXSpp-0.11-cOeB67/blib/arch
/home/sts/cpansmoke/perl-5.17.1/cpan/build/Module-Build-WithXSpp-0.11-cOeB67/blib/lib
/home/sts/cpansmoke/perl-5.17.1/cpan/build/ExtUtils-XSpp-0.1602-WHYlac/blib/arch
/home/sts/cpansmoke/perl-5.17.1/cpan/build/ExtUtils-XSpp-0.1602-WHYlac/blib/lib
/home/sts/cpansmoke/perl-5.17.1/cpan/build/Test-Differences-0.61-7WbhEV/blib/arch
/home/sts/cpansmoke/perl-5.17.1/cpan/build/Test-Differences-0.61-7WbhEV/blib/lib
/home/sts/cpansmoke/perl-5.17.1/cpan/build/Text-Diff-1.41-5sjTH_/blib/arch
/home/sts/cpansmoke/perl-5.17.1/cpan/build/Text-Diff-1.41-5sjTH_/blib/lib
/home/sts/cpansmoke/perl-5.17.1/cpan/build/Algorithm-Diff-1.1902-syFPe_/blib/arch
/home/sts/cpansmoke/perl-5.17.1/cpan/build/Algorithm-Diff-1.1902-syFPe_/blib/lib
/home/sts/cpansmoke/perl-5.17.1/cpan/build/Test-Base-0.60-kSG22j/blib/arch
/home/sts/cpansmoke/perl-5.17.1/cpan/build/Test-Base-0.60-kSG22j/blib/lib
/home/sts/cpansmoke/perl-5.17.1/cpan/build/Spiffy-0.30-6sD4so/blib/arch
/home/sts/cpansmoke/perl-5.17.1/cpan/build/Spiffy-0.30-6sD4so/blib/lib
/home/sts/cpansmoke/perl-5.17.1/lib/site_perl/5.17.1/OpenBSD.i386-openbsd-thread-multi
/home/sts/cpansmoke/perl-5.17.1/lib/site_perl/5.17.1
/home/sts/cpansmoke/perl-5.17.1/lib/5.17.1/OpenBSD.i386-openbsd-thread-multi
/home/sts/cpansmoke/perl-5.17.1/lib/5.17.1
.