CGI v4.63 Perl 5 v5.38.2 x86_64-linux-thread-multi
- Status
- Pass
- From
- Michael Roberts
- Dist
-
CGI v4.63
- Platform
- Perl 5 v5.38.2 x86_64-linux-thread-multi
- Date
- 2024-03-07 22:02:03
- ID
- 548b3f4a-dcce-11ee-9538-4d460c6028d3
This distribution has been tested as part of the CPAN Testers
project, supporting the Perl programming language. See
http://wiki.cpantesters.org/ for more information or email
questions to cpan-testers-discuss@perl.org
--
Dear Lee Johnson,
This is a computer-generated report for CGI-4.63
on perl 5.38.2, created by CPAN-Reporter-1.2019.
Thank you for uploading your work to CPAN. Congratulations!
All tests were successful.
Sections of this report:
* Tester comments
* Program output
* Prerequisites
* Environment and other context
------------------------------
TESTER COMMENTS
------------------------------
Additional comments from tester:
none provided
------------------------------
PROGRAM OUTPUT
------------------------------
Output from '/usr/bin/make test':
PERL_DL_NONLAZY=1 "/usr/bin/perl" "-MExtUtils::Command::MM" "-MTest::Harness" "-e" "undef *Test::Harness::Switches; test_harness(0, 'blib/lib', 'blib/arch')" t/*.t t/headers/*.t
t/append_query.t ............ ok
t/arbitrary_handles.t ....... ok
t/autoescape.t .............. ok
t/can.t ..................... ok
[Thu Mar 7 23:01:59 2024] carp.t: foo at /home/mike/.cpan/build/CGI-4.63-0/blib/lib/CGI/Carp.pm line 360.
t/carp.t .................... ok
# cgi-lib.pl routines
private_tempfiles has been deprecated at /home/mike/.cpan/build/CGI-4.63-0/blib/lib/CGI.pm line 3241.
t/cgi.t ..................... ok
t/charset.t ................. ok
t/checkbox_group.t .......... ok
t/command_line.t ............ ok
t/compiles_pod.t ............ ok
t/cookie.t .................. ok
t/delete.t .................. ok
t/Dump.t .................... ok
t/end_form.t ................ ok
t/form.t .................... ok
t/function.t ................ ok
t/gh-155.t .................. ok
t/headers.t ................. ok
t/headers/attachment.t ...... ok
t/headers/charset.t ......... ok
t/headers/cookie.t .......... ok
t/headers/default.t ......... ok
t/headers/nph.t ............. ok
t/headers/p3p.t ............. ok
t/headers/target.t .......... ok
t/headers/type.t ............ ok
t/hidden.t .................. ok
t/html.t .................... ok
t/html_functions.t .......... ok
t/http.t .................... ok
t/init.t .................... ok
t/multipart_globals.t ....... ok
t/multipart_init.t .......... ok
t/multipart_start.t ......... ok
t/no_tabindex.t ............. ok
t/param_fetch.t ............. ok
t/param_list_context.t ...... ok
t/popup_menu.t .............. ok
t/postdata.t ................ ok
CGI::Pretty is DEPRECATED and will be removed in a future release. Please see https://github.com/leejo/CGI.pm/issues/162 for more information at /home/mike/.cpan/build/CGI-4.63-0/blib/lib/CGI/Pretty.pm line 20.
t/pretty.t .................. ok
t/push.t .................... ok
t/query_string.t ............ ok
t/redirect_query_string.t ... ok
t/request.t ................. ok
t/rt-31107.t ................ ok
t/rt-52469.t ................ ok
t/rt-57524.t ................ ok
t/rt-75628.t ................ ok
t/rt-84767.t ................ ok
t/save_read_roundtrip.t ..... ok
t/sorted.t .................. ok
t/start_end_asterisk.t ...... ok
t/start_end_end.t ........... ok
t/start_end_start.t ......... ok
t/unescapeHTML.t ............ ok
t/upload.t .................. ok
t/upload_quoted_unquoted.t .. ok
t/uploadInfo.t .............. ok
t/url.t ..................... ok
t/user_agent.t .............. ok
t/utf8.t .................... ok
t/util-58.t ................. ok
t/util.t .................... ok
All tests successful.
Files=63, Tests=1595, 3 wallclock secs ( 0.16 usr 0.06 sys + 2.93 cusr 0.40 csys = 3.55 CPU)
Result: PASS
------------------------------
PREREQUISITES
------------------------------
Prerequisite modules loaded:
requires:
Module Need Have
------------------- -------- --------
Carp 0 1.54
Config 0 5.038002
Encode 0 3.21
Exporter 0 5.78
File::Spec 0.82 3.88
File::Temp 0.17 0.2311
HTML::Entities 3.69 3.81
if 0 0.0610
overload 0 1.37
parent 0.225 0.241
perl 5.008001 5.038002
strict 0 1.12
URI 1.76 5.27
utf8 0 1.25
warnings 0 1.65
build_requires:
Module Need Have
------------------- -------- --------
Cwd 0 3.89
ExtUtils::MakeMaker 0 7.70
File::Find 0 1.43
IO::File 0 1.55
IO::Handle 0 1.55
POSIX 0 2.13
Test::More 0.98 1.302198
Test::NoWarnings 0 1.06
Test::Warn 0.3 0.37
configure_requires:
Module Need Have
------------------- -------- --------
ExtUtils::MakeMaker 0 7.70
------------------------------
ENVIRONMENT AND OTHER CONTEXT
------------------------------
Environment variables:
LANG = en_GB.UTF-8
LANGUAGE =
LC_MEASUREMENT = fr_FR.UTF-8
LC_MONETARY = fr_FR.UTF-8
NONINTERACTIVE_TESTING = 1
PATH = /home/mike/bin:/usr/local/bin:/usr/bin:/bin
PERL5LIB =
PERL5OPT =
PERL5_CPANPLUS_IS_RUNNING = 7157
PERL5_CPAN_IS_RUNNING = 7157
PERL_MM_USE_DEFAULT = 1
PERL_USE_UNSAFE_INC = 1
SHELL = /bin/bash
TERM = xterm-256color
Perl special variables (and OS-specific diagnostics, for MSWin32):
$^X = /usr/bin/perl
$UID/$EUID = 1000 / 1000
$GID = 1000 474 489 1000
$EGID = 1000 474 489 1000
Perl module toolchain versions installed:
Module Have
------------------- --------
CPAN 2.36
CPAN::Meta 2.150010
Cwd 3.89
ExtUtils::CBuilder 0.280238
ExtUtils::Command 7.70
ExtUtils::Install 2.22
ExtUtils::MakeMaker 7.70
ExtUtils::Manifest 1.75
ExtUtils::ParseXS 3.51
File::Spec 3.88
JSON 4.10
JSON::PP 4.16
Module::Build 0.4234
Module::Signature 0.88
Parse::CPAN::Meta 2.150010
Test2 1.302198
Test::Harness 3.48
Test::More 1.302198
YAML 1.31
YAML::Syck n/a
version 0.9930
--
Summary of my perl5 (revision 5 version 38 subversion 2) configuration:
Platform:
osname=linux
osvers=6.7.2-1-default
archname=x86_64-linux-thread-multi
uname='reproducible'
config_args='-ds -e -Dprefix=/usr -Dvendorprefix=/usr -Dinstallusrbinperl -Dusethreads -Di_db -Di_dbm -Di_ndbm -Di_gdbm -Dd_dbm_open -Duseshrplib=true -Doptimize=-O2 -Wall -U_FORTIFY_SOURCE -D_FORTIFY_SOURCE=3 -fstack-protector-strong -funwind-tables -fasynchronous-unwind-tables -fstack-clash-protection -Werror=return-type -g -Wall -pipe -Duse64bitint -Dotherlibdirs=/usr/lib/perl5/site_perl -Dinc_version_list=5.38.0/x86_64-linux-thread-multi 5.38.0'
hint=recommended
useposix=true
d_sigaction=define
useithreads=define
usemultiplicity=define
use64bitint=define
use64bitall=define
uselongdouble=undef
usemymalloc=n
default_inc_excludes_dot=define
Compiler:
cc='cc'
ccflags ='-D_REENTRANT -D_GNU_SOURCE -fwrapv -fno-strict-aliasing -pipe -fstack-protector-strong -D_LARGEFILE_SOURCE -D_FILE_OFFSET_BITS=64'
optimize='-O2 -Wall -U_FORTIFY_SOURCE -D_FORTIFY_SOURCE=3 -fstack-protector-strong -funwind-tables -fasynchronous-unwind-tables -fstack-clash-protection -Werror=return-type -g -Wall -pipe'
cppflags='-D_REENTRANT -D_GNU_SOURCE -fwrapv -fno-strict-aliasing -pipe -fstack-protector-strong'
ccversion=''
gccversion='13.2.1 20240125 [revision fc7d87e0ffadca49bec29b2107c1efd0da6b6ded]'
gccosandvers=''
intsize=4
longsize=8
ptrsize=8
doublesize=8
byteorder=12345678
doublekind=3
d_longlong=define
longlongsize=8
d_longdbl=define
longdblsize=16
longdblkind=3
ivtype='long'
ivsize=8
nvtype='double'
nvsize=8
Off_t='off_t'
lseeksize=8
alignbytes=8
prototype=define
Linker and Libraries:
ld='cc'
ldflags =' -L/usr/local/lib64 -fstack-protector-strong'
libpth=/usr/local/lib /usr/x86_64-suse-linux/lib /usr/lib /usr/lib64 /usr/local/lib64
libs=-lm -ldl -lcrypt -lpthread
perllibs=-lm -ldl -lcrypt -lpthread
libc=/lib64//lib64/libc.so.6
so=so
useshrplib=true
libperl=libperl.so
gnulibc_version='2.39'
Dynamic Linking:
dlsrc=dl_dlopen.xs
dlext=so
d_dlsymun=undef
ccdlflags='-Wl,-E -Wl,-rpath,/usr/lib/perl5/5.38.2/x86_64-linux-thread-multi/CORE'
cccdlflags='-fPIC'
lddlflags='-shared -L/usr/local/lib64 -fstack-protector-strong'
Characteristics of this binary (from libperl):
Compile-time options:
HAS_LONG_DOUBLE
HAS_STRTOLD
HAS_TIMES
MULTIPLICITY
PERLIO_LAYERS
PERL_COPY_ON_WRITE
PERL_DONT_CREATE_GVSV
PERL_HASH_FUNC_SIPHASH13
PERL_HASH_USE_SBOX32
PERL_MALLOC_WRAP
PERL_OP_PARENT
PERL_PRESERVE_IVUV
PERL_USE_SAFE_PUTENV
USE_64_BIT_ALL
USE_64_BIT_INT
USE_ITHREADS
USE_LARGE_FILES
USE_LOCALE
USE_LOCALE_COLLATE
USE_LOCALE_CTYPE
USE_LOCALE_NUMERIC
USE_LOCALE_TIME
USE_PERLIO
USE_PERL_ATOF
USE_REENTRANT_API
USE_THREAD_SAFE_LOCALE
Built under linux
Compiled at Nov 27 2023 00:00:00
%ENV:
PERL5LIB=""
PERL5OPT=""
PERL5_CPANPLUS_IS_RUNNING="7157"
PERL5_CPAN_IS_RUNNING="7157"
PERL_MM_USE_DEFAULT="1"
PERL_USE_UNSAFE_INC="1"
@INC:
/usr/lib/perl5/site_perl/5.38.2/x86_64-linux-thread-multi
/usr/lib/perl5/site_perl/5.38.2
/usr/lib/perl5/vendor_perl/5.38.2/x86_64-linux-thread-multi
/usr/lib/perl5/vendor_perl/5.38.2
/usr/lib/perl5/5.38.2/x86_64-linux-thread-multi
/usr/lib/perl5/5.38.2
/usr/lib/perl5/site_perl/5.38.0/x86_64-linux-thread-multi
/usr/lib/perl5/site_perl/5.38.0
/usr/lib/perl5/vendor_perl/5.38.0/x86_64-linux-thread-multi
/usr/lib/perl5/vendor_perl/5.38.0
/usr/lib/perl5/site_perl
.