CGI v4.57 Perl 5 v5.32.1 x86_64-linux-gnu-thread-multi

Status
Pass
From
Slaven Rezić
Dist
CGI v4.57
Platform
Perl 5 v5.32.1 x86_64-linux-gnu-thread-multi
Date
2023-05-02 13:36:29
ID
584207c4-e8ee-11ed-9b2c-5d0e6e8775ea
This distribution has been tested as part of the CPAN Testers
project, supporting the Perl programming language.  See
http://wiki.cpantesters.org/ for more information or email
questions to cpan-testers-discuss@perl.org


--
Dear Lee Johnson,

This is a computer-generated report for CGI-4.57
on perl 5.32.1, created by CPAN-Reporter-1.2018.

Thank you for uploading your work to CPAN.  Congratulations!
All tests were successful.

Sections of this report:

    * Tester comments
    * Program output
    * Prerequisites
    * Environment and other context

------------------------------
TESTER COMMENTS
------------------------------

Additional comments from tester:

none provided

------------------------------
PROGRAM OUTPUT
------------------------------

Output from '/usr/bin/make test':

PERL_DL_NONLAZY=1 "/usr/bin/perl" "-MExtUtils::Command::MM" "-MTest::Harness" "-e" "undef *Test::Harness::Switches; test_harness(0, 'blib/lib', 'blib/arch')" t/*.t t/headers/*.t
t/append_query.t ............ ok
t/arbitrary_handles.t ....... ok
t/autoescape.t .............. ok
t/can.t ..................... ok
[Tue May  2 13:35:20 2023] carp.t: foo at /home/cpansand/.cpan/build/2023050213/CGI-4.57-2/blib/lib/CGI/Carp.pm line 360.
t/carp.t .................... ok
# cgi-lib.pl routines
private_tempfiles has been deprecated at /home/cpansand/.cpan/build/2023050213/CGI-4.57-2/blib/lib/CGI.pm line 3238.
t/cgi.t ..................... ok
t/changes.t ................. skipped: Test::CPAN::Changes required for this test
t/charset.t ................. ok
t/checkbox_group.t .......... ok
t/command_line.t ............ ok
t/compiles_pod.t ............ ok
t/cookie.t .................. ok
t/delete.t .................. ok
t/Dump.t .................... ok
t/end_form.t ................ ok
t/form.t .................... ok
t/function.t ................ ok
t/gh-155.t .................. ok
t/headers.t ................. ok
t/headers/attachment.t ...... ok
t/headers/charset.t ......... ok
t/headers/cookie.t .......... ok
t/headers/default.t ......... ok
t/headers/nph.t ............. ok
t/headers/p3p.t ............. ok
t/headers/target.t .......... ok
t/headers/type.t ............ ok
t/hidden.t .................. ok
t/html.t .................... ok
t/html_functions.t .......... ok
t/http.t .................... ok
t/init.t .................... ok
t/multipart_globals.t ....... ok
t/multipart_init.t .......... ok
t/multipart_start.t ......... ok
t/no_tabindex.t ............. ok
t/param_fetch.t ............. ok
t/param_list_context.t ...... ok
t/popup_menu.t .............. ok
t/postdata.t ................ ok
CGI::Pretty is DEPRECATED and will be removed in a future release. Please see https://github.com/leejo/CGI.pm/issues/162 for more information at /home/cpansand/.cpan/build/2023050213/CGI-4.57-2/blib/lib/CGI/Pretty.pm line 20.
t/pretty.t .................. ok
t/push.t .................... ok
t/query_string.t ............ ok
t/redirect_query_string.t ... ok
t/request.t ................. ok
t/rt-31107.t ................ ok
t/rt-52469.t ................ ok
t/rt-57524.t ................ ok
t/rt-75628.t ................ ok
t/rt-84767.t ................ ok
t/save_read_roundtrip.t ..... ok
t/sorted.t .................. ok
t/start_end_asterisk.t ...... ok
t/start_end_end.t ........... ok
t/start_end_start.t ......... ok
t/unescapeHTML.t ............ ok
t/upload.t .................. ok
t/upload_quoted_unquoted.t .. ok
t/uploadInfo.t .............. ok
t/url.t ..................... ok
t/user_agent.t .............. ok
t/utf8.t .................... ok
t/util-58.t ................. ok
t/util.t .................... ok
All tests successful.

Test Summary Report
-------------------
t/compiles_pod.t          (Wstat: 0 Tests: 18 Failed: 0)
  TODO passed:   3, 6
Files=64, Tests=1588,  4 wallclock secs ( 0.28 usr  0.07 sys +  3.76 cusr  0.51 csys =  4.62 CPU)
Result: PASS

------------------------------
PREREQUISITES
------------------------------

Prerequisite modules loaded:

requires:

    Module              Need     Have    
    ------------------- -------- --------
    Carp                0        1.50    
    Config              0        5.032001
    Encode              0        3.06    
    Exporter            0        5.74    
    File::Spec          0.82     3.78    
    File::Temp          0.17     0.2309  
    HTML::Entities      3.69     3.75    
    if                  0        0.0608  
    overload            0        1.31    
    parent              0.225    0.238   
    perl                5.008001 5.032001
    strict              0        1.11    
    utf8                0        1.22    
    warnings            0        1.47    

build_requires:

    Module              Need     Have    
    ------------------- -------- --------
    Cwd                 0        3.78    
    ExtUtils::MakeMaker 0        7.44    
    File::Find          0        1.37    
    IO::File            0        1.41    
    IO::Handle          0        1.42    
    POSIX               0        1.94    
    Test::More          0.98     1.302175
    Test::NoWarnings    0        1.06    
    Test::Warn          0.3      0.37    

configure_requires:

    Module              Need     Have    
    ------------------- -------- --------
    ExtUtils::MakeMaker 0        7.44    


------------------------------
ENVIRONMENT AND OTHER CONTEXT
------------------------------

Environment variables:

    LANG = en_US.UTF-8
    PATH = /usr/local/bin:/usr/bin:/bin:/usr/local/sbin:/usr/sbin:/sbin:/home/cpansand/bin/linux-gnu:/home/cpansand/bin/sh:/home/cpansand/bin:/usr/games:/home/cpansand/devel:/home/eserte/src/srezic-misc/scripts
    PERL5LIB = /home/cpansand/.cpan/build/2023050213/Test-Warn-0.37-0/blib/arch:/home/cpansand/.cpan/build/2023050213/Test-Warn-0.37-0/blib/lib:/home/cpansand/.cpan/build/2023050213/Test-NoWarnings-1.06-0/blib/arch:/home/cpansand/.cpan/build/2023050213/Test-NoWarnings-1.06-0/blib/lib
    PERL5OPT = 
    PERL5_CPANPLUS_IS_RUNNING = 3491358
    PERL5_CPAN_IS_RUNNING = 3491358
    PERL5_CPAN_IS_RUNNING_IN_RECURSION = 3491261,3491358
    PERLDOC = -MPod::Perldoc::ToTextOverstrike
    PERL_BATCH = yes
    PERL_CANARY_STABILITY_NOPROMPT = 1
    PERL_CPAN_REPORTER_CONFIG = /var/tmp/cpansmoker-1023/2023050213/cpanreporter_000_config.ini
    PERL_EXTUTILS_AUTOINSTALL = --defaultdeps
    PERL_USE_UNSAFE_INC = 1
    SHELL = /usr/bin/zsh
    TERM = screen
    TMPDIR = /var/tmp/cpansmoker-1023/2023050213

Perl special variables (and OS-specific diagnostics, for MSWin32):

    $^X = /usr/bin/perl
    $UID/$EUID = 1023 / 1023
    $GID = 1023 1023
    $EGID = 1023 1023

Perl module toolchain versions installed:

    Module              Have    
    ------------------- --------
    CPAN                2.27    
    CPAN::Meta          2.150010
    Cwd                 3.78    
    ExtUtils::CBuilder  0.280234
    ExtUtils::Command   7.44    
    ExtUtils::Install   2.14    
    ExtUtils::MakeMaker 7.44    
    ExtUtils::Manifest  1.72    
    ExtUtils::ParseXS   3.40    
    File::Spec          3.78    
    JSON                4.03    
    JSON::PP            4.04    
    Module::Build       n/a     
    Module::Signature   n/a     
    Parse::CPAN::Meta   2.150010
    Test::Harness       3.42    
    Test::More          1.302175
    YAML                1.30    
    YAML::Syck          1.34    
    version             0.9924  


--

Summary of my perl5 (revision 5 version 32 subversion 1) configuration:
   
  Platform:
    osname=linux
    osvers=4.19.0
    archname=x86_64-linux-gnu-thread-multi
    uname='linux localhost 4.19.0 #1 smp debian 4.19.0 x86_64 gnulinux '
    config_args='-Dmksymlinks -Dusethreads -Duselargefiles -Dcc=x86_64-linux-gnu-gcc -Dcpp=x86_64-linux-gnu-cpp -Dld=x86_64-linux-gnu-gcc -Dccflags=-DDEBIAN -Wdate-time -D_FORTIFY_SOURCE=2 -g -O2 -ffile-prefix-map=/dummy/build/dir=. -fstack-protector-strong -Wformat -Werror=format-security -Dldflags= -Wl,-z,relro -Dlddlflags=-shared -Wl,-z,relro -Dcccdlflags=-fPIC -Darchname=x86_64-linux-gnu -Dprefix=/usr -Dprivlib=/usr/share/perl/5.32 -Darchlib=/usr/lib/x86_64-linux-gnu/perl/5.32 -Dvendorprefix=/usr -Dvendorlib=/usr/share/perl5 -Dvendorarch=/usr/lib/x86_64-linux-gnu/perl5/5.32 -Dsiteprefix=/usr/local -Dsitelib=/usr/local/share/perl/5.32.1 -Dsitearch=/usr/local/lib/x86_64-linux-gnu/perl/5.32.1 -Dman1dir=/usr/share/man/man1 -Dman3dir=/usr/share/man/man3 -Dsiteman1dir=/usr/local/man/man1 -Dsiteman3dir=/usr/local/man/man3 -Duse64bitint -Dman1ext=1 -Dman3ext=3perl -Dpager=/usr/bin/sensible-pager -Uafs -Ud_csh -Ud_ualarm -Uusesfio -Uusenm -Ui_libutil -Ui_xlocale -Uversiononly -DDEBUGGING=-g -Doptimize=-O2 -dEs -Duseshrplib -Dlibperl=libperl.so.5.32.1'
    hint=recommended
    useposix=true
    d_sigaction=define
    useithreads=define
    usemultiplicity=define
    use64bitint=define
    use64bitall=define
    uselongdouble=undef
    usemymalloc=n
    default_inc_excludes_dot=define
    bincompat5005=undef
  Compiler:
    cc='x86_64-linux-gnu-gcc'
    ccflags ='-D_REENTRANT -D_GNU_SOURCE -DDEBIAN -fwrapv -fno-strict-aliasing -pipe -I/usr/local/include -D_LARGEFILE_SOURCE -D_FILE_OFFSET_BITS=64'
    optimize='-O2 -g'
    cppflags='-D_REENTRANT -D_GNU_SOURCE -DDEBIAN -fwrapv -fno-strict-aliasing -pipe -I/usr/local/include'
    ccversion=''
    gccversion='10.2.1 20210110'
    gccosandvers=''
    intsize=4
    longsize=8
    ptrsize=8
    doublesize=8
    byteorder=12345678
    doublekind=3
    d_longlong=define
    longlongsize=8
    d_longdbl=define
    longdblsize=16
    longdblkind=3
    ivtype='long'
    ivsize=8
    nvtype='double'
    nvsize=8
    Off_t='off_t'
    lseeksize=8
    alignbytes=8
    prototype=define
  Linker and Libraries:
    ld='x86_64-linux-gnu-gcc'
    ldflags =' -fstack-protector-strong -L/usr/local/lib'
    libpth=/usr/local/lib /usr/include/x86_64-linux-gnu /usr/lib /lib/x86_64-linux-gnu /lib/../lib /usr/lib/x86_64-linux-gnu /usr/lib/../lib /lib
    libs=-lgdbm -lgdbm_compat -ldb -ldl -lm -lpthread -lc -lcrypt
    perllibs=-ldl -lm -lpthread -lc -lcrypt
    libc=libc-2.31.so
    so=so
    useshrplib=true
    libperl=libperl.so.5.32
    gnulibc_version='2.31'
  Dynamic Linking:
    dlsrc=dl_dlopen.xs
    dlext=so
    d_dlsymun=undef
    ccdlflags='-Wl,-E'
    cccdlflags='-fPIC'
    lddlflags='-shared -L/usr/local/lib -fstack-protector-strong'


Characteristics of this binary (from libperl): 
  Compile-time options:
    HAS_TIMES
    MULTIPLICITY
    PERLIO_LAYERS
    PERL_COPY_ON_WRITE
    PERL_DONT_CREATE_GVSV
    PERL_IMPLICIT_CONTEXT
    PERL_MALLOC_WRAP
    PERL_OP_PARENT
    PERL_PRESERVE_IVUV
    USE_64_BIT_ALL
    USE_64_BIT_INT
    USE_ITHREADS
    USE_LARGE_FILES
    USE_LOCALE
    USE_LOCALE_COLLATE
    USE_LOCALE_CTYPE
    USE_LOCALE_NUMERIC
    USE_LOCALE_TIME
    USE_PERLIO
    USE_PERL_ATOF
    USE_REENTRANT_API
    USE_THREAD_SAFE_LOCALE
  Locally applied patches:
    DEBPKG:debian/cpan_definstalldirs - Provide a sensible INSTALLDIRS default for modules installed from CPAN.
    DEBPKG:debian/db_file_ver - https://bugs.debian.org/340047 Remove overly restrictive DB_File version check.
    DEBPKG:debian/doc_info - Replace generic man(1) instructions with Debian-specific information.
    DEBPKG:debian/enc2xs_inc - https://bugs.debian.org/290336 Tweak enc2xs to follow symlinks and ignore missing @INC directories.
    DEBPKG:debian/errno_ver - https://bugs.debian.org/343351 Remove Errno version check due to upgrade problems with long-running processes.
    DEBPKG:debian/libperl_embed_doc - https://bugs.debian.org/186778 Note that libperl-dev package is required for embedded linking
    DEBPKG:fixes/respect_umask - Respect umask during installation
    DEBPKG:debian/writable_site_dirs - Set umask approproately for site install directories
    DEBPKG:debian/extutils_set_libperl_path - EU:MM: set location of libperl.a under /usr/lib
    DEBPKG:debian/no_packlist_perllocal - Don't install .packlist or perllocal.pod for perl or vendor
    DEBPKG:debian/fakeroot - Postpone LD_LIBRARY_PATH evaluation to the binary targets.
    DEBPKG:debian/instmodsh_doc - Debian policy doesn't install .packlist files for core or vendor.
    DEBPKG:debian/ld_run_path - Remove standard libs from LD_RUN_PATH as per Debian policy.
    DEBPKG:debian/libnet_config_path - Set location of libnet.cfg to /etc/perl/Net as /usr may not be writable.
    DEBPKG:debian/perlivp - https://bugs.debian.org/510895 Make perlivp skip include directories in /usr/local
    DEBPKG:debian/squelch-locale-warnings - https://bugs.debian.org/508764 Squelch locale warnings in Debian package maintainer scripts
    DEBPKG:debian/patchlevel - https://bugs.debian.org/567489 List packaged patches for 5.32.1-4+deb11u2 in patchlevel.h
    DEBPKG:fixes/document_makemaker_ccflags - https://bugs.debian.org/628522 [rt.cpan.org #68613] Document that CCFLAGS should include $Config{ccflags}
    DEBPKG:debian/find_html2text - https://bugs.debian.org/640479 Configure CPAN::Distribution with correct name of html2text
    DEBPKG:debian/perl5db-x-terminal-emulator.patch - https://bugs.debian.org/668490 Invoke x-terminal-emulator rather than xterm in perl5db.pl
    DEBPKG:debian/cpan-missing-site-dirs - https://bugs.debian.org/688842 Fix CPAN::FirstTime defaults with nonexisting site dirs if a parent is writable
    DEBPKG:fixes/memoize_storable_nstore - [rt.cpan.org #77790] https://bugs.debian.org/587650 Memoize::Storable: respect 'nstore' option not respected
    DEBPKG:debian/makemaker-pasthru - https://bugs.debian.org/758471 Pass LD settings through to subdirectories
    DEBPKG:debian/makemaker-manext - https://bugs.debian.org/247370 Make EU::MakeMaker honour MANnEXT settings in generated manpage headers
    DEBPKG:debian/kfreebsd-softupdates - https://bugs.debian.org/796798 Work around Debian Bug#796798
    DEBPKG:fixes/memoize-pod - [rt.cpan.org #89441] Fix POD errors in Memoize
    DEBPKG:debian/hurd-softupdates - https://bugs.debian.org/822735 Fix t/op/stat.t failures on hurd
    DEBPKG:fixes/math_complex_doc_great_circle - https://bugs.debian.org/697567 [rt.cpan.org #114104] Math::Trig: clarify definition of great_circle_midpoint
    DEBPKG:fixes/math_complex_doc_see_also - https://bugs.debian.org/697568 [rt.cpan.org #114105] Math::Trig: add missing SEE ALSO
    DEBPKG:fixes/math_complex_doc_angle_units - https://bugs.debian.org/731505 [rt.cpan.org #114106] Math::Trig: document angle units
    DEBPKG:fixes/cpan_web_link - https://bugs.debian.org/367291 CPAN: Add link to main CPAN web site
    DEBPKG:debian/hppa_op_optimize_workaround - https://bugs.debian.org/838613 Temporarily lower the optimization of op.c on hppa due to gcc-6 problems
    DEBPKG:debian/installman-utf8 - https://bugs.debian.org/840211 Generate man pages with UTF-8 characters
    DEBPKG:debian/hppa_opmini_optimize_workaround - https://bugs.debian.org/869122 Lower the optimization level of opmini.c on hppa
    DEBPKG:debian/sh4_op_optimize_workaround - https://bugs.debian.org/869373 Also lower the optimization level of op.c and opmini.c on sh4
    DEBPKG:debian/perldoc-pager - https://bugs.debian.org/870340 [rt.cpan.org #120229] Fix perldoc terminal escapes when sensible-pager is less
    DEBPKG:debian/prune_libs - https://bugs.debian.org/128355 Prune the list of libraries wanted to what we actually need.
    DEBPKG:debian/mod_paths - Tweak @INC ordering for Debian
    DEBPKG:debian/configure-regen - https://bugs.debian.org/762638 Regenerate Configure et al. after probe unit changes
    DEBPKG:debian/deprecate-with-apt - https://bugs.debian.org/747628 Point users to Debian packages of deprecated core modules
    DEBPKG:debian/disable-stack-check - https://bugs.debian.org/902779 [GH #16607] Disable debugperl stack extension checks for binary compatibility with perl
    DEBPKG:debian/perlbug-editor - https://bugs.debian.org/922609 Use "editor" as the default perlbug editor, as per Debian policy
    DEBPKG:debian/eu-mm-perl-base - https://bugs.debian.org/962138 Suppress an ExtUtils::MakeMaker warning about our non-default @INC
    DEBPKG:fixes/hurd-cachepropagate-test-fix - https://bugs.debian.org/963214 GNU/Hurd doesn't support SO_PROTOCOL
    DEBPKG:fixes/io_socket_ip_ipv6 - Disable getaddrinfo(3) AI_ADDRCONFIG for localhost and IPv4 numeric addresses
    DEBPKG:fixes/encode-CVE-2021-36770 - mitigate @INC pollution when loading ConfigLocal
    DEBPKG:fixes/regcomp-memleak - https://bugs.debian.org/994834 [GH #18604] [5f41fa4] regcomp.c: Remove memory leak
  Built under linux
  Compiled at Sep 24 2021 16:10:58
  %ENV:
    PERL5LIB="/home/cpansand/.cpan/build/2023050213/Test-Warn-0.37-0/blib/arch:/home/cpansand/.cpan/build/2023050213/Test-Warn-0.37-0/blib/lib:/home/cpansand/.cpan/build/2023050213/Test-NoWarnings-1.06-0/blib/arch:/home/cpansand/.cpan/build/2023050213/Test-NoWarnings-1.06-0/blib/lib"
    PERL5OPT=""
    PERL5_CPANPLUS_IS_RUNNING="3491358"
    PERL5_CPAN_IS_RUNNING="3491358"
    PERL5_CPAN_IS_RUNNING_IN_RECURSION="3491261,3491358"
    PERLDOC="-MPod::Perldoc::ToTextOverstrike"
    PERL_BATCH="yes"
    PERL_CANARY_STABILITY_NOPROMPT="1"
    PERL_CPAN_REPORTER_CONFIG="/var/tmp/cpansmoker-1023/2023050213/cpanreporter_000_config.ini"
    PERL_EXTUTILS_AUTOINSTALL="--defaultdeps"
    PERL_USE_UNSAFE_INC="1"
  @INC:
    /home/cpansand/.cpan/build/2023050213/Test-Warn-0.37-0/blib/arch
    /home/cpansand/.cpan/build/2023050213/Test-Warn-0.37-0/blib/lib
    /home/cpansand/.cpan/build/2023050213/Test-NoWarnings-1.06-0/blib/arch
    /home/cpansand/.cpan/build/2023050213/Test-NoWarnings-1.06-0/blib/lib
    /etc/perl
    /usr/local/lib/x86_64-linux-gnu/perl/5.32.1
    /usr/local/share/perl/5.32.1
    /usr/lib/x86_64-linux-gnu/perl5/5.32
    /usr/share/perl5
    /usr/lib/x86_64-linux-gnu/perl-base
    /usr/lib/x86_64-linux-gnu/perl/5.32
    /usr/share/perl/5.32
    /usr/local/lib/site_perl
    .