Back
From: metabase:user:e0ffcb60-b036-11e2-8713-c904bda06ea8
Subject: PASS Sys-SigAction-0.15 v5.10.1 GNU/Linux
Date: 2013-04-29T15:56:27Z
This distribution has been tested as part of the CPAN Testers
project, supporting the Perl programming language. See
http://wiki.cpantesters.org/ for more information or email
questions to cpan-testers-discuss@perl.org
--
Dear LBAXTER,
This is a computer-generated report for Sys-SigAction-0.15
on perl 5.10.1, created by App::cpanminus::reporter 0.06 (cpanm (App::cpanminus) version 1.4007).
Thank you for uploading your work to CPAN. Congratulations!
All tests were successful.
Sections of this report:
* Tester comments
* Program output
* Prerequisites
* Environment and other context
------------------------------
TESTER COMMENTS
------------------------------
Additional comments from tester:
none provided
------------------------------
PROGRAM OUTPUT
------------------------------
Output from '':
Building and testing Sys-SigAction-0.15
cp lib/Sys/SigAction.pm blib/lib/Sys/SigAction.pm
PERL_DL_NONLAZY=1 /home/wreis/perl5/perlbrew/perls/perl-5.10.1/bin/perl "-MExtUtils::Command::MM" "-e" "test_harness(0, 'blib/lib', 'blib/arch')" t/*.t
t/mask.t ..... ok
t/name.t ..... ok
t/nested.t ... ok
t/number.t ... ok
NOTE: Setting safe=>1... with masked signals does not seem to work.
The problem is that the masked signals are not masked, but when
safe=>0 they are.
If you have an application for safe=>1 and can come up with
a test that works in the context of this module's installation
please send me a patch to safe.t that tests it.
See the block below this one... which if executed would test safe mode
with masked signals... it is a clone of part of mask.t that proves this
is broken.
Lincoln
t/safe.t ..... ok
# testing fractional second timeout
t/timeout.t .. ok
All tests successful.
Files=6, Tests=35, 6 wallclock secs ( 0.04 usr 0.02 sys + 1.37 cusr 0.03 csys = 1.46 CPU)
Result: PASS
------------------------------
PREREQUISITES
------------------------------
Prerequisite modules loaded:
No requirements found
------------------------------
ENVIRONMENT AND OTHER CONTEXT
------------------------------
Environment variables:
LANG = en_US.UTF-8
MANPATH_WITHOUT_PERLBREW =
PATH = /home/wreis/workspace/people_repmonitor/deps/local_lib_debian/bin:/home/wreis/perl5/perlbrew/bin:/home/wreis/perl5/perlbrew/perls/perl-5.10.1/bin:/usr/local/rvm/gems/ruby-1.9.3-p194/bin:/usr/local/rvm/gems/ruby-1.9.3-p194@global/bin:/usr/local/rvm/rubies/ruby-1.9.3-p194/bin:/usr/local/rvm/bin:/usr/local/bin:/usr/bin:/bin:/usr/games
PATH_WITHOUT_PERLBREW = /usr/local/rvm/gems/ruby-1.9.3-p194/bin:/usr/local/rvm/gems/ruby-1.9.3-p194@global/bin:/usr/local/rvm/rubies/ruby-1.9.3-p194/bin:/usr/local/rvm/bin:/usr/local/bin:/usr/bin:/bin:/usr/games
PERL5LIB = /home/wreis/workspace/people_repmonitor/deps/local_lib_debian/lib/perl5/x86_64-linux:/home/wreis/workspace/people_repmonitor/deps/local_lib_debian/lib/perl5
PERLBREW_BASHRC_VERSION = 0.42
PERLBREW_HOME = /home/wreis/.perlbrew
PERLBREW_MANPATH = /home/wreis/perl5/perlbrew/perls/perl-5.10.1/man
PERLBREW_PATH = /home/wreis/perl5/perlbrew/bin:/home/wreis/perl5/perlbrew/perls/perl-5.10.1/bin
PERLBREW_PERL = perl-5.10.1
PERLBREW_ROOT = /home/wreis/perl5/perlbrew
PERLBREW_VERSION = 0.42
PERL_LOCAL_LIB_ROOT = /home/wreis/workspace/people_repmonitor/deps/local_lib_debian
PERL_MB_OPT = --install_base /home/wreis/workspace/people_repmonitor/deps/local_lib_debian
PERL_MM_OPT = INSTALL_BASE=/home/wreis/workspace/people_repmonitor/deps/local_lib_debian
SHELL = /bin/bash
TERM = screen-256color
Perl special variables (and OS-specific diagnostics, for MSWin32):
EGID = 1000 1000
EUID = 1000
EXECUTABLE_NAME = /home/wreis/perl5/perlbrew/perls/perl-5.10.1/bin/perl
GID = 1000 1000
UID = 1000
Perl module toolchain versions installed:
Module Have
------------------- --------
CPAN 2.00
CPAN::Meta 2.120921
Cwd 3.30
ExtUtils::CBuilder 0.2703
ExtUtils::Command 1.16
ExtUtils::Install 1.54
ExtUtils::MakeMaker 6.62
ExtUtils::Manifest 1.58
ExtUtils::ParseXS 2.2206
File::Spec 3.30
JSON 2.53
JSON::PP 2.27200
Module::Build 0.40
Module::Signature n/a
Parse::CPAN::Meta 1.4404
Test::Harness 3.22
Test::More 0.98
YAML 0.81
YAML::Syck 1.10
version 0.97
--
Summary of my perl5 (revision 5 version 10 subversion 1) configuration:
Platform:
osname=linux, osvers=2.6.26-2-amd64, archname=x86_64-linux
uname='linux dev09 2.6.26-2-amd64 #1 smp wed sep 21 03:36:44 utc 2011 x86_64 gnulinux '
config_args='-de -Dprefix=/home/wreis/perl5/perlbrew/perls/perl-5.10.1'
hint=recommended, useposix=true, d_sigaction=define
useithreads=undef, usemultiplicity=undef
useperlio=define, d_sfio=undef, uselargefiles=define, usesocks=undef
use64bitint=define, use64bitall=define, uselongdouble=undef
usemymalloc=n, bincompat5005=undef
Compiler:
cc='cc', ccflags ='-fno-strict-aliasing -pipe -fstack-protector -I/usr/local/include -D_LARGEFILE_SOURCE -D_FILE_OFFSET_BITS=64',
optimize='-O2',
cppflags='-fno-strict-aliasing -pipe -fstack-protector -I/usr/local/include'
ccversion='', gccversion='4.3.2', gccosandvers=''
intsize=4, longsize=8, ptrsize=8, doublesize=8, byteorder=12345678
d_longlong=define, longlongsize=8, d_longdbl=define, longdblsize=16
ivtype='long', ivsize=8, nvtype='double', nvsize=8, Off_t='off_t', lseeksize=8
alignbytes=8, prototype=define
Linker and Libraries:
ld='cc', ldflags =' -fstack-protector -L/usr/local/lib'
libpth=/usr/local/lib /lib/../lib /usr/lib/../lib /lib /usr/lib /lib64 /usr/lib64
libs=-lnsl -lgdbm -ldl -lm -lcrypt -lutil -lc -lgdbm_compat
perllibs=-lnsl -ldl -lm -lcrypt -lutil -lc
libc=/lib/libc-2.7.so, so=so, useshrplib=false, libperl=libperl.a
gnulibc_version='2.7'
Dynamic Linking:
dlsrc=dl_dlopen.xs, dlext=so, d_dlsymun=undef, ccdlflags='-Wl,-E'
cccdlflags='-fPIC', lddlflags='-shared -O2 -L/usr/local/lib -fstack-protector'
Characteristics of this binary (from libperl):
Compile-time options: PERL_DONT_CREATE_GVSV PERL_MALLOC_WRAP USE_64_BIT_ALL
USE_64_BIT_INT USE_LARGE_FILES USE_PERLIO
Built under linux
Compiled at May 11 2012 03:46:28
%ENV:
PERL5LIB="/home/wreis/workspace/people_repmonitor/deps/local_lib_debian/lib/perl5/x86_64-linux:/home/wreis/workspace/people_repmonitor/deps/local_lib_debian/lib/perl5"
PERLBREW_BASHRC_VERSION="0.42"
PERLBREW_HOME="/home/wreis/.perlbrew"
PERLBREW_MANPATH="/home/wreis/perl5/perlbrew/perls/perl-5.10.1/man"
PERLBREW_PATH="/home/wreis/perl5/perlbrew/bin:/home/wreis/perl5/perlbrew/perls/perl-5.10.1/bin"
PERLBREW_PERL="perl-5.10.1"
PERLBREW_ROOT="/home/wreis/perl5/perlbrew"
PERLBREW_VERSION="0.42"
PERL_LOCAL_LIB_ROOT="/home/wreis/workspace/people_repmonitor/deps/local_lib_debian"
PERL_MB_OPT="--install_base /home/wreis/workspace/people_repmonitor/deps/local_lib_debian"
PERL_MM_OPT="INSTALL_BASE=/home/wreis/workspace/people_repmonitor/deps/local_lib_debian"
@INC:
/home/wreis/workspace/people_repmonitor/deps/local_lib_debian/lib/perl5/x86_64-linux
/home/wreis/workspace/people_repmonitor/deps/local_lib_debian/lib/perl5/x86_64-linux
/home/wreis/workspace/people_repmonitor/deps/local_lib_debian/lib/perl5
/home/wreis/perl5/perlbrew/perls/perl-5.10.1/lib/5.10.1/x86_64-linux
/home/wreis/perl5/perlbrew/perls/perl-5.10.1/lib/5.10.1
/home/wreis/perl5/perlbrew/perls/perl-5.10.1/lib/site_perl/5.10.1/x86_64-linux
/home/wreis/perl5/perlbrew/perls/perl-5.10.1/lib/site_perl/5.10.1
.