Back
From: metabase:user:c086eaf4-c8a4-11e2-b158-c35ef8e388f9
Subject: PASS Test-WWW-Mechanize-Catalyst-0.59 v5.21.4 Mac OS X
Date: 2014-09-25T03:30:55Z
This distribution has been tested as part of the CPAN Testers
project, supporting the Perl programming language. See
http://wiki.cpantesters.org/ for more information or email
questions to cpan-testers-discuss@perl.org
--
Dear ILMARI,
This is a computer-generated report for Test-WWW-Mechanize-Catalyst-0.59
on perl 5.21.4, created by App::cpanminus::reporter 0.11 (1.7009).
Thank you for uploading your work to CPAN. Congratulations!
All tests were successful.
Sections of this report:
* Tester comments
* Program output
* Prerequisites
* Environment and other context
------------------------------
TESTER COMMENTS
------------------------------
Additional comments from tester:
none provided
------------------------------
PROGRAM OUTPUT
------------------------------
Output from '':
Building and testing Test-WWW-Mechanize-Catalyst-0.59
Manifying blib/man3/Test::WWW::Mechanize::Catalyst.0
PERL_DL_NONLAZY=1 /Users/ether/perl5/perlbrew/perls/21.4/bin/perl5.21.4 "-MExtUtils::Command::MM" "-MTest::Harness" "-e" "undef *Test::Harness::Switches; test_harness(0, 'inc', 'blib/lib', 'blib/arch')" t/*.t
#
# ###################################################################
# Starting an external Catalyst HTTP server on port 7357
# To change the port, please set the TWMC_TEST_PORT env variable.
# (The server will be automatically shut-down right after the tests).
# ###################################################################
t/pod.t ................. ok
t/decoded_content.t ..... ok
t/auth-test.t ........... ok
t/useragent.t ........... ok
t/cookies.t ............. ok
Term::Size::Any is not installed, can't autodetect terminal column width
Trouble trying to detect your terminal size, looking at $ENV{COLUMNS}
Cannot determine desired terminal width, using default of 80 columns
t/simple.t .............. ok
t/two_app.t ............. ok
t/redirect.t ............ ok
HTTP::Server::PSGI: Accepting connections at http://0:7357/
t/white_label.t ......... ok
t/multi_content_type.t .. ok
All tests successful.
Files=10, Tests=108, 17 wallclock secs ( 0.09 usr 0.04 sys + 15.29 cusr 1.59 csys = 17.01 CPU)
Result: PASS
------------------------------
PREREQUISITES
------------------------------
Prerequisite modules loaded:
No requirements found
------------------------------
ENVIRONMENT AND OTHER CONTEXT
------------------------------
Environment variables:
LANG = en_CA.UTF-8
PATH = /Users/ether/.perlbrew/libs/21.4@std/bin:/Users/ether/perl5/perlbrew/bin:/Users/ether/perl5/perlbrew/perls/21.4/bin:/Users/ether/bin:/Users/ether/git/misc/install/tequila/bin:/Users/ether/git/misc/install/generic/bin:/opt/local/bin:/opt/local/sbin:/Users/ether/git/git-hub/lib:/Users/ether/src/CE/devtools:/Users/ether/git/CE/devtools:/Users/ether/src/CE/bin:/Users/ether/git/CE/bin:/usr/bin:/bin:/usr/sbin:/sbin:/usr/local/bin:/usr/X11/bin:/opt/local/share/git-core/contrib/workdir
PERL5LIB = /Users/ether/.perlbrew/libs/21.4@std/lib/perl5
PERLBREW_BASHRC_VERSION = 0.69
PERLBREW_HOME = /Users/ether/.perlbrew
PERLBREW_LIB = std
PERLBREW_MANPATH = /Users/ether/.perlbrew/libs/21.4@std/man:/Users/ether/perl5/perlbrew/perls/21.4/man
PERLBREW_PATH = /Users/ether/.perlbrew/libs/21.4@std/bin:/Users/ether/perl5/perlbrew/bin:/Users/ether/perl5/perlbrew/perls/21.4/bin
PERLBREW_PERL = 21.4
PERLBREW_ROOT = /Users/ether/perl5/perlbrew
PERLBREW_VERSION = 0.71
PERLDOC_PAGER = less -sicMr
PERL_AUTOINSTALL_PREFER_CPAN = 1
PERL_INSTALL_QUIET = 1
PERL_LOCAL_LIB_ROOT = /Users/ether/.perlbrew/libs/21.4@std
PERL_MB_OPT = --install_base /Users/ether/.perlbrew/libs/21.4@std
PERL_MM_OPT = INSTALL_BASE=/Users/ether/.perlbrew/libs/21.4@std
SHELL = /bin/bash
TERM = xterm-color
TMPDIR = /var/folders/+h/+hzG2W8MHem4qQiRP616jE+++TQ/-Tmp-/
Perl special variables (and OS-specific diagnostics, for MSWin32):
EGID = 20 20 402 204 100 98 81 80 79 61 12 404 401 403
EUID = 503
EXECUTABLE_NAME = /Users/ether/perl5/perlbrew/perls/21.4/bin/perl5.21.4
GID = 20 20 402 204 100 98 81 80 79 61 12 404 401 403
UID = 503
Perl module toolchain versions installed:
Module Have
------------------- --------
CPAN 2.05
CPAN::Meta 2.142060
Cwd 3.50
ExtUtils::CBuilder 0.280219
ExtUtils::Command 1.18
ExtUtils::Install 2.04
ExtUtils::MakeMaker 6.98
ExtUtils::Manifest 1.68
ExtUtils::ParseXS 3.25
File::Spec 3.50
JSON 2.90
JSON::PP 2.27203
Module::Build 0.4210
Module::Signature n/a
Parse::CPAN::Meta 1.4414
Test::Harness 3.33
Test::More 1.001006
YAML 1.11
YAML::Syck 1.27
version 0.9909
--
Summary of my perl5 (revision 5 version 21 subversion 4) configuration:
Platform:
osname=darwin, osvers=10.8.0, archname=darwin-2level
uname='darwin tequila 10.8.0 darwin kernel version 10.8.0: tue jun 7 16:33:36 pdt 2011; root:xnu-1504.15.3~1release_i386 i386 '
config_args='-de -Dprefix=/Users/ether/perl5/perlbrew/perls/21.4 -Dman1dir=none -Dman3dir=none -Dusedevel -Aeval:scriptdir=/Users/ether/perl5/perlbrew/perls/21.4/bin'
hint=recommended, useposix=true, d_sigaction=define
useithreads=undef, usemultiplicity=undef
use64bitint=define, use64bitall=define, uselongdouble=undef
usemymalloc=n, bincompat5005=undef
Compiler:
cc='cc', ccflags ='-fno-common -DPERL_DARWIN -fno-strict-aliasing -pipe -fstack-protector -I/usr/local/include -I/opt/local/include',
optimize='-O3',
cppflags='-fno-common -DPERL_DARWIN -fno-strict-aliasing -pipe -fstack-protector -I/usr/local/include -I/opt/local/include'
ccversion='', gccversion='4.2.1 (Apple Inc. build 5666) (dot 3)', gccosandvers=''
intsize=4, longsize=8, ptrsize=8, doublesize=8, byteorder=12345678
d_longlong=define, longlongsize=8, d_longdbl=define, longdblsize=16, longdblkind=3
ivtype='long', ivsize=8, nvtype='double', nvsize=8, Off_t='off_t', lseeksize=8
alignbytes=8, prototype=define
Linker and Libraries:
ld='env MACOSX_DEPLOYMENT_TARGET=10.3 cc', ldflags =' -fstack-protector -L/usr/local/lib -L/opt/local/lib'
libpth=/usr/local/lib /usr/lib /opt/local/lib
libs=-lgdbm -ldbm -ldl -lm -lutil -lc
perllibs=-ldl -lm -lutil -lc
libc=, so=dylib, useshrplib=false, libperl=libperl.a
gnulibc_version=''
Dynamic Linking:
dlsrc=dl_dlopen.xs, dlext=bundle, d_dlsymun=undef, ccdlflags=' '
cccdlflags=' ', lddlflags=' -bundle -undefined dynamic_lookup -L/usr/local/lib -L/opt/local/lib -fstack-protector'
Characteristics of this binary (from libperl):
Compile-time options: HAS_TIMES PERLIO_LAYERS PERL_DONT_CREATE_GVSV
PERL_HASH_FUNC_ONE_AT_A_TIME_HARD PERL_MALLOC_WRAP
PERL_NEW_COPY_ON_WRITE PERL_PRESERVE_IVUV
PERL_USE_DEVEL USE_64_BIT_ALL USE_64_BIT_INT
USE_LARGE_FILES USE_LOCALE USE_LOCALE_COLLATE
USE_LOCALE_CTYPE USE_LOCALE_NUMERIC USE_LOCALE_TIME
USE_PERLIO USE_PERL_ATOF
Built under darwin
Compiled at Sep 20 2014 13:36:16
%ENV:
PERL5LIB="/Users/ether/.perlbrew/libs/21.4@std/lib/perl5"
PERLBREW_BASHRC_VERSION="0.69"
PERLBREW_HOME="/Users/ether/.perlbrew"
PERLBREW_LIB="std"
PERLBREW_MANPATH="/Users/ether/.perlbrew/libs/21.4@std/man:/Users/ether/perl5/perlbrew/perls/21.4/man"
PERLBREW_PATH="/Users/ether/.perlbrew/libs/21.4@std/bin:/Users/ether/perl5/perlbrew/bin:/Users/ether/perl5/perlbrew/perls/21.4/bin"
PERLBREW_PERL="21.4"
PERLBREW_ROOT="/Users/ether/perl5/perlbrew"
PERLBREW_VERSION="0.71"
PERLDOC_PAGER="less -sicMr"
PERL_AUTOINSTALL_PREFER_CPAN="1"
PERL_INSTALL_QUIET="1"
PERL_LOCAL_LIB_ROOT="/Users/ether/.perlbrew/libs/21.4@std"
PERL_MB_OPT="--install_base /Users/ether/.perlbrew/libs/21.4@std"
PERL_MM_OPT="INSTALL_BASE=/Users/ether/.perlbrew/libs/21.4@std"
@INC:
/Users/ether/.perlbrew/libs/21.4@std/lib/perl5/darwin-2level
/Users/ether/.perlbrew/libs/21.4@std/lib/perl5
/Users/ether/perl5/perlbrew/perls/21.4/lib/site_perl/5.21.4/darwin-2level
/Users/ether/perl5/perlbrew/perls/21.4/lib/site_perl/5.21.4
/Users/ether/perl5/perlbrew/perls/21.4/lib/5.21.4/darwin-2level
/Users/ether/perl5/perlbrew/perls/21.4/lib/5.21.4
.