Back
From: metabase:user:c9c36a5e-58d1-11e2-9893-b12a7a4f42b6
Subject: PASS Test-FTP-Server-0.012 v5.14.2 GNU/Linux
Date: 2013-02-05T19:50:57Z
This distribution has been tested as part of the CPAN Testers
project, supporting the Perl programming language. See
http://wiki.cpantesters.org/ for more information or email
questions to cpan-testers-discuss@perl.org
--
Dear Taku Amano,
This is a computer-generated report for Test-FTP-Server-0.012
on perl 5.14.2, created by CPAN-Reporter-1.2009.
Thank you for uploading your work to CPAN. Congratulations!
All tests were successful.
Sections of this report:
* Tester comments
* Program output
* Prerequisites
* Environment and other context
------------------------------
TESTER COMMENTS
------------------------------
Additional comments from tester:
none provided
------------------------------
PROGRAM OUTPUT
------------------------------
Output from '/usr/bin/make test':
PERL_DL_NONLAZY=1 /opt/app/eldon/perl5/perlbrew/perls/perl-5.14.2/bin/perl "-MExtUtils::Command::MM" "-e" "test_harness(0, 'inc', 'blib/lib', 'blib/arch')" t/*.t
t/00_compile.t .. ok
t/01_run.t ...... ok
t/02_root.t ..... ok
t/03_sandbox.t .. ok
All tests successful.
Files=4, Tests=30, 2 wallclock secs ( 0.05 usr 0.00 sys + 1.02 cusr 0.19 csys = 1.26 CPU)
Result: PASS
------------------------------
PREREQUISITES
------------------------------
Prerequisite modules loaded:
requires:
Module Need Have
--------------------- ---- -----
Net::FTPServer 0 1.125
build_requires:
Module Need Have
--------------------- ---- -----
ExtUtils::MakeMaker 6.42 6.64
File::Copy::Recursive 0 0.38
Test::More 0.88 0.98
Test::TCP 0 1.18
configure_requires:
Module Need Have
--------------------- ---- -----
ExtUtils::MakeMaker 6.42 6.64
------------------------------
ENVIRONMENT AND OTHER CONTEXT
------------------------------
Environment variables:
LANG = en_US
LD_LIBRARY_PATH = /opt/app/oracle/product/10.2.0_client/lib
PATH = /usr/local/axis2-1.4.1/bin:/home/eolmstea/apache-ant-1.8.2/bin:/home/eolmstea/jdk/bin:/home/eolmstea/perl5/perlbrew/bin:/home/eolmstea/perl5/perlbrew/perls/perl-5.14.2/bin:/opt/app/siteminder/webagent/bin:/usr/kerberos/bin:/usr/local/bin:/bin:/usr/bin:/usr/X11R6/bin:/home/eolmstea/bin:/opt/app/oracle/product/10.2.0_client/bin:/opt/cch/processor/bin:/home/eolmstea/apache-maven-3.0.4/bin
PATH_WITHOUT_PERLBREW = /opt/app/siteminder/webagent/bin:/usr/kerberos/bin:/usr/local/bin:/bin:/usr/bin:/usr/X11R6/bin
PERL5LIB =
PERL5OPT =
PERL5_CPANPLUS_IS_RUNNING = 25212
PERL5_CPAN_IS_RUNNING = 25212
PERLBREW_BASHRC_VERSION = 0.31
PERLBREW_HOME = /home/eolmstea/.perlbrew
PERLBREW_PATH = /home/eolmstea/perl5/perlbrew/bin:/home/eolmstea/perl5/perlbrew/perls/perl-5.14.2/bin
PERLBREW_PERL = perl-5.14.2
PERLBREW_ROOT = /home/eolmstea/perl5/perlbrew
PERLBREW_VERSION = 0.31
SHELL = /bin/bash
TERM = xterm
Perl special variables (and OS-specific diagnostics, for MSWin32):
$^X = /opt/app/eldon/perl5/perlbrew/perls/perl-5.14.2/bin/perl
$UID/$EUID = 4761 / 4761
$GID = 701 701 1737
$EGID = 701 701 1737
Perl module toolchain versions installed:
Module Have
------------------- --------
CPAN 1.9800
CPAN::Meta 2.112621
Cwd 3.36
ExtUtils::CBuilder 0.280205
ExtUtils::Command 1.17
ExtUtils::Install 1.56
ExtUtils::MakeMaker 6.64
ExtUtils::Manifest 1.60
ExtUtils::ParseXS 2.2210
File::Spec 3.33
JSON 2.53
JSON::PP 2.27200
Module::Build 0.4003
Module::Signature 0.70
Parse::CPAN::Meta 1.4404
Test::Harness 3.25
Test::More 0.98
YAML 0.84
YAML::Syck 1.22
version 0.88
--
Summary of my perl5 (revision 5 version 14 subversion 2) configuration:
Platform:
osname=linux, osvers=2.6.18-164.el5xen, archname=i386-linux-thread-multi
uname='linux strecdvvap4.va.neustar.com 2.6.18-164.el5xen #1 smp thu sep 3 02:41:56 edt 2009 i686 i686 i386 gnulinux '
config_args='-de -Dprefix=/home/eolmstea/perl5/perlbrew/perls/perl-5.14.2 -Dusethreads -Duselargefiles -Dcccdlflags=-fPIC -Doptimize=-O2 -Duseshrplib -Dcf_by=Eldon Olmstead -Dcf_email=eldon.olmstead@newpace.com -Darchname=i386-linux-thread-multi'
hint=recommended, useposix=true, d_sigaction=define
useithreads=define, usemultiplicity=define
useperlio=define, d_sfio=undef, uselargefiles=define, usesocks=undef
use64bitint=undef, use64bitall=undef, uselongdouble=undef
usemymalloc=n, bincompat5005=undef
Compiler:
cc='cc', ccflags ='-D_REENTRANT -D_GNU_SOURCE -fno-strict-aliasing -pipe -fstack-protector -I/usr/local/include -D_LARGEFILE_SOURCE -D_FILE_OFFSET_BITS=64',
optimize='-O2',
cppflags='-D_REENTRANT -D_GNU_SOURCE -fno-strict-aliasing -pipe -fstack-protector -I/usr/local/include'
ccversion='', gccversion='4.1.2 20080704 (Red Hat 4.1.2-46)', gccosandvers=''
intsize=4, longsize=4, ptrsize=4, doublesize=8, byteorder=1234
d_longlong=define, longlongsize=8, d_longdbl=define, longdblsize=12
ivtype='long', ivsize=4, nvtype='double', nvsize=8, Off_t='off_t', lseeksize=8
alignbytes=4, prototype=define
Linker and Libraries:
ld='cc', ldflags =' -fstack-protector -L/usr/local/lib'
libpth=/usr/local/lib /lib /usr/lib
libs=-lnsl -ldl -lm -lcrypt -lutil -lpthread -lc
perllibs=-lnsl -ldl -lm -lcrypt -lutil -lpthread -lc
libc=/lib/libc-2.5.so, so=so, useshrplib=true, libperl=libperl.so
gnulibc_version='2.5'
Dynamic Linking:
dlsrc=dl_dlopen.xs, dlext=so, d_dlsymun=undef, ccdlflags='-Wl,-E -Wl,-rpath,/home/eolmstea/perl5/perlbrew/perls/perl-5.14.2/lib/5.14.2/i386-linux-thread-multi/CORE'
cccdlflags='-fPIC', lddlflags='-shared -O2 -L/usr/local/lib -fstack-protector'
Characteristics of this binary (from libperl):
Compile-time options: MULTIPLICITY PERL_DONT_CREATE_GVSV
PERL_IMPLICIT_CONTEXT PERL_MALLOC_WRAP
PERL_PRESERVE_IVUV USE_ITHREADS USE_LARGE_FILES
USE_PERLIO USE_PERL_ATOF USE_REENTRANT_API
Built under linux
Compiled at Dec 14 2011 20:42:52
%ENV:
PERL5LIB=""
PERL5OPT=""
PERL5_CPANPLUS_IS_RUNNING="25212"
PERL5_CPAN_IS_RUNNING="25212"
PERLBREW_BASHRC_VERSION="0.31"
PERLBREW_HOME="/home/eolmstea/.perlbrew"
PERLBREW_PATH="/home/eolmstea/perl5/perlbrew/bin:/home/eolmstea/perl5/perlbrew/perls/perl-5.14.2/bin"
PERLBREW_PERL="perl-5.14.2"
PERLBREW_ROOT="/home/eolmstea/perl5/perlbrew"
PERLBREW_VERSION="0.31"
@INC:
/home/eolmstea/perl5/perlbrew/perls/perl-5.14.2/lib/site_perl/5.14.2/i386-linux-thread-multi
/home/eolmstea/perl5/perlbrew/perls/perl-5.14.2/lib/site_perl/5.14.2
/home/eolmstea/perl5/perlbrew/perls/perl-5.14.2/lib/5.14.2/i386-linux-thread-multi
/home/eolmstea/perl5/perlbrew/perls/perl-5.14.2/lib/5.14.2
.