Back
From: metabase:user:e7b3d300-37b2-11e1-8492-b07eb89c7f72
Subject: PASS Test-WWW-Mechanize-Catalyst-0.59 v5.18.2 GNU/Linux
Date: 2014-01-14T17:14:45Z
This distribution has been tested as part of the CPAN Testers
project, supporting the Perl programming language. See
http://wiki.cpantesters.org/ for more information or email
questions to cpan-testers-discuss@perl.org
--
Dear ILMARI,
This is a computer-generated report for Test-WWW-Mechanize-Catalyst-0.59
on perl 5.18.2, created by App::cpanminus::reporter 0.10 (1.6102).
Thank you for uploading your work to CPAN. Congratulations!
All tests were successful.
Sections of this report:
* Tester comments
* Program output
* Prerequisites
* Environment and other context
------------------------------
TESTER COMMENTS
------------------------------
Additional comments from tester:
none provided
------------------------------
PROGRAM OUTPUT
------------------------------
Output from '':
Building and testing Test-WWW-Mechanize-Catalyst-0.59
cp lib/Test/WWW/Mechanize/Catalyst.pm blib/lib/Test/WWW/Mechanize/Catalyst.pm
Manifying blib/man3/Test::WWW::Mechanize::Catalyst.3
PERL_DL_NONLAZY=1 /home/len/perl5/perlbrew/perls/perl-5.18.2/bin/perl "-MExtUtils::Command::MM" "-MTest::Harness" "-e" "undef *Test::Harness::Switches; test_harness(0, 'inc', 'blib/lib', 'blib/arch')" t/*.t
t/auth-test.t ........... ok
t/cookies.t ............. ok
t/decoded_content.t ..... ok
#
# ###################################################################
# Starting an external Catalyst HTTP server on port 7357
# To change the port, please set the TWMC_TEST_PORT env variable.
# (The server will be automatically shut-down right after the tests).
# ###################################################################
HTTP::Server::PSGI: Accepting connections at http://0:7357/
t/multi_content_type.t .. ok
t/pod.t ................. ok
t/redirect.t ............ ok
t/simple.t .............. ok
t/two_app.t ............. ok
t/useragent.t ........... ok
t/white_label.t ......... ok
All tests successful.
Files=10, Tests=108, 19 wallclock secs ( 0.04 usr 0.02 sys + 8.39 cusr 0.42 csys = 8.87 CPU)
Result: PASS
------------------------------
PREREQUISITES
------------------------------
Prerequisite modules loaded:
No requirements found
------------------------------
ENVIRONMENT AND OTHER CONTEXT
------------------------------
Environment variables:
LANG = en_US.utf8
PATH = /usr/local/rvm/gems/ruby-2.0.0-p247/bin:/usr/local/rvm/gems/ruby-2.0.0-p247@global/bin:/usr/local/rvm/rubies/ruby-2.0.0-p247/bin:/usr/local/rvm/bin:/home/len/perl5/perlbrew/bin:/home/len/perl5/perlbrew/perls/perl-5.18.2/bin:/home/len/bin:/usr/local/bin:/usr/bin:/bin:/usr/local/games:/usr/games:/usr/local/rvm/bin
PERLBREW_BASHRC_VERSION = 0.67
PERLBREW_HOME = /home/len/.perlbrew
PERLBREW_MANPATH = /home/len/perl5/perlbrew/perls/perl-5.18.2/man
PERLBREW_PATH = /home/len/perl5/perlbrew/bin:/home/len/perl5/perlbrew/perls/perl-5.18.2/bin
PERLBREW_PERL = perl-5.18.2
PERLBREW_ROOT = /home/len/perl5/perlbrew
PERLBREW_VERSION = 0.67
SHELL = /bin/bash
TERM = xterm
Perl special variables (and OS-specific diagnostics, for MSWin32):
EGID = 1000 24 25 27 29 30 44 46 108 109 115 1000 1003
EUID = 1000
EXECUTABLE_NAME = /home/len/perl5/perlbrew/perls/perl-5.18.2/bin/perl
GID = 1000 24 25 27 29 30 44 46 108 109 115 1000 1003
UID = 1000
Perl module toolchain versions installed:
Module Have
------------------- --------
CPAN 2.00
CPAN::Meta 2.133380
Cwd 3.40
ExtUtils::CBuilder 0.280212
ExtUtils::Command 1.18
ExtUtils::Install 1.59
ExtUtils::MakeMaker 6.86
ExtUtils::Manifest 1.63
ExtUtils::ParseXS 3.22
File::Spec 3.40
JSON 2.90
JSON::PP 2.27203
Module::Build 0.4204
Module::Signature n/a
Parse::CPAN::Meta 1.4409
Test::Harness 3.30
Test::More 1.001002
YAML 0.88
YAML::Syck 1.27
version 0.9906
--
Summary of my perl5 (revision 5 version 18 subversion 2) configuration:
Platform:
osname=linux, osvers=2.6.32-5-686, archname=i686-linux
uname='linux grover 2.6.32-5-686 #1 smp mon sep 23 23:00:18 utc 2013 i686 gnulinux '
config_args='-de -Dprefix=/home/len/perl5/perlbrew/perls/perl-5.18.2 -Aeval:scriptdir=/home/len/perl5/perlbrew/perls/perl-5.18.2/bin'
hint=recommended, useposix=true, d_sigaction=define
useithreads=undef, usemultiplicity=undef
useperlio=define, d_sfio=undef, uselargefiles=define, usesocks=undef
use64bitint=undef, use64bitall=undef, uselongdouble=undef
usemymalloc=n, bincompat5005=undef
Compiler:
cc='cc', ccflags ='-fno-strict-aliasing -pipe -fstack-protector -I/usr/local/include -D_LARGEFILE_SOURCE -D_FILE_OFFSET_BITS=64',
optimize='-O2',
cppflags='-fno-strict-aliasing -pipe -fstack-protector -I/usr/local/include'
ccversion='', gccversion='4.4.5', gccosandvers=''
intsize=4, longsize=4, ptrsize=4, doublesize=8, byteorder=1234
d_longlong=define, longlongsize=8, d_longdbl=define, longdblsize=12
ivtype='long', ivsize=4, nvtype='double', nvsize=8, Off_t='off_t', lseeksize=8
alignbytes=4, prototype=define
Linker and Libraries:
ld='cc', ldflags =' -fstack-protector -L/usr/local/lib'
libpth=/usr/local/lib /lib/../lib /usr/lib/../lib /lib /usr/lib /usr/lib/i486-linux-gnu /usr/lib64
libs=-lnsl -lgdbm -ldl -lm -lcrypt -lutil -lc -lgdbm_compat
perllibs=-lnsl -ldl -lm -lcrypt -lutil -lc
libc=/lib/libc-2.11.3.so, so=so, useshrplib=false, libperl=libperl.a
gnulibc_version='2.11.3'
Dynamic Linking:
dlsrc=dl_dlopen.xs, dlext=so, d_dlsymun=undef, ccdlflags='-Wl,-E'
cccdlflags='-fPIC', lddlflags='-shared -O2 -L/usr/local/lib -fstack-protector'
Characteristics of this binary (from libperl):
Compile-time options: HAS_TIMES PERLIO_LAYERS PERL_DONT_CREATE_GVSV
PERL_HASH_FUNC_ONE_AT_A_TIME_HARD PERL_MALLOC_WRAP
PERL_PRESERVE_IVUV PERL_SAWAMPERSAND USE_LARGE_FILES
USE_LOCALE USE_LOCALE_COLLATE USE_LOCALE_CTYPE
USE_LOCALE_NUMERIC USE_PERLIO USE_PERL_ATOF
Built under linux
Compiled at Jan 10 2014 23:48:44
%ENV:
PERLBREW_BASHRC_VERSION="0.67"
PERLBREW_HOME="/home/len/.perlbrew"
PERLBREW_MANPATH="/home/len/perl5/perlbrew/perls/perl-5.18.2/man"
PERLBREW_PATH="/home/len/perl5/perlbrew/bin:/home/len/perl5/perlbrew/perls/perl-5.18.2/bin"
PERLBREW_PERL="perl-5.18.2"
PERLBREW_ROOT="/home/len/perl5/perlbrew"
PERLBREW_VERSION="0.67"
@INC:
/home/len/perl5/perlbrew/perls/perl-5.18.2/lib/site_perl/5.18.2/i686-linux
/home/len/perl5/perlbrew/perls/perl-5.18.2/lib/site_perl/5.18.2
/home/len/perl5/perlbrew/perls/perl-5.18.2/lib/5.18.2/i686-linux
/home/len/perl5/perlbrew/perls/perl-5.18.2/lib/5.18.2
.