Report for Sys-SigAction-0.19

Back
From: metabase:user:cd868b0c-8a9b-11e2-9834-c28822c549b9
Subject: PASS Sys-SigAction-0.19 v5.18.0 GNU/Linux
Date: 2013-07-31T17:05:18Z

This distribution has been tested as part of the CPAN Testers
project, supporting the Perl programming language.  See
http://wiki.cpantesters.org/ for more information or email
questions to cpan-testers-discuss@perl.org


--
Dear LBAXTER,

This is a computer-generated report for Sys-SigAction-0.19
on perl 5.18.0, created by App::cpanminus::reporter 0.10 (1.6922).

Thank you for uploading your work to CPAN.  Congratulations!
All tests were successful.

Sections of this report:

    * Tester comments
    * Program output
    * Prerequisites
    * Environment and other context

------------------------------
TESTER COMMENTS
------------------------------

Additional comments from tester:

none provided

------------------------------
PROGRAM OUTPUT
------------------------------

Output from '':

Building and testing Sys-SigAction-0.19
cp lib/Sys/SigAction.pm blib/lib/Sys/SigAction.pm
Manifying blib/man3/Sys::SigAction.3perl
PERL_DL_NONLAZY=1 /home/myra/perl5/perlbrew/perls/perl-5.18.0/bin/perl5.18.0 "-MExtUtils::Command::MM" "-e" "test_harness(0, 'blib/lib', 'blib/arch')" t/*.t
t/mask.t ..... ok
t/name.t ..... ok
t/nested.t ... ok
t/number.t ... ok

         
         NOTE: Setting safe=>1... with masked signals does not seem to work.
         The problem is that the masked signals are not masked when safe=>1.
         When safe=>0 they are.  

         If you have an application for safe=>1 and can come up with 
         a test that works in the context of this module's installation
         please send me a patch to safe.t that tests it.
         
         See the block below this one... which if executed would test safe mode
         with masked signals... it is a clone of part of mask.t that proves this
         is broken.

         Lincoln
         
t/safe.t ..... ok
t/timeout.t .. ok
All tests successful.
Files=6, Tests=44,  9 wallclock secs ( 0.11 usr  0.01 sys +  0.56 cusr  0.04 csys =  0.72 CPU)
Result: PASS

------------------------------
PREREQUISITES
------------------------------

Prerequisite modules loaded:

    No requirements found

------------------------------
ENVIRONMENT AND OTHER CONTEXT
------------------------------

Environment variables:

    LANG = en_US.UTF-8
    LC_ALL = 
    LC_COLLATE = C
    PATH = /home/myra/bin/cscout/bin:/home/myra/.local/bin:/home/myra/.gem/ruby/2.0.0/bin:/home/myra/bin:/home/myra/perl5/bin:/home/myra/perl5/perlbrew/bin:/home/myra/perl5/perlbrew/perls/perl-5.18.0/bin:/usr/local/sbin:/usr/local/bin:/home/myra/bin:/usr/local/sbin:/usr/local/bin:/usr/bin:/opt/insight/bin:/usr/bin/site_perl:/usr/bin/vendor_perl:/usr/bin/core_perl:/opt/sourcenavigator/bin
    PERL5LIB = /home/myra/perl5/lib/perl5:/home/myra/perl5/lib/perl5
    PERLBREW_BASHRC_VERSION = 0.64
    PERLBREW_HOME = /home/myra/.perlbrew
    PERLBREW_MANPATH = /home/myra/perl5/perlbrew/perls/perl-5.18.0/man
    PERLBREW_PATH = /home/myra/perl5/perlbrew/bin:/home/myra/perl5/perlbrew/perls/perl-5.18.0/bin
    PERLBREW_PERL = perl-5.18.0
    PERLBREW_ROOT = /home/myra/perl5/perlbrew
    PERLBREW_VERSION = 0.64
    PERL_LOCAL_LIB_ROOT = :/home/myra/perl5:/home/myra/perl5
    PERL_MB_OPT = --install_base /home/myra/perl5
    PERL_MM_OPT = INSTALL_BASE=/home/myra/perl5
    SHELL = /bin/bash
    TERM = rxvt-unicode-256color

Perl special variables (and OS-specific diagnostics, for MSWin32):

    EGID = 100 4 7 10 50 90 91 92 93 95 100
    EUID = 1000
    EXECUTABLE_NAME = /home/myra/perl5/perlbrew/perls/perl-5.18.0/bin/perl5.18.0
    GID = 100 4 7 10 50 90 91 92 93 95 100
    UID = 1000

Perl module toolchain versions installed:

    Module              Have    
    ------------------- --------
    CPAN                2.00    
    CPAN::Meta          2.131560
    Cwd                 3.40    
    ExtUtils::CBuilder  0.280210
    ExtUtils::Command   1.17    
    ExtUtils::Install   1.59    
    ExtUtils::MakeMaker 6.72    
    ExtUtils::Manifest  1.63    
    ExtUtils::ParseXS   3.18    
    File::Spec          3.40    
    JSON                2.59    
    JSON::PP            2.27202 
    Module::Build       0.4007  
    Module::Signature   0.73    
    Parse::CPAN::Meta   1.4405  
    Test::Harness       3.28    
    Test::More          0.98    
    YAML                0.84    
    YAML::Syck          1.27    
    version             0.9902  


--

Summary of my perl5 (revision 5 version 18 subversion 0) configuration:
   
  Platform:
    osname=linux, osvers=3.9.2-2-ck, archname=x86_64-linux-thread-multi
    uname='linux gandalf 3.9.2-2-ck #1 smp preempt tue may 14 01:55:19 cdt 2013 x86_64 gnulinux '
    config_args='-de -Dprefix=/home/myra/perl5/perlbrew/perls/perl-5.18.0 -DDEBUGGING -Dusedevel -Dusethreads -Duseshrplib -Doptimize=-m64 -D_FORTIFY_SOURCE=2 -Dman1ext=1perl -Dman3ext=3perl -Dcccdlflags=-fPIC -Dlddlflags=-shared -Dldflags=-Wl,-O1,--sort-common,--as-needed,-z,relro -Aeval:scriptdir=/home/myra/perl5/perlbrew/perls/perl-5.18.0/bin'
    hint=recommended, useposix=true, d_sigaction=define
    useithreads=define, usemultiplicity=define
    useperlio=define, d_sfio=undef, uselargefiles=define, usesocks=undef
    use64bitint=define, use64bitall=define, uselongdouble=undef
    usemymalloc=n, bincompat5005=undef
  Compiler:
    cc='cc', ccflags ='-D_REENTRANT -D_GNU_SOURCE -DDEBUGGING -fno-strict-aliasing -pipe -fstack-protector -I/usr/local/include -D_LARGEFILE_SOURCE -D_FILE_OFFSET_BITS=64',
    optimize='-m64 -g',
    cppflags='-D_REENTRANT -D_GNU_SOURCE -DDEBUGGING -fno-strict-aliasing -pipe -fstack-protector -I/usr/local/include'
    ccversion='', gccversion='4.8.0 20130502 (prerelease)', gccosandvers=''
    intsize=4, longsize=8, ptrsize=8, doublesize=8, byteorder=12345678
    d_longlong=define, longlongsize=8, d_longdbl=define, longdblsize=16
    ivtype='long', ivsize=8, nvtype='double', nvsize=8, Off_t='off_t', lseeksize=8
    alignbytes=8, prototype=define
  Linker and Libraries:
    ld='cc', ldflags ='-Wl,-O1,--sort-common,--as-needed,-z,relro -fstack-protector -L/usr/local/lib'
    libpth=/usr/local/lib /lib/../lib /usr/lib/../lib /lib /usr/lib /lib64 /usr/lib64
    libs=-lnsl -lgdbm -ldb -ldl -lm -lcrypt -lutil -lpthread -lc -lgdbm_compat
    perllibs=-lnsl -ldl -lm -lcrypt -lutil -lpthread -lc
    libc=/lib/libc-2.17.so, so=so, useshrplib=true, libperl=libperl.so
    gnulibc_version='2.17'
  Dynamic Linking:
    dlsrc=dl_dlopen.xs, dlext=so, d_dlsymun=undef, ccdlflags='-Wl,-E -Wl,-rpath,/home/myra/perl5/perlbrew/perls/perl-5.18.0/lib/5.18.0/x86_64-linux-thread-multi/CORE'
    cccdlflags='-fPIC', lddlflags='-shared -L/usr/local/lib -fstack-protector'


Characteristics of this binary (from libperl): 
  Compile-time options: DEBUGGING HAS_TIMES MULTIPLICITY PERLIO_LAYERS
                        PERL_DONT_CREATE_GVSV
                        PERL_HASH_FUNC_ONE_AT_A_TIME_HARD
                        PERL_IMPLICIT_CONTEXT PERL_MALLOC_WRAP
                        PERL_PRESERVE_IVUV PERL_SAWAMPERSAND
                        PERL_TRACK_MEMPOOL PERL_USE_DEVEL USE_64_BIT_ALL
                        USE_64_BIT_INT USE_ITHREADS USE_LARGE_FILES
                        USE_LOCALE USE_LOCALE_COLLATE USE_LOCALE_CTYPE
                        USE_LOCALE_NUMERIC USE_PERLIO USE_PERL_ATOF
                        USE_REENTRANT_API
  Built under linux
  Compiled at May 19 2013 12:53:31
  %ENV:
    PERL5LIB="/home/myra/perl5/lib/perl5:/home/myra/perl5/lib/perl5"
    PERLBREW_BASHRC_VERSION="0.64"
    PERLBREW_HOME="/home/myra/.perlbrew"
    PERLBREW_MANPATH="/home/myra/perl5/perlbrew/perls/perl-5.18.0/man"
    PERLBREW_PATH="/home/myra/perl5/perlbrew/bin:/home/myra/perl5/perlbrew/perls/perl-5.18.0/bin"
    PERLBREW_PERL="perl-5.18.0"
    PERLBREW_ROOT="/home/myra/perl5/perlbrew"
    PERLBREW_VERSION="0.64"
    PERL_LOCAL_LIB_ROOT=":/home/myra/perl5:/home/myra/perl5"
    PERL_MB_OPT="--install_base /home/myra/perl5"
    PERL_MM_OPT="INSTALL_BASE=/home/myra/perl5"
  @INC:
    /home/myra/perl5/lib/perl5/x86_64-linux-thread-multi
    /home/myra/perl5/lib/perl5
    /home/myra/perl5/lib/perl5/x86_64-linux-thread-multi
    /home/myra/perl5/lib/perl5
    /home/myra/perl5/perlbrew/perls/perl-5.18.0/lib/site_perl/5.18.0/x86_64-linux-thread-multi
    /home/myra/perl5/perlbrew/perls/perl-5.18.0/lib/site_perl/5.18.0
    /home/myra/perl5/perlbrew/perls/perl-5.18.0/lib/5.18.0/x86_64-linux-thread-multi
    /home/myra/perl5/perlbrew/perls/perl-5.18.0/lib/5.18.0
    .