Back
From: metabase:user:30f4dfbe-2aae-11df-837a-5e0a49663a4f
Subject: PASS SysV-Init-Service-0.05 v5.21.8 GNU/Linux
Date: 2015-03-21T00:36:57Z
This distribution has been tested as part of the CPAN Testers
project, supporting the Perl programming language. See
http://wiki.cpantesters.org/ for more information or email
questions to cpan-testers-discuss@perl.org
--
Dear Michal Spacek,
This is a computer-generated report for SysV-Init-Service-0.05
on perl 5.21.8, created by CPAN-Reporter-1.2011.
Thank you for uploading your work to CPAN. Congratulations!
All tests were successful.
Sections of this report:
* Tester comments
* Program output
* Prerequisites
* Environment and other context
------------------------------
TESTER COMMENTS
------------------------------
Additional comments from tester:
this report is from an automated smoke testing program
and was not reviewed by a human for accuracy
------------------------------
PROGRAM OUTPUT
------------------------------
Output from '/usr/bin/make test':
PERL_DL_NONLAZY=1 "/home/njh/perl5/perlbrew/perls/perl-5.21.8/bin/perl5.21.8" "-MExtUtils::Command::MM" "-MTest::Harness" "-e" "undef *Test::Harness::Switches; test_harness(0, 'inc', 'blib/lib', 'blib/arch')" t/SysV-Init-Service/*.t
t/SysV-Init-Service/00-use.t ........... ok
t/SysV-Init-Service/01-version.t ....... ok
t/SysV-Init-Service/02-pod_coverage.t .. ok
t/SysV-Init-Service/03-pod.t ........... ok
t/SysV-Init-Service/04-new.t ........... ok
t/SysV-Init-Service/05-commands.t ...... ok
t/SysV-Init-Service/06-name.t .......... ok
t/SysV-Init-Service/07-status.t ........ ok
All tests successful.
Files=8, Tests=25, 7 wallclock secs ( 0.26 usr 0.05 sys + 6.25 cusr 0.71 csys = 7.27 CPU)
Result: PASS
------------------------------
PREREQUISITES
------------------------------
Prerequisite modules loaded:
requires:
Module Need Have
--------------------- ---- ------------
Capture::Tiny 0 0.28
Class::Utils 0.05 0.06
English 0 1.09
Error::Pure 0.15 0.22
File::Spec::Functions 0 3.54
List::MoreUtils 0 0.408
build_requires:
Module Need Have
--------------------- ---- ------------
English 0 1.09
ExtUtils::MakeMaker 6.36 7.04
File::Object 0.07 0.08
Test::More 0 1.301001_097
Test::NoWarnings 0 1.04
Test::Pod 0 1.48
Test::Pod::Coverage 0 1.10
configure_requires:
Module Need Have
--------------------- ---- ------------
ExtUtils::MakeMaker 6.36 7.04
------------------------------
ENVIRONMENT AND OTHER CONTEXT
------------------------------
Environment variables:
AUTOMATED_TESTING = 1
LANG = en_GB.UTF-8
LD_LIBRARY_PATH = /usr/local/lib:
PATH = /home/njh/perl5/perlbrew/bin:/home/njh/perl5/perlbrew/perls/perl-5.21.8/bin:/home/njh/perl5/perlbrew/bin:/home/njh/bin:/usr/local/sbin:/usr/local/bin:/usr/sbin:/usr/bin:/sbin:/bin:/usr/local/games:/usr/games
PERL5LIB = /home/njh/.cpan/build/File-Object-0.08-gVh0EG/blib/arch:/home/njh/.cpan/build/File-Object-0.08-gVh0EG/blib/lib:/home/njh/.cpan/build/Class-Utils-0.06-mHfUGH/blib/arch:/home/njh/.cpan/build/Class-Utils-0.06-mHfUGH/blib/lib:/home/njh/.cpan/build/Error-Pure-0.22-U_y4aM/blib/arch:/home/njh/.cpan/build/Error-Pure-0.22-U_y4aM/blib/lib:/home/njh/.cpan/build/Error-Pure-Output-Text-0.21-ol3AV7/blib/arch:/home/njh/.cpan/build/Error-Pure-Output-Text-0.21-ol3AV7/blib/lib:/home/njh/.cpan/build/Readonly-2.00-Jd3RCC/blib/arch:/home/njh/.cpan/build/Readonly-2.00-Jd3RCC/blib/lib:/home/njh/.cpan/build/List-MoreUtils-0.408-OUxuLy/blib/arch:/home/njh/.cpan/build/List-MoreUtils-0.408-OUxuLy/blib/lib:/home/njh/.cpan/build/Exporter-Tiny-0.042-Uwf8HV/blib/arch:/home/njh/.cpan/build/Exporter-Tiny-0.042-Uwf8HV/blib/lib
PERL5OPT =
PERL5_CPANPLUS_IS_RUNNING = 9915
PERL5_CPAN_IS_RUNNING = 9915
PERL5_MINISMOKEBOX = 0.58
PERLBREW_BASHRC_VERSION = 0.71
PERLBREW_HOME = /home/njh/.perlbrew
PERLBREW_LIB =
PERLBREW_MANPATH = /home/njh/perl5/perlbrew/perls/perl-5.21.8/man
PERLBREW_PATH = /home/njh/perl5/perlbrew/bin:/home/njh/perl5/perlbrew/perls/perl-5.21.8/bin
PERLBREW_PERL = perl-5.21.8
PERLBREW_ROOT = /home/njh/perl5/perlbrew
PERLBREW_VERSION = 0.71
PERL_EXTUTILS_AUTOINSTALL = --defaultdeps
PERL_LOCAL_LIB_ROOT =
PERL_MM_USE_DEFAULT = 1
SHELL = /bin/bash
TERM = linux
Perl special variables (and OS-specific diagnostics, for MSWin32):
$^X = /home/njh/perl5/perlbrew/perls/perl-5.21.8/bin/perl5.21.8
$UID/$EUID = 1000 / 1000
$GID = 1000 4 24 25 29 30 44 46 200 1000
$EGID = 1000 4 24 25 29 30 44 46 200 1000
Perl module toolchain versions installed:
Module Have
------------------- ------------
CPAN 2.10
CPAN::Meta 2.143240
Cwd 3.54
ExtUtils::CBuilder 0.280221
ExtUtils::Command 1.20
ExtUtils::Install 2.04
ExtUtils::MakeMaker 7.04
ExtUtils::Manifest 1.70
ExtUtils::ParseXS 3.27
File::Spec 3.53
JSON n/a
JSON::PP 2.27300
Module::Build 0.4211
Module::Signature n/a
Parse::CPAN::Meta 1.4414
Test::Harness 3.35
Test::More 1.301001_097
YAML n/a
YAML::Syck 1.29
version 0.9912
--
Summary of my perl5 (revision 5 version 21 subversion 8) configuration:
Platform:
osname=linux, osvers=3.18.7+, archname=armv6l-linux-thread-multi
uname='linux pi 3.18.7+ #755 preempt thu feb 12 17:14:31 gmt 2015 armv6l gnulinux '
config_args='-de -Dprefix=/home/njh/perl5/perlbrew/perls/perl-5.21.8 -Duseithreads -Dusemultiplicity -Dusedevel -Dusedevel -Accflags= -Aeval:scriptdir=/home/njh/perl5/perlbrew/perls/perl-5.21.8/bin'
hint=recommended, useposix=true, d_sigaction=define
useithreads=define, usemultiplicity=define
use64bitint=undef, use64bitall=undef, uselongdouble=undef
usemymalloc=n, bincompat5005=undef
Compiler:
cc='cc', ccflags ='-D_REENTRANT -D_GNU_SOURCE -fwrapv -fno-strict-aliasing -pipe -fstack-protector -I/usr/local/include -D_LARGEFILE_SOURCE -D_FILE_OFFSET_BITS=64 -D_FORTIFY_SOURCE=2',
optimize='-O2',
cppflags='-D_REENTRANT -D_GNU_SOURCE -fwrapv -fno-strict-aliasing -pipe -fstack-protector -I/usr/local/include'
ccversion='', gccversion='4.6.3', gccosandvers=''
intsize=4, longsize=4, ptrsize=4, doublesize=8, byteorder=1234, doublekind=3
d_longlong=define, longlongsize=8, d_longdbl=define, longdblsize=8, longdblkind=0
ivtype='long', ivsize=4, nvtype='double', nvsize=8, Off_t='off_t', lseeksize=8
alignbytes=8, prototype=define
Linker and Libraries:
ld='cc', ldflags =' -fstack-protector -L/usr/local/lib'
libpth=/usr/local/lib /usr/lib/gcc/arm-linux-gnueabihf/4.6/include-fixed /usr/include/arm-linux-gnueabihf /usr/lib /lib/arm-linux-gnueabihf /lib /usr/lib/arm-linux-gnueabihf
libs=-lpthread -lnsl -lgdbm -ldb -ldl -lm -lcrypt -lutil -lc -lgdbm_compat
perllibs=-lpthread -lnsl -ldl -lm -lcrypt -lutil -lc
libc=libc-2.13.so, so=so, useshrplib=false, libperl=libperl.a
gnulibc_version='2.13'
Dynamic Linking:
dlsrc=dl_dlopen.xs, dlext=so, d_dlsymun=undef, ccdlflags='-Wl,-E'
cccdlflags='-fPIC', lddlflags='-shared -O2 -L/usr/local/lib -fstack-protector'
Characteristics of this binary (from libperl):
Compile-time options: HAS_TIMES MULTIPLICITY PERLIO_LAYERS
PERL_DONT_CREATE_GVSV
PERL_HASH_FUNC_ONE_AT_A_TIME_HARD
PERL_IMPLICIT_CONTEXT PERL_MALLOC_WRAP
PERL_NEW_COPY_ON_WRITE PERL_PRESERVE_IVUV
PERL_USE_DEVEL USE_ITHREADS USE_LARGE_FILES
USE_LOCALE USE_LOCALE_COLLATE USE_LOCALE_CTYPE
USE_LOCALE_NUMERIC USE_LOCALE_TIME USE_PERLIO
USE_PERL_ATOF USE_REENTRANT_API
Built under linux
Compiled at Feb 24 2015 02:15:54
%ENV:
PERL5LIB="/home/njh/.cpan/build/File-Object-0.08-gVh0EG/blib/arch:/home/njh/.cpan/build/File-Object-0.08-gVh0EG/blib/lib:/home/njh/.cpan/build/Class-Utils-0.06-mHfUGH/blib/arch:/home/njh/.cpan/build/Class-Utils-0.06-mHfUGH/blib/lib:/home/njh/.cpan/build/Error-Pure-0.22-U_y4aM/blib/arch:/home/njh/.cpan/build/Error-Pure-0.22-U_y4aM/blib/lib:/home/njh/.cpan/build/Error-Pure-Output-Text-0.21-ol3AV7/blib/arch:/home/njh/.cpan/build/Error-Pure-Output-Text-0.21-ol3AV7/blib/lib:/home/njh/.cpan/build/Readonly-2.00-Jd3RCC/blib/arch:/home/njh/.cpan/build/Readonly-2.00-Jd3RCC/blib/lib:/home/njh/.cpan/build/List-MoreUtils-0.408-OUxuLy/blib/arch:/home/njh/.cpan/build/List-MoreUtils-0.408-OUxuLy/blib/lib:/home/njh/.cpan/build/Exporter-Tiny-0.042-Uwf8HV/blib/arch:/home/njh/.cpan/build/Exporter-Tiny-0.042-Uwf8HV/blib/lib"
PERL5OPT=""
PERL5_CPANPLUS_IS_RUNNING="9915"
PERL5_CPAN_IS_RUNNING="9915"
PERL5_MINISMOKEBOX="0.58"
PERLBREW_BASHRC_VERSION="0.71"
PERLBREW_HOME="/home/njh/.perlbrew"
PERLBREW_LIB=""
PERLBREW_MANPATH="/home/njh/perl5/perlbrew/perls/perl-5.21.8/man"
PERLBREW_PATH="/home/njh/perl5/perlbrew/bin:/home/njh/perl5/perlbrew/perls/perl-5.21.8/bin"
PERLBREW_PERL="perl-5.21.8"
PERLBREW_ROOT="/home/njh/perl5/perlbrew"
PERLBREW_VERSION="0.71"
PERL_EXTUTILS_AUTOINSTALL="--defaultdeps"
PERL_LOCAL_LIB_ROOT=""
PERL_MM_USE_DEFAULT="1"
@INC:
/home/njh/.cpan/build/File-Object-0.08-gVh0EG/blib/arch
/home/njh/.cpan/build/File-Object-0.08-gVh0EG/blib/lib
/home/njh/.cpan/build/Class-Utils-0.06-mHfUGH/blib/arch
/home/njh/.cpan/build/Class-Utils-0.06-mHfUGH/blib/lib
/home/njh/.cpan/build/Error-Pure-0.22-U_y4aM/blib/arch
/home/njh/.cpan/build/Error-Pure-0.22-U_y4aM/blib/lib
/home/njh/.cpan/build/Error-Pure-Output-Text-0.21-ol3AV7/blib/arch
/home/njh/.cpan/build/Error-Pure-Output-Text-0.21-ol3AV7/blib/lib
/home/njh/.cpan/build/Readonly-2.00-Jd3RCC/blib/arch
/home/njh/.cpan/build/Readonly-2.00-Jd3RCC/blib/lib
/home/njh/.cpan/build/List-MoreUtils-0.408-OUxuLy/blib/arch
/home/njh/.cpan/build/List-MoreUtils-0.408-OUxuLy/blib/lib
/home/njh/.cpan/build/Exporter-Tiny-0.042-Uwf8HV/blib/arch
/home/njh/.cpan/build/Exporter-Tiny-0.042-Uwf8HV/blib/lib
/home/njh/perl5/perlbrew/perls/perl-5.21.8/lib/site_perl/5.21.8/armv6l-linux-thread-multi
/home/njh/perl5/perlbrew/perls/perl-5.21.8/lib/site_perl/5.21.8
/home/njh/perl5/perlbrew/perls/perl-5.21.8/lib/5.21.8/armv6l-linux-thread-multi
/home/njh/perl5/perlbrew/perls/perl-5.21.8/lib/5.21.8
.