Report for Test-WWW-Mechanize-Catalyst-0.56

Back
From: metabase:user:e9b6adb0-407e-11e1-be78-ac38c92c4a08
Subject: PASS Test-WWW-Mechanize-Catalyst-0.56 v5.14.2 GNU/Linux
Date: 2012-01-26T17:37:13Z

This distribution has been tested as part of the CPAN Testers
project, supporting the Perl programming language.  See
http://wiki.cpantesters.org/ for more information or email
questions to cpan-testers-discuss@perl.org


--
Dear Eden Cardim,

This is a computer-generated report for Test-WWW-Mechanize-Catalyst-0.56
on perl 5.14.2, created by CPAN-Reporter-1.2003.

Thank you for uploading your work to CPAN.  Congratulations!
All tests were successful.

Sections of this report:

    * Tester comments
    * Program output
    * Prerequisites
    * Environment and other context

------------------------------
TESTER COMMENTS
------------------------------

Additional comments from tester:

none provided

------------------------------
PROGRAM OUTPUT
------------------------------

Output from '/usr/bin/make test':

PERL_DL_NONLAZY=1 /home/u3571/perls/perl-5.14.2/bin/perl "-MExtUtils::Command::MM" "-e" "test_harness(0, 'inc', 'blib/lib', 'blib/arch')" t/*.t
t/auth-test.t ........... ok
t/cookies.t ............. ok
# 
# ###################################################################
# Starting an external Catalyst HTTP server on port 7357
# To change the port, please set the TWMC_TEST_PORT env variable.
# (The server will be automatically shut-down right after the tests).
# ###################################################################
t/multi_content_type.t .. ok
t/pod.t ................. skipped: Test::Pod 1.14 required for testing POD: Can't locate Test/Pod.pm in @INC (@INC contains: /home/u3571/.cpan/build/Test-WWW-Mechanize-Catalyst-0.56-OAM7tn/inc /home/u3571/.cpan/build/Test-WWW-Mechanize-Catalyst-0.56-OAM7tn/blib/lib /home/u3571/.cpan/build/Test-WWW-Mechanize-Catalyst-0.56-OAM7tn/blib/arch /home/u3571/perls/perl-5.14.2/lib/site_perl/5.14.2/i686-linux-gnu-thread-multi /home/u3571/perls/perl-5.14.2/lib/site_perl/5.14.2 /home/u3571/perls/perl-5.14.2/lib/5.14.2/i686-linux-gnu-thread-multi /home/u3571/perls/perl-5.14.2/lib/5.14.2 .) at (eval 4) line 2.
t/redirect.t ............ ok
t/simple.t .............. ok
t/two_app.t ............. ok
t/useragent.t ........... ok
t/white_label.t ......... ok
All tests successful.
Files=9, Tests=92,  7 wallclock secs ( 0.06 usr  0.03 sys +  5.59 cusr  0.27 csys =  5.95 CPU)
Result: PASS

------------------------------
PREREQUISITES
------------------------------

Prerequisite modules loaded:

requires:

    Module                                   Need     Have    
    ---------------------------------------- -------- --------
    Catalyst                                 5.00     5.90007 
    LWP                                      5.816    6.03    
    Moose                                    0.67     2.0401  
    namespace::clean                         0.09     0.22    
    perl                                     5.008004 5.014002
    Test::WWW::Mechanize                     1.14     1.38    
    WWW::Mechanize                           1.54     1.71    

build_requires:

    Module                                   Need     Have    
    ---------------------------------------- -------- --------
    Catalyst::Plugin::Session::State::Cookie 0        0.17    
    Catalyst::Plugin::Session::Store::Dummy  0        0       
    ExtUtils::MakeMaker                      6.42     6.62    
    Test::Exception                          0        0.31    
    Test::More                               0        0.98    

configure_requires:

    Module                                   Need     Have    
    ---------------------------------------- -------- --------
    ExtUtils::MakeMaker                      6.42     6.62    


------------------------------
ENVIRONMENT AND OTHER CONTEXT
------------------------------

Environment variables:

    LANG = de_DE.UTF-8
    LANGUAGE = de_DE:en
    PATH = /home/u3571/perls/perl-5.14.2/site_perl/bin:/home/u3571/perls/perl-5.14.2/bin:/home/u3571/bin:/home/u3571/bin:/usr/local/sbin:/usr/local/bin:/usr/sbin:/usr/bin:/sbin:/bin:/usr/games:/home/u3571/java/apache-ant-1.8.2/bin:/home/u3571/java/apache-maven-3.0.3/bin:/home/u3571/glassfish3/bin:/home/u3571/glassfish3/glassfish/bin:/home/u3571/java/forge-1.0.0.Alpha3/bin
    PERL5LIB = 
    PERL5OPT = 
    PERL5_CPANPLUS_IS_RUNNING = 3088
    PERL5_CPAN_IS_RUNNING = 3088
    PERL_HOME = /home/u3571/perls/perl-5.14.2
    SHELL = /bin/bash
    TERM = xterm

Perl special variables (and OS-specific diagnostics, for MSWin32):

    $^X = /home/u3571/perls/perl-5.14.2/bin/perl
    $UID/$EUID = 1000 / 1000
    $GID = 1000 4 20 24 27 119 123 130 131 1000 1001 1200
    $EGID = 1000 4 20 24 27 119 123 130 131 1000 1001 1200

Perl module toolchain versions installed:

    Module              Have    
    ------------------- --------
    CPAN                1.9800  
    CPAN::Meta          2.112150
    Cwd                 3.36    
    ExtUtils::CBuilder  0.280203
    ExtUtils::Command   1.17    
    ExtUtils::Install   1.56    
    ExtUtils::MakeMaker 6.62    
    ExtUtils::Manifest  1.58    
    ExtUtils::ParseXS   2.2210  
    File::Spec          3.33    
    JSON                2.53    
    JSON::PP            2.27105 
    Module::Build       0.3800  
    Module::Signature   0.68    
    Parse::CPAN::Meta   1.4401  
    Test::Harness       3.23    
    Test::More          0.98    
    YAML                0.78    
    YAML::Syck          1.19    
    version             0.88    


--

Summary of my perl5 (revision 5 version 14 subversion 2) configuration:
   
  Platform:
    osname=linux, osvers=2.6.38-13-generic-pae, archname=i686-linux-gnu-thread-multi
    uname='linux jens 2.6.38-13-generic-pae #53-ubuntu smp mon nov 28 19:41:58 utc 2011 i686 athlon i386 gnulinux '
    config_args='-Dusethreads -Duselargefiles -Dccflags=-DDEBIAN -Dcccdlflags=-fPIC -Darchname=i686-linux-gnu -Dprefix=/home/u3571/perls/perl-5.14.2 -Dman1ext=1 -Dman3ext=3perl -Dpager=/usr/bin/sensible-pager -Uafs -Ud_csh -Ud_ualarm -Uusesfio -Uusenm -DDEBUGGING=-g -Doptimize=-O2 -Dplibpth=/lib/i386-linux-gnu /usr/lib/i386-linux-gnu -Duseshrplib -des -Dperladmin=jensober@gmx.net'
    hint=recommended, useposix=true, d_sigaction=define
    useithreads=define, usemultiplicity=define
    useperlio=define, d_sfio=undef, uselargefiles=define, usesocks=undef
    use64bitint=undef, use64bitall=undef, uselongdouble=undef
    usemymalloc=n, bincompat5005=undef
  Compiler:
    cc='cc', ccflags ='-D_REENTRANT -D_GNU_SOURCE -DDEBIAN -fno-strict-aliasing -pipe -fstack-protector -I/usr/local/include -D_LARGEFILE_SOURCE -D_FILE_OFFSET_BITS=64',
    optimize='-O2 -g',
    cppflags='-D_REENTRANT -D_GNU_SOURCE -DDEBIAN -fno-strict-aliasing -pipe -fstack-protector -I/usr/local/include'
    ccversion='', gccversion='4.5.2', gccosandvers=''
    intsize=4, longsize=4, ptrsize=4, doublesize=8, byteorder=1234
    d_longlong=define, longlongsize=8, d_longdbl=define, longdblsize=12
    ivtype='long', ivsize=4, nvtype='double', nvsize=8, Off_t='off_t', lseeksize=8
    alignbytes=4, prototype=define
  Linker and Libraries:
    ld='cc', ldflags =' -fstack-protector -L/usr/local/lib'
    libpth=/usr/local/lib /lib/i386-linux-gnu /usr/lib/i386-linux-gnu /lib /usr/lib /usr/lib64
    libs=-lnsl -ldl -lm -lcrypt -lutil -lpthread -lc
    perllibs=-lnsl -ldl -lm -lcrypt -lutil -lpthread -lc
    libc=, so=so, useshrplib=true, libperl=libperl.so
    gnulibc_version='2.13'
  Dynamic Linking:
    dlsrc=dl_dlopen.xs, dlext=so, d_dlsymun=undef, ccdlflags='-Wl,-E -Wl,-rpath,/home/u3571/perls/perl-5.14.2/lib/5.14.2/i686-linux-gnu-thread-multi/CORE'
    cccdlflags='-fPIC', lddlflags='-shared -O2 -g -L/usr/local/lib -fstack-protector'


Characteristics of this binary (from libperl): 
  Compile-time options: MULTIPLICITY PERL_DONT_CREATE_GVSV
                        PERL_IMPLICIT_CONTEXT PERL_MALLOC_WRAP
                        PERL_PRESERVE_IVUV USE_ITHREADS USE_LARGE_FILES
                        USE_PERLIO USE_PERL_ATOF USE_REENTRANT_API
  Built under linux
  Compiled at Jan 15 2012 21:09:01
  %ENV:
    PERL5LIB=""
    PERL5OPT=""
    PERL5_CPANPLUS_IS_RUNNING="3088"
    PERL5_CPAN_IS_RUNNING="3088"
    PERL_HOME="/home/u3571/perls/perl-5.14.2"
  @INC:
    /home/u3571/perls/perl-5.14.2/lib/site_perl/5.14.2/i686-linux-gnu-thread-multi
    /home/u3571/perls/perl-5.14.2/lib/site_perl/5.14.2
    /home/u3571/perls/perl-5.14.2/lib/5.14.2/i686-linux-gnu-thread-multi
    /home/u3571/perls/perl-5.14.2/lib/5.14.2
    .