Back
From: metabase:user:68a9c4ac-1ec7-11e0-bf29-9c4bfeb2ac3f
Subject: PASS Sys-SigAction-0.21 v5.18.4 GNU/Linux
Date: 2015-09-28T00:32:28Z
This distribution has been tested as part of the CPAN Testers
project, supporting the Perl programming language. See
http://wiki.cpantesters.org/ for more information or email
questions to cpan-testers-discuss@perl.org
--
Dear Lincoln A Baxter,
This is a computer-generated report for Sys-SigAction-0.21
on perl 5.18.4, created by CPAN-Reporter-1.2015.
Thank you for uploading your work to CPAN. Congratulations!
All tests were successful.
Sections of this report:
* Tester comments
* Program output
* Prerequisites
* Environment and other context
------------------------------
TESTER COMMENTS
------------------------------
Additional comments from tester:
none provided
------------------------------
PROGRAM OUTPUT
------------------------------
Output from '/usr/bin/make test':
PERL_DL_NONLAZY=1 "/home/rwstauner/perl5/plenv/versions/5.18.4/bin/perl5.18.4" "-MExtUtils::Command::MM" "-MTest::Harness" "-e" "undef *Test::Harness::Switches; test_harness(0, 'blib/lib', 'blib/arch')" t/*.t
t/mask.t ..... ok
t/name.t ..... ok
t/nested.t ... ok
t/number.t ... ok
NOTE: Setting safe=>1... with masked signals does not seem to work.
The problem is that the masked signals are not masked when safe=>1.
When safe=>0 they are.
If you have an application for safe=>1 and can come up with
a test that works in the context of this module's installation
please send me a patch to safe.t that tests it.
See the block below this one... which if executed would test safe mode
with masked signals... it is a clone of part of mask.t that proves this
is broken.
Lincoln
t/safe.t ..... ok
# delta time was 0.100460, timer was for 0.1 secconds
t/timeout.t .. ok
All tests successful.
Files=6, Tests=44, 9 wallclock secs ( 0.05 usr 0.01 sys + 0.22 cusr 0.03 csys = 0.31 CPU)
Result: PASS
------------------------------
PREREQUISITES
------------------------------
Prerequisite modules loaded:
requires:
Module Need Have
------------------- ---- --------
POSIX 0 1.32
Test::More 0 1.001014
build_requires:
Module Need Have
------------------- ---- --------
ExtUtils::MakeMaker 0 7.10
configure_requires:
Module Need Have
------------------- ---- --------
ExtUtils::MakeMaker 0 7.10
------------------------------
ENVIRONMENT AND OTHER CONTEXT
------------------------------
Environment variables:
HARNESS_SUBCLASS = TAP::Harness::Restricted
LANG = en_US.UTF-8
LANGUAGE = en_US.UTF-8
LC_ALL = en_US.UTF-8
LC_CTYPE = en_US.UTF-8
NONINTERACTIVE_TESTING = 1
PATH = /home/rwstauner/perl5/plenv/versions/5.18.4/bin:/home/rwstauner/perl5/plenv/libexec:/home/rwstauner/perl5/plenv/plugins/perl-build/bin:/home/rwstauner/perl5/plenv/plugins/plenv-contrib/bin:/home/rwstauner/data/devel/linux:/home/rwstauner/ruby/rbenv/shims:/home/rwstauner/ruby/rbenv/bin:/home/rwstauner/python/venv/2.7.6/bin:/home/rwstauner/perl5/plenv/shims:/home/rwstauner/perl5/plenv/bin:/home/rwstauner/node/global/bin:/home/rwstauner/usr/node/bin:/home/rwstauner/java/home/bin:/home/rwstauner/bin:/home/rwstauner/linuxbrew/sbin:/home/rwstauner/linuxbrew/bin:/home/rwstauner/usr/bin:/usr/local/sbin:/usr/local/bin:/usr/sbin:/usr/bin:/sbin:/bin:/usr/games:/usr/local/games
PERL5LIB =
PERL5OPT =
PERL5_CPANPLUS_IS_RUNNING = 21672
PERL5_CPAN_IS_RUNNING = 21672
PERL_MM_USE_DEFAULT = 1
SHELL = /bin/zsh
TERM = screen-256color
Perl special variables (and OS-specific diagnostics, for MSWin32):
$^X = /home/rwstauner/perl5/plenv/versions/5.18.4/bin/perl5.18.4
$UID/$EUID = 1000 / 1000
$GID = 1000 4 24 27 30 46 106 108 124 999 1000
$EGID = 1000 4 24 27 30 46 106 108 124 999 1000
Perl module toolchain versions installed:
Module Have
------------------- --------
CPAN 2.10
CPAN::Meta 2.150005
Cwd 3.47
ExtUtils::CBuilder 0.280223
ExtUtils::Command 7.10
ExtUtils::Install 1.59
ExtUtils::MakeMaker 7.10
ExtUtils::Manifest 1.65
ExtUtils::ParseXS 3.18
File::Spec 3.47
JSON 2.90
JSON::PP 2.27300
Module::Build 0.4214
Module::Signature 0.79
Parse::CPAN::Meta 1.4417
Test::Harness 3.35
Test::More 1.001014
YAML 1.15
YAML::Syck 1.29
version 0.9912
--
Summary of my perl5 (revision 5 version 18 subversion 4) configuration:
Platform:
osname=linux, osvers=3.13.0-65-generic, archname=x86_64-linux
uname='linux raptor 3.13.0-65-generic #105-ubuntu smp mon sep 21 18:50:58 utc 2015 x86_64 x86_64 x86_64 gnulinux '
config_args='-Dprefix=/home/rwstauner/perl5/plenv/versions/5.18.4 -de -Dusedevel -A'eval:scriptdir=/home/rwstauner/perl5/plenv/versions/5.18.4/bin''
hint=recommended, useposix=true, d_sigaction=define
useithreads=undef, usemultiplicity=undef
useperlio=define, d_sfio=undef, uselargefiles=define, usesocks=undef
use64bitint=define, use64bitall=define, uselongdouble=undef
usemymalloc=n, bincompat5005=undef
Compiler:
cc='cc', ccflags ='-fno-strict-aliasing -pipe -fstack-protector -I/usr/local/include -D_LARGEFILE_SOURCE -D_FILE_OFFSET_BITS=64',
optimize='-O2',
cppflags='-fno-strict-aliasing -pipe -fstack-protector -I/usr/local/include'
ccversion='', gccversion='4.8.4', gccosandvers=''
intsize=4, longsize=8, ptrsize=8, doublesize=8, byteorder=12345678
d_longlong=define, longlongsize=8, d_longdbl=define, longdblsize=16
ivtype='long', ivsize=8, nvtype='double', nvsize=8, Off_t='off_t', lseeksize=8
alignbytes=8, prototype=define
Linker and Libraries:
ld='cc', ldflags =' -fstack-protector -L/usr/local/lib'
libpth=/usr/local/lib /lib/x86_64-linux-gnu /lib/../lib /usr/lib/x86_64-linux-gnu /usr/lib/../lib /lib /usr/lib
libs=-lnsl -lgdbm -ldb -ldl -lm -lcrypt -lutil -lc -lgdbm_compat
perllibs=-lnsl -ldl -lm -lcrypt -lutil -lc
libc=libc-2.19.so, so=so, useshrplib=false, libperl=libperl.a
gnulibc_version='2.19'
Dynamic Linking:
dlsrc=dl_dlopen.xs, dlext=so, d_dlsymun=undef, ccdlflags='-Wl,-E'
cccdlflags='-fPIC', lddlflags='-shared -O2 -L/usr/local/lib -fstack-protector'
Characteristics of this binary (from libperl):
Compile-time options: HAS_TIMES PERLIO_LAYERS PERL_DONT_CREATE_GVSV
PERL_HASH_FUNC_ONE_AT_A_TIME_HARD PERL_MALLOC_WRAP
PERL_PRESERVE_IVUV PERL_SAWAMPERSAND PERL_USE_DEVEL
USE_64_BIT_ALL USE_64_BIT_INT USE_LARGE_FILES
USE_LOCALE USE_LOCALE_COLLATE USE_LOCALE_CTYPE
USE_LOCALE_NUMERIC USE_PERLIO USE_PERL_ATOF
Locally applied patches:
Devel::PatchPerl 1.30
Built under linux
Compiled at Sep 27 2015 16:14:18
%ENV:
PERL5LIB=""
PERL5OPT=""
PERL5_CPANPLUS_IS_RUNNING="21672"
PERL5_CPAN_IS_RUNNING="21672"
PERL_MM_USE_DEFAULT="1"
@INC:
/home/rwstauner/perl5/plenv/versions/5.18.4/lib/site_perl/5.18.4/x86_64-linux
/home/rwstauner/perl5/plenv/versions/5.18.4/lib/site_perl/5.18.4
/home/rwstauner/perl5/plenv/versions/5.18.4/lib/5.18.4/x86_64-linux
/home/rwstauner/perl5/plenv/versions/5.18.4/lib/5.18.4
.