App-Cache v0.37 Perl 5 v5.27.4 x86_64-linux

Status
Pass
From
Dagfinn Ilmari Mannsåker
Dist
App-Cache v0.37
Platform
Perl 5 v5.27.4 x86_64-linux
Date
2017-09-22 00:53:13
ID
69444cfc-9f30-11e7-b0f9-09d810ae04d0
This distribution has been tested as part of the CPAN Testers
project, supporting the Perl programming language.  See
http://wiki.cpantesters.org/ for more information or email
questions to cpan-testers-discuss@perl.org


--
Dear LBROCARD,

This is a computer-generated report for App-Cache-0.37
on perl 5.27.4, created by App::cpanminus::reporter 0.17 (1.7043).

Thank you for uploading your work to CPAN.  Congratulations!
All tests were successful.

Sections of this report:

    * Tester comments
    * Program output
    * Prerequisites
    * Environment and other context

------------------------------
TESTER COMMENTS
------------------------------

Additional comments from tester:

none provided

------------------------------
PROGRAM OUTPUT
------------------------------

Output from '':

Building and testing App-Cache-0.37
cp lib/App/Cache.pm blib/lib/App/Cache.pm
Manifying 1 pod document
PERL_DL_NONLAZY=1 "/home/ilmari/perl5/perlbrew/perls/27.4/bin/perl5.27.4" "-MExtUtils::Command::MM" "-MTest::Harness" "-e" "undef *Test::Harness::Switches; test_harness(0, 'blib/lib', 'blib/arch')" t/*.t
t/pod.t ........... skipped: Test::Pod 1.14 required for testing POD: Can't locate Test/Pod.pm in @INC (you may need to install the Test::Pod module) (@INC contains: /home/ilmari/.cpanm/work/1506039797.30600/App-Cache-0.37/blib/lib /home/ilmari/.cpanm/work/1506039797.30600/App-Cache-0.37/blib/arch /home/ilmari/.perlbrew/libs/27.4@std/lib/perl5/x86_64-linux /home/ilmari/.perlbrew/libs/27.4@std/lib/perl5/x86_64-linux /home/ilmari/.perlbrew/libs/27.4@std/lib/perl5 /home/ilmari/.perlbrew/libs/27.4@std/lib/perl5/x86_64-linux /home/ilmari/.perlbrew/libs/27.4@std/lib/perl5 /home/ilmari/perl5/perlbrew/perls/27.4/lib/site_perl/5.27.4/x86_64-linux /home/ilmari/perl5/perlbrew/perls/27.4/lib/site_perl/5.27.4 /home/ilmari/perl5/perlbrew/perls/27.4/lib/5.27.4/x86_64-linux /home/ilmari/perl5/perlbrew/perls/27.4/lib/5.27.4) at (eval 7) line 1.
t/pod_coverage.t .. skipped: Test::Pod::Coverage 1.04 required for testing POD coverage
t/simple.t ........ ok
All tests successful.
Files=3, Tests=48,  7 wallclock secs ( 0.03 usr  0.00 sys +  0.26 cusr  0.03 csys =  0.32 CPU)
Result: PASS

------------------------------
PREREQUISITES
------------------------------

Prerequisite modules loaded:

runtime:

    Module                         Need Have    
    ------------------------------ ---- --------
    Class::Accessor::Chained::Fast 0    0       
    File::Find::Rule               0    0.34    
    File::HomeDir                  0    1.002   
    File::stat                     0    1.07    
    HTTP::Cookies                  0    6.04    
    LWP::UserAgent                 0    6.27    
    Path::Class                    0    0.37    
    Storable                       0    2.64    
    Test::More                     0    1.302096

build:

    Module                         Need Have    
    ------------------------------ ---- --------
    ExtUtils::MakeMaker            0    7.30    

configure:

    Module                         Need Have    
    ------------------------------ ---- --------
    ExtUtils::MakeMaker            0    7.30    


------------------------------
ENVIRONMENT AND OTHER CONTEXT
------------------------------

Environment variables:

    LANG = en_GB.UTF-8
    LANGUAGE = en_GB:en
    LC_ADDRESS = en_GB.UTF-8
    LC_IDENTIFICATION = en_GB.UTF-8
    LC_MEASUREMENT = en_GB.UTF-8
    LC_MONETARY = en_GB.UTF-8
    LC_NAME = en_GB.UTF-8
    LC_NUMERIC = en_GB.UTF-8
    LC_PAPER = en_GB.UTF-8
    LC_TELEPHONE = en_GB.UTF-8
    LC_TIME = en_GB.UTF-8
    PATH = /home/ilmari/.perlbrew/libs/27.4@std/bin:/home/ilmari/perl5/perlbrew/bin:/home/ilmari/perl5/perlbrew/perls/27.4/bin:/home/ilmari/bin:/usr/local/sbin:/usr/local/bin:/usr/sbin:/usr/bin:/sbin:/bin:/usr/games:/usr/local/games
    PERL5LIB = /home/ilmari/.perlbrew/libs/27.4@std/lib/perl5
    PERLBREW_BASHRC_VERSION = 0.74
    PERLBREW_HOME = /home/ilmari/.perlbrew
    PERLBREW_LIB = std
    PERLBREW_MANPATH = /home/ilmari/.perlbrew/libs/27.4@std/man:/home/ilmari/perl5/perlbrew/perls/27.4/man
    PERLBREW_PATH = /home/ilmari/.perlbrew/libs/27.4@std/bin:/home/ilmari/perl5/perlbrew/bin:/home/ilmari/perl5/perlbrew/perls/27.4/bin
    PERLBREW_PERL = 27.4
    PERLBREW_ROOT = /home/ilmari/perl5/perlbrew
    PERLBREW_VERSION = 0.74
    PERLDOC_PAGER = less -Ri
    PERL_AUTOINSTALL_PREFER_CPAN = 1
    PERL_LOCAL_LIB_ROOT = /home/ilmari/.perlbrew/libs/27.4@std
    PERL_MB_OPT = --install_base /home/ilmari/.perlbrew/libs/27.4@std
    PERL_MM_OPT = INSTALL_BASE=/home/ilmari/.perlbrew/libs/27.4@std
    PERL_MM_PREFER_CPAN = 1
    PERL_MM_USE_DEFAULT = 1
    SHELL = /bin/bash
    TERM = xterm-256color

Perl special variables (and OS-specific diagnostics, for MSWin32):

    EGID = 1001 4 24 27 30 46 117 128 129 1001
    EUID = 1001
    EXECUTABLE_NAME = /home/ilmari/perl5/perlbrew/perls/27.4/bin/perl5.27.4
    GID = 1001 4 24 27 30 46 117 128 129 1001
    UID = 1001

Perl module toolchain versions installed:

    Module              Have    
    ------------------- --------
    CPAN                2.18    
    CPAN::Meta          2.150010
    Cwd                 3.68    
    ExtUtils::CBuilder  0.280228
    ExtUtils::Command   7.30    
    ExtUtils::Install   2.14    
    ExtUtils::MakeMaker 7.30    
    ExtUtils::Manifest  1.70    
    ExtUtils::ParseXS   3.35    
    File::Spec          3.68    
    JSON                n/a     
    JSON::PP            2.94    
    Module::Build       0.4224  
    Module::Signature   n/a     
    Parse::CPAN::Meta   2.150010
    Test::Harness       3.39    
    Test::More          1.302096
    YAML                1.23    
    YAML::Syck          n/a     
    version             0.9918  


--

Summary of my perl5 (revision 5 version 27 subversion 4) configuration:
   
  Platform:
    osname=linux
    osvers=4.4.0-93-generic
    archname=x86_64-linux
    uname='linux ilmari-xps-13-9360 4.4.0-93-generic #116-ubuntu smp fri aug 11 21:17:51 utc 2017 x86_64 x86_64 x86_64 gnulinux '
    config_args='-de -Dprefix=/home/ilmari/perl5/perlbrew/perls/27.4 -Duseshrplib -Dman1dir=none -Dman3dir=none -Dusedevel -Aeval:scriptdir=/home/ilmari/perl5/perlbrew/perls/27.4/bin'
    hint=recommended
    useposix=true
    d_sigaction=define
    useithreads=undef
    usemultiplicity=undef
    use64bitint=define
    use64bitall=define
    uselongdouble=undef
    usemymalloc=n
    default_inc_excludes_dot=define
    bincompat5005=undef
  Compiler:
    cc='cc'
    ccflags ='-fwrapv -fno-strict-aliasing -pipe -fstack-protector-strong -I/usr/local/include -D_LARGEFILE_SOURCE -D_FILE_OFFSET_BITS=64'
    optimize='-O2'
    cppflags='-fwrapv -fno-strict-aliasing -pipe -fstack-protector-strong -I/usr/local/include'
    ccversion=''
    gccversion='5.4.0 20160609'
    gccosandvers=''
    intsize=4
    longsize=8
    ptrsize=8
    doublesize=8
    byteorder=12345678
    doublekind=3
    d_longlong=define
    longlongsize=8
    d_longdbl=define
    longdblsize=16
    longdblkind=3
    ivtype='long'
    ivsize=8
    nvtype='double'
    nvsize=8
    Off_t='off_t'
    lseeksize=8
    alignbytes=8
    prototype=define
  Linker and Libraries:
    ld='cc'
    ldflags =' -fstack-protector-strong -L/usr/local/lib'
    libpth=/usr/local/lib /usr/lib/gcc/x86_64-linux-gnu/5/include-fixed /usr/include/x86_64-linux-gnu /usr/lib /lib/x86_64-linux-gnu /lib/../lib /usr/lib/x86_64-linux-gnu /usr/lib/../lib /lib
    libs=-lpthread -lnsl -lgdbm -ldb -ldl -lm -lcrypt -lutil -lc -lgdbm_compat
    perllibs=-lpthread -lnsl -ldl -lm -lcrypt -lutil -lc
    libc=libc-2.23.so
    so=so
    useshrplib=true
    libperl=libperl.so
    gnulibc_version='2.23'
  Dynamic Linking:
    dlsrc=dl_dlopen.xs
    dlext=so
    d_dlsymun=undef
    ccdlflags='-Wl,-E -Wl,-rpath,/home/ilmari/perl5/perlbrew/perls/27.4/lib/5.27.4/x86_64-linux/CORE'
    cccdlflags='-fPIC'
    lddlflags='-shared -O2 -L/usr/local/lib -fstack-protector-strong'


Characteristics of this binary (from libperl): 
  Compile-time options:
    HAS_TIMES
    PERLIO_LAYERS
    PERL_COPY_ON_WRITE
    PERL_DONT_CREATE_GVSV
    PERL_MALLOC_WRAP
    PERL_OP_PARENT
    PERL_PRESERVE_IVUV
    PERL_USE_DEVEL
    USE_64_BIT_ALL
    USE_64_BIT_INT
    USE_LARGE_FILES
    USE_LOCALE
    USE_LOCALE_COLLATE
    USE_LOCALE_CTYPE
    USE_LOCALE_NUMERIC
    USE_LOCALE_TIME
    USE_PERLIO
    USE_PERL_ATOF
  Locally applied patches:
    Devel::PatchPerl 1.40
  Built under linux
  Compiled at Sep 22 2017 01:15:22
  %ENV:
    PERL5LIB="/home/ilmari/.perlbrew/libs/27.4@std/lib/perl5"
    PERLBREW_BASHRC_VERSION="0.74"
    PERLBREW_HOME="/home/ilmari/.perlbrew"
    PERLBREW_LIB="std"
    PERLBREW_MANPATH="/home/ilmari/.perlbrew/libs/27.4@std/man:/home/ilmari/perl5/perlbrew/perls/27.4/man"
    PERLBREW_PATH="/home/ilmari/.perlbrew/libs/27.4@std/bin:/home/ilmari/perl5/perlbrew/bin:/home/ilmari/perl5/perlbrew/perls/27.4/bin"
    PERLBREW_PERL="27.4"
    PERLBREW_ROOT="/home/ilmari/perl5/perlbrew"
    PERLBREW_VERSION="0.74"
    PERLDOC_PAGER="less -Ri"
    PERL_AUTOINSTALL_PREFER_CPAN="1"
    PERL_LOCAL_LIB_ROOT="/home/ilmari/.perlbrew/libs/27.4@std"
    PERL_MB_OPT="--install_base /home/ilmari/.perlbrew/libs/27.4@std"
    PERL_MM_OPT="INSTALL_BASE=/home/ilmari/.perlbrew/libs/27.4@std"
    PERL_MM_PREFER_CPAN="1"
    PERL_MM_USE_DEFAULT="1"
  @INC:
    /home/ilmari/.perlbrew/libs/27.4@std/lib/perl5/x86_64-linux
    /home/ilmari/.perlbrew/libs/27.4@std/lib/perl5
    /home/ilmari/perl5/perlbrew/perls/27.4/lib/site_perl/5.27.4/x86_64-linux
    /home/ilmari/perl5/perlbrew/perls/27.4/lib/site_perl/5.27.4
    /home/ilmari/perl5/perlbrew/perls/27.4/lib/5.27.4/x86_64-linux
    /home/ilmari/perl5/perlbrew/perls/27.4/lib/5.27.4