POE-Component-EasyDBI v1.30 Perl 5 v5.39.1 x86_64-linux-ld

Status
Pass
From
Andreas J. K├Ânig (ANDK)
Dist
POE-Component-EasyDBI v1.30
Platform
Perl 5 v5.39.1 x86_64-linux-ld
Date
2023-08-02T01:32:22
ID
6d88d0c6-30d4-11ee-a99d-749d8c285c64
This distribution has been tested as part of the CPAN Testers
project, supporting the Perl programming language.  See
http://wiki.cpantesters.org/ for more information or email
questions to cpan-testers-discuss@perl.org


--
Dear Gelu Lupas,

This is a computer-generated report for POE-Component-EasyDBI-1.30
on perl 5.39.1, created by CPAN-Reporter-1.2019.

Thank you for uploading your work to CPAN.  Congratulations!
All tests were successful.

Sections of this report:

    * Tester comments
    * Program output
    * Prerequisites
    * Environment and other context

------------------------------
TESTER COMMENTS
------------------------------

Additional comments from tester:

this report is from an automated smoke testing program
and was not reviewed by a human for accuracy

------------------------------
PROGRAM OUTPUT
------------------------------

Output from './Build test':

t/1.t .. skipped: DBD::AnyData is broken
# Query took 0.000476837158203125 seconds to complete

You should see an error next, this is intended
# DBD::SQLite::db prepare failed: near "PDATE": syntax error at /tmp/loop_over_bdir-4082253-Q7ZWh_/POE-Component-EasyDBI-1.30-0/blib/lib/POE/Component/EasyDBI/SubProcess.pm line 714.
# Query affected 3 rows
t/2.t .. ok
# Query took 0.000417947769165039062 seconds to complete
# Query affected 3 rows
t/3.t .. ok
All tests successful.
Files=3, Tests=35,  1 wallclock secs ( 0.02 usr  0.00 sys +  0.30 cusr  0.09 csys =  0.41 CPU)
Result: PASS

------------------------------
PREREQUISITES
------------------------------

Prerequisite modules loaded:

requires:

    Module              Need    Have    
    ------------------- ------- --------
    Carp                0       1.54    
    DBI                 1.38    1.643   
    Params::Util        0       1.102   
    perl                5.00600 5.039001
    POE                 0.3101  1.370   
    Scalar::Util        0       1.63    
    strict              0       1.12    
    Try::Tiny           0       0.31    
    warnings            0       1.66    

build_requires:

    Module              Need    Have    
    ------------------- ------- --------
    Test::More          0       1.302195
    Test::Requires      0.08    0.11    

configure_requires:

    Module              Need    Have    
    ------------------- ------- --------
    Module::Build       0       0.4234  
    Module::Build::Tiny 0.035   0.046   


------------------------------
ENVIRONMENT AND OTHER CONTEXT
------------------------------

Environment variables:

    AUTOMATED_TESTING = 1
    LANG = en_US.UTF-8
    LC_ADDRESS = de_DE.UTF-8
    LC_IDENTIFICATION = de_DE.UTF-8
    LC_MEASUREMENT = de_DE.UTF-8
    LC_MONETARY = de_DE.UTF-8
    LC_NAME = de_DE.UTF-8
    LC_NUMERIC = de_DE.UTF-8
    LC_PAPER = de_DE.UTF-8
    LC_TELEPHONE = de_DE.UTF-8
    LC_TIME = de_DE.UTF-8
    PATH = /home/sand/bin:/usr/local/bin:/usr/local/sbin:/usr/sbin:/usr/bin:/sbin:/bin:/usr/games:/usr/local/games:/snap/bin:/usr/local/perl/bin:/usr/X11/bin
    PERL = /tmp/basesmoker-reloperl-bSGj/bin/perl
    PERL5LIB = /tmp/loop_over_bdir-4082253-Q7ZWh_/FusionInventory-Agent-2.6-0/blib/arch:/tmp/loop_over_bdir-4082253-Q7ZWh_/FusionInventory-Agent-2.6-0/blib/lib
    PERL5OPT = 
    PERL5_CPANPLUS_IS_RUNNING = 4082261
    PERL5_CPAN_IS_RUNNING = 4082261
    PERL_CANARY_STABILITY_NOPROMPT = 1
    PERL_MM_USE_DEFAULT = 1
    PERL_USE_UNSAFE_INC = 1
    SHELL = /usr/bin/zsh
    TERM = screen

Perl special variables (and OS-specific diagnostics, for MSWin32):

    $^X = /tmp/basesmoker-reloperl-bSGj/bin/perl
    $UID/$EUID = 1005 / 1005
    $GID = 1005 1005
    $EGID = 1005 1005

Perl module toolchain versions installed:

    Module              Have    
    ------------------- --------
    CPAN                2.36    
    CPAN::Meta          2.150010
    Cwd                 3.89    
    ExtUtils::CBuilder  0.280239
    ExtUtils::Command   7.70    
    ExtUtils::Install   2.22    
    ExtUtils::MakeMaker 7.70    
    ExtUtils::Manifest  1.75    
    ExtUtils::ParseXS   3.51    
    File::Spec          3.88    
    JSON                4.10    
    JSON::PP            4.16    
    Module::Build       0.4234  
    Module::Signature   0.88    
    Parse::CPAN::Meta   2.150010
    Test2               1.302195
    Test::Harness       3.44    
    Test::More          1.302195
    YAML                1.30    
    YAML::Syck          1.34    
    version             0.9929  


--

Summary of my perl5 (revision 5 version 39 subversion 1) configuration:
  Commit id: 8c6729f5e3d051878ec60933bcc19650d2dddb85
  Platform:
    osname=linux
    osvers=5.19.0-46-generic
    archname=x86_64-linux-ld
    uname='linux k93jammy 5.19.0-46-generic #47~22.04.1-ubuntu smp preempt_dynamic wed jun 21 15:35:31 utc 2 x86_64 x86_64 x86_64 gnulinux '
    config_args='-Dprefix=/home/sand/src/perl/repoperls/installed-perls/host/k93jammy/v5.39.1/5674 -Dmyhostname=k93jammy -Dinstallusrbinperl=n -Uversiononly -Dusedevel -des -Ui_db -Dlibswanted=cl pthread socket inet nsl gdbm dbm malloc dl ld sun m crypt sec util c cposix posix ucb BSD gdbm_compat -Uuseithreads -Duselongdouble -DEBUGGING=-g'
    hint=recommended
    useposix=true
    d_sigaction=define
    useithreads=undef
    usemultiplicity=undef
    use64bitint=define
    use64bitall=define
    uselongdouble=define
    usemymalloc=n
    default_inc_excludes_dot=define
  Compiler:
    cc='cc'
    ccflags ='-fwrapv -fno-strict-aliasing -pipe -fstack-protector-strong -I/usr/local/include -D_LARGEFILE_SOURCE -D_FILE_OFFSET_BITS=64'
    optimize='-O2 -g'
    cppflags='-fwrapv -fno-strict-aliasing -pipe -fstack-protector-strong -I/usr/local/include'
    ccversion=''
    gccversion='11.3.0'
    gccosandvers=''
    intsize=4
    longsize=8
    ptrsize=8
    doublesize=8
    byteorder=12345678
    doublekind=3
    d_longlong=define
    longlongsize=8
    d_longdbl=define
    longdblsize=16
    longdblkind=3
    ivtype='long'
    ivsize=8
    nvtype='long double'
    nvsize=16
    Off_t='off_t'
    lseeksize=8
    alignbytes=16
    prototype=define
  Linker and Libraries:
    ld='cc'
    ldflags =' -fstack-protector-strong -L/usr/local/lib'
    libpth=/usr/local/lib /usr/lib/x86_64-linux-gnu /usr/lib /usr/lib64
    libs=-lpthread -lnsl -ldl -lm -lcrypt -lutil -lc
    perllibs=-lpthread -lnsl -ldl -lm -lcrypt -lutil -lc
    libc=/lib/x86_64-linux-gnu/libc.so.6
    so=so
    useshrplib=false
    libperl=libperl.a
    gnulibc_version='2.35'
  Dynamic Linking:
    dlsrc=dl_dlopen.xs
    dlext=so
    d_dlsymun=undef
    ccdlflags='-Wl,-E'
    cccdlflags='-fPIC'
    lddlflags='-shared -O2 -g -L/usr/local/lib -fstack-protector-strong'


Characteristics of this binary (from libperl): 
  Compile-time options:
    HAS_LONG_DOUBLE
    HAS_STRTOLD
    HAS_TIMES
    PERLIO_LAYERS
    PERL_COPY_ON_WRITE
    PERL_DONT_CREATE_GVSV
    PERL_HASH_FUNC_SIPHASH13
    PERL_HASH_USE_SBOX32
    PERL_MALLOC_WRAP
    PERL_OP_PARENT
    PERL_PRESERVE_IVUV
    PERL_USE_DEVEL
    PERL_USE_SAFE_PUTENV
    USE_64_BIT_ALL
    USE_64_BIT_INT
    USE_LARGE_FILES
    USE_LOCALE
    USE_LOCALE_COLLATE
    USE_LOCALE_CTYPE
    USE_LOCALE_NUMERIC
    USE_LOCALE_TIME
    USE_LONG_DOUBLE
    USE_PERLIO
    USE_PERL_ATOF
  Built under linux
  Compiled at Jul 31 2023 03:13:07
  %ENV:
    PERL="/tmp/basesmoker-reloperl-bSGj/bin/perl"
    PERL5LIB="/tmp/loop_over_bdir-4082253-Q7ZWh_/FusionInventory-Agent-2.6-0/blib/arch:/tmp/loop_over_bdir-4082253-Q7ZWh_/FusionInventory-Agent-2.6-0/blib/lib"
    PERL5OPT=""
    PERL5_CPANPLUS_IS_RUNNING="4082261"
    PERL5_CPAN_IS_RUNNING="4082261"
    PERL_CANARY_STABILITY_NOPROMPT="1"
    PERL_MM_USE_DEFAULT="1"
    PERL_USE_UNSAFE_INC="1"
  @INC:
    /tmp/loop_over_bdir-4082253-Q7ZWh_/FusionInventory-Agent-2.6-0/blib/arch
    /tmp/loop_over_bdir-4082253-Q7ZWh_/FusionInventory-Agent-2.6-0/blib/lib
    /home/sand/src/perl/repoperls/installed-perls/host/k93jammy/v5.39.1/5674/lib/site_perl/5.39.1/x86_64-linux-ld
    /home/sand/src/perl/repoperls/installed-perls/host/k93jammy/v5.39.1/5674/lib/site_perl/5.39.1
    /home/sand/src/perl/repoperls/installed-perls/host/k93jammy/v5.39.1/5674/lib/5.39.1/x86_64-linux-ld
    /home/sand/src/perl/repoperls/installed-perls/host/k93jammy/v5.39.1/5674/lib/5.39.1
    .