Back
From: Andy Armstrong
Subject: PASS Integer-Tiny-0.3 v5.12.2 Mac OS X
Date: 2010-09-20T07:34:01Z
This distribution has been tested as part of the CPAN Testers
project, supporting the Perl programming language. See
http://wiki.cpantesters.org/ for more information or email
questions to cpan-testers-discuss@perl.org
--
Dear Pawel (bbkr) Pabian,
This is a computer-generated report for Integer-Tiny-0.3
on perl 5.12.2, created by CPAN-Reporter-1.1801.
Thank you for uploading your work to CPAN. Congratulations!
All tests were successful.
Sections of this report:
* Tester comments
* Program output
* Prerequisites
* Environment and other context
------------------------------
TESTER COMMENTS
------------------------------
Additional comments from tester:
none provided
------------------------------
PROGRAM OUTPUT
------------------------------
Output from '/usr/bin/make test':
PERL_DL_NONLAZY=1 /alt/local/bin/perl "-MExtUtils::Command::MM" "-e" "test_harness(0, 'blib/lib', 'blib/arch')" t/*.t
# Testing Integer::Tiny 0.3, Perl 5.012002, /alt/local/bin/perl
t/00-load.t ....... ok
t/boilerplate.t ... ok
t/pod-coverage.t .. skipped: Test::Pod::Coverage 1.08 required for testing POD coverage
t/pod.t ........... ok
t/tiny.t .......... ok
All tests successful.
Test Summary Report
-------------------
t/boilerplate.t (Wstat: 0 Tests: 3 Failed: 0)
TODO passed: 2-3
Files=5, Tests=28, 1 wallclock secs ( 0.04 usr 0.02 sys + 0.46 cusr 0.05 csys = 0.57 CPU)
Result: PASS
------------------------------
PREREQUISITES
------------------------------
Prerequisite modules loaded:
requires:
Module Need Have
--------------- ---- -------
Math::BigInt 0 1.89_01
Test::Exception 0 0.29
Test::More 0 0.96
------------------------------
ENVIRONMENT AND OTHER CONTEXT
------------------------------
Environment variables:
LANG = en_GB.UTF-8
LC_CTYPE = en_US.UTF-8
PATH = /usr/local/flexsdk/bin:/Users/andy/bin/Darwin:/Users/andy/bin/local:/Users/andy/bin:/alt/local/bin:/opt/local/bin:/opt/local/lib/postgresql90/bin:/usr/local/apache2/bin:/usr/local/apache2/php/bin:/usr/local/bin:/usr/bin:/bin:/usr/sbin:/sbin:/usr/X11/bin:/Developer/usr/bin
PERL5LIB =
PERL5OPT =
PERL5_CPANPLUS_IS_RUNNING = 9047
PERL5_CPAN_IS_RUNNING = 9047
SHELL = /bin/bash
TERM = xterm-color
TMPDIR = /var/folders/Sc/ScUm9aQIGbSyvHg2MoClfk+++TI/-Tmp-/
Perl special variables (and OS-specific diagnostics, for MSWin32):
$^X = /alt/local/bin/perl
$UID/$EUID = 501 / 501
$GID = 20 20 102 101 204 100 98 81 80 79 66 61 12
$EGID = 20 20 102 101 204 100 98 81 80 79 66 61 12
Perl module toolchain versions installed:
Module Have
------------------- -------
CPAN 1.94_56
Cwd 3.31
ExtUtils::CBuilder 0.2703
ExtUtils::Command 1.16
ExtUtils::Install 1.55
ExtUtils::MakeMaker 6.56
ExtUtils::Manifest 1.58
ExtUtils::ParseXS 2.2206
File::Spec 3.31_01
Module::Build 0.3607
Module::Signature 0.66
Test::Harness 3.22
Test::More 0.96
YAML 0.72
YAML::Syck 1.14
version 0.82
--
Summary of my perl5 (revision 5 version 12 subversion 2) configuration:
Platform:
osname=darwin, osvers=10.4.0, archname=darwin-thread-multi-2level
uname='darwin voodoo 10.4.0 darwin kernel version 10.4.0: fri apr 23 18:28:53 pdt 2010; root:xnu-1504.7.4~1release_i386 i386 '
config_args='-de -Dusedevel -Dinc_version_list=none -Dprefix=/alt/local -Dldflags=-Dman3ext=3pm -Duseithreads -Duseshrplib -Uversiononly -Dusedtrace'
hint=recommended, useposix=true, d_sigaction=define
useithreads=define, usemultiplicity=define
useperlio=define, d_sfio=undef, uselargefiles=define, usesocks=undef
use64bitint=define, use64bitall=define, uselongdouble=undef
usemymalloc=n, bincompat5005=undef
Compiler:
cc='cc', ccflags ='-fno-common -DPERL_DARWIN -no-cpp-precomp -fno-strict-aliasing -pipe -fstack-protector -I/usr/local/include -I/opt/local/include',
optimize='-O3',
cppflags='-no-cpp-precomp -fno-common -DPERL_DARWIN -no-cpp-precomp -fno-strict-aliasing -pipe -fstack-protector -I/usr/local/include -I/opt/local/include'
ccversion='', gccversion='4.2.1 (Apple Inc. build 5659)', gccosandvers=''
intsize=4, longsize=8, ptrsize=8, doublesize=8, byteorder=12345678
d_longlong=define, longlongsize=8, d_longdbl=define, longdblsize=16
ivtype='long', ivsize=8, nvtype='double', nvsize=8, Off_t='off_t', lseeksize=8
alignbytes=8, prototype=define
Linker and Libraries:
ld='env MACOSX_DEPLOYMENT_TARGET=10.3 cc', ldflags ='-Dman3ext=3pm -fstack-protector -L/usr/local/lib -L/opt/local/lib'
libpth=/usr/local/lib /opt/local/lib /usr/lib
libs=-lgdbm -ldbm -ldl -lm -lutil -lc
perllibs=-ldl -lm -lutil -lc
libc=/usr/lib/libc.dylib, so=dylib, useshrplib=true, libperl=libperl.dylib
gnulibc_version=''
Dynamic Linking:
dlsrc=dl_dlopen.xs, dlext=bundle, d_dlsymun=undef, ccdlflags=' '
cccdlflags=' ', lddlflags='-Dman3ext=3pm -bundle -undefined dynamic_lookup -L/usr/local/lib -L/opt/local/lib -fstack-protector'
Characteristics of this binary (from libperl):
Compile-time options: MULTIPLICITY PERL_DONT_CREATE_GVSV
PERL_IMPLICIT_CONTEXT PERL_MALLOC_WRAP PERL_USE_DEVEL
USE_64_BIT_ALL USE_64_BIT_INT USE_ITHREADS
USE_LARGE_FILES USE_PERLIO USE_PERL_ATOF
USE_REENTRANT_API
Built under darwin
Compiled at Sep 19 2010 15:23:58
%ENV:
PERL5LIB=""
PERL5OPT=""
PERL5_CPANPLUS_IS_RUNNING="9047"
PERL5_CPAN_IS_RUNNING="9047"
@INC:
/alt/local/lib/perl5/site_perl/5.12.2/darwin-thread-multi-2level
/alt/local/lib/perl5/site_perl/5.12.2
/alt/local/lib/perl5/5.12.2/darwin-thread-multi-2level
/alt/local/lib/perl5/5.12.2
.